BEGIN:VCALENDAR
VERSION:2.0
PRODID:-//FEBRAPSI - ECPv6.15.20//NONSGML v1.0//EN
CALSCALE:GREGORIAN
METHOD:PUBLISH
X-ORIGINAL-URL:https://febrapsi.org
X-WR-CALDESC:Eventos para FEBRAPSI
REFRESH-INTERVAL;VALUE=DURATION:PT1H
X-Robots-Tag:noindex
X-PUBLISHED-TTL:PT1H
BEGIN:VTIMEZONE
TZID:America/Sao_Paulo
BEGIN:STANDARD
TZOFFSETFROM:-0300
TZOFFSETTO:-0300
TZNAME:-03
DTSTART:20220101T000000
END:STANDARD
END:VTIMEZONE
BEGIN:VEVENT
DTSTART;TZID=America/Sao_Paulo:20231013T103000
DTEND;TZID=America/Sao_Paulo:20231208T120000
DTSTAMP:20260424T062344
CREATED:20230918T192814Z
LAST-MODIFIED:20230918T192814Z
UID:47695-1697193000-1702036800@febrapsi.org
SUMMARY:Curso Os Primórdios da Psicossomática na Obra de Freud - Módulo 3 (2023)
DESCRIPTION:Curso “Os Primórdios da Psicossomática na Obra de Freud” – Módulo 3 (2023) \nCurso para profissionais psicanalistas e psicanalistas em formação  \nHaverá tradução simultânea  \nAs aulas não serão gravadas \nDatas: 13/10\, 10/11 e 08/12 | 10h30 – 12h (sextas-feiras) | via Zoom  \nMinistrado por Claude Smadja\, psicanalista\, membro titular\, formador da Sociedade de Psicanálise de Paris. Ex-médico chefe do Instituto de Psicossomática de Paris. Fundador e ex-presidente da Associação Internacional de Psicossomática Pierre Marty. Co-fundador da Revista Francesa de Psicossomática. Autor dos livros: A vida operatória e Os modelos psicanalíticos da psicossomática. Centenas de artigos de Psicossomática Psicanalítica publicados. \nEmenta: \nA Teoria da Escola de Psicossomática de Paris é de grande valia para nós\, psicanalistas da atualidade\, que\, com frequência\, fazemos atendimentos onde há uma neurose e ao mesmo tempo uma doença orgânica ou sintomas orgânicos e\, também\, cada vez mais atendemos pacientes da tão falada Clínica do Vazio. Toda uma teoria\, construída a partir da metapsicologia freudiana\, utilizando o conceito de neurose atual de Freud\, o aparelho psíquico dividido em instâncias\, a última concepção de trauma\, a segunda teoria das pulsões e\, também\, a última concepção do masoquismo\, de 1924\, com as noções de intrincação e desintrincação pulsional. A partir daí\, surgem os conceitos de mentalização\, pensamento operatório\, depressão essencial e desorganização progressiva\, entre tantos outros. \nDuas vagas gratuitas para profissionais psicanalistas e psicanalistas em formação: negros\, indígenas e refugiados. Inscrições pelo e-mail: sbprj@sbprj.org.br \nINSCRIÇÕES \nMais informações: sbprj@sbprj.org.br \nRealização:  \nAssociação Internacional de Psicossomática Pierre Marty (AIPPM) \nIPSO-Brasil \nCentro de Estudos Psicanalíticos SBPRJ \nPolítica do evento
URL:https://febrapsi.org/evento/curso-os-primordios-da-psicossomatica-na-obra-de-freud-modulo-3-2023/
LOCATION:São Paulo
CATEGORIES:Geral
ATTACH;FMTTYPE=image/png:https://febrapsi.org/storage/2023/09/Smadja_mod3-1.png
ORGANIZER;CN="SBPRJ":MAILTO:sbprj@sbprj.org.br
END:VEVENT
BEGIN:VEVENT
DTSTART;TZID=America/Sao_Paulo:20231021T090000
DTEND;TZID=America/Sao_Paulo:20231021T120000
DTSTAMP:20260424T062344
CREATED:20230517T184857Z
LAST-MODIFIED:20230517T184857Z
UID:46027-1697878800-1697889600@febrapsi.org
SUMMARY:EGO E O ID EM SUA TRAJETÓRIA: DE FREUD À CONTEMPORANEIDADE
DESCRIPTION:ABERTURA:\nCARMEN C. MION . Presidente da SBPSP\nGLAUCIA MARIA FERREIRA FURTADO . Diretora Regional da SBPSP \nPALESTRANTES:\nCIBELE BRANDÃO . SBPSP e GEPMarília e Região\nJOSÉ MARTINS CANELAS NETO . Membro Efetivo e Didata da SBPSP\nROOSEVELT CASSORLA . SBPSP e SBPCamp\nCoordenação:\nMARCY MOTTA CARMONA GERBELLI . Membro Filiado da SBPSP \nINVESTIMENTO:\nMembros SBPSP\, Febrapsi\, Fepal e IPA: Sem ônus\nPúblico Externo: R$80\,00\n5 cotas para profissionais negros\, indígenas e refugiados. \ninscreva-se: www.sbpsp.org.br | adele.lacotis@sbpsp.org.br
URL:https://febrapsi.org/evento/ego-e-o-id-em-sua-trajetoria-de-freud-a-contemporaneidade/
LOCATION:Evento híbrido
CATEGORIES:Geral
ATTACH;FMTTYPE=image/png:https://febrapsi.org/storage/2023/05/CARTAZ_O_EGO_ID.png
ORGANIZER;CN="SBPSP":MAILTO:contato@sbpsp.org.br
END:VEVENT
BEGIN:VEVENT
DTSTART;TZID=America/Sao_Paulo:20231021T090000
DTEND;TZID=America/Sao_Paulo:20231021T120000
DTSTAMP:20260424T062344
CREATED:20230927T132952Z
LAST-MODIFIED:20230927T132952Z
UID:47791-1697878800-1697889600@febrapsi.org
SUMMARY:Analista e a Clínica de Adolescentes
DESCRIPTION:Priorizando a relação entre analista e analisando\, a Diretoria do Instituto organiza o evento o Analista e a Clínica de Adolescentes.  \nO evento acontecerá no dia 21 de Outubro\, das 9h às 12h no formato on-line pela plataforma Zoom \nContaremos com a presença de Anette Blaya Luz- Psiquiatra\, Psicanalista pela SPPA\, Analista Didata\, Presidente da FEBRAPSI de 2017-2019\, Membro do BOARD da IPA de 2019-2023 e atual Co-Chair do ING da IPA e Paulo Ribeiro- Médico e psicanalista\, Membro Efetivo da SBPSP e da SBPRP\, Analista com Funções Didáticas da SBPRP. \nInscrições abertas pelo site da SBPRP: \nValor para membro filiado e estudante: 50\,00\nValor para membros efetivos e associados da SBPRP ou outra federada da FEBRAPSI: 90\,00\nValor para profissionais: 120\,00\nPRETOS\, PARDOS E INDÍGENAS: GRATUITO (5 VAGAS) \nGaranta já a sua vaga!  \nVagas limitadas! \n  \n 
URL:https://febrapsi.org/evento/analista-e-a-clinica-de-adolescentes/
LOCATION:Evento Online
CATEGORIES:Geral
ATTACH;FMTTYPE=image/jpeg:https://febrapsi.org/storage/2023/09/570x727-14.jpg
ORGANIZER;CN="SBPRP":MAILTO:sbprp.secretaria@gmail.com
END:VEVENT
BEGIN:VEVENT
DTSTART;TZID=America/Sao_Paulo:20231021T093000
DTEND;TZID=America/Sao_Paulo:20231021T110000
DTSTAMP:20260424T062344
CREATED:20230909T184703Z
LAST-MODIFIED:20230909T184703Z
UID:47567-1697880600-1697886000@febrapsi.org
SUMMARY:Conferência Internacional - Clínica da Infância
DESCRIPTION:Conferência Internacional – Clínica da Infância \nDia: 21 de outubro 2023 \nHorário: 9h30
URL:https://febrapsi.org/evento/conferencia-internacional-clinica-da-infancia/
LOCATION:Evento Online
CATEGORIES:Geral
ATTACH;FMTTYPE=image/jpeg:https://febrapsi.org/storage/2023/09/21-10-2023.1.jpeg
ORGANIZER;CN="SPRJ":MAILTO:sprj.rio1@sprj.org.br
END:VEVENT
BEGIN:VEVENT
DTSTART;TZID=America/Sao_Paulo:20231021T160000
DTEND;TZID=America/Sao_Paulo:20231021T190000
DTSTAMP:20260424T062344
CREATED:20231016T231554Z
LAST-MODIFIED:20231016T231554Z
UID:47936-1697904000-1697914800@febrapsi.org
SUMMARY:A DINÂMICA DENTRO / FORA: POÉTICA E POLÍTICA EM MELANIE KLEIN NA PERSPECTIVA DE JULIA KRISTEVA
DESCRIPTION:PSICANÁLISE CONTEMPORÂNEA COMO ARTE DE PENSAR ENTRE-DOIS. \nNeste semestre\, continuaremos a refletir sobre as relações entre as ideias de Winnicott e de autores a ele relacionados\, consagrados no campo da psicanálise. Comparando criticamente as perspectivas de alguns psicanalistas contemporâneos\, pretendemos contribuir para a afirmação da “psicanálise como arte de pensar entre-dois”. \nPalestrantes: Elias Mallet da Rocha Barros (SBPSP) e Elizabeth Lima da Rocha Barros (SBPSP). \nCoordenação: Tania Mara Zalcberg (SBPSP) e Norma Lottenberg Semer (SBPSP) \nInvestimento:\nMembros SBPSP\, Febrapsi\, IPA\, Fepal e Estudantes de graduação: Sem ônus\nProfissionais: R$ 60\,00 \n5 Cotas para profissionais negros\, indígenas e refugiados.\nInscrições pelo site: www.sbpsp.org.br\nInformações: fabiana@sbpsp.org.br
URL:https://febrapsi.org/evento/a-dinamica-dentro-fora-poetica-e-politica-em-melanie-klein-na-perspectiva-de-julia-kristeva/
LOCATION:Online – Plataforma Zoom
CATEGORIES:Geral
ATTACH;FMTTYPE=image/png:https://febrapsi.org/storage/2023/10/DCC_21_OUT_23.png
ORGANIZER;CN="SBPSP":MAILTO:contato@sbpsp.org.br
END:VEVENT
END:VCALENDAR