BEGIN:VCALENDAR
VERSION:2.0
PRODID:-//FEBRAPSI - ECPv6.15.20//NONSGML v1.0//EN
CALSCALE:GREGORIAN
METHOD:PUBLISH
X-ORIGINAL-URL:https://febrapsi.org
X-WR-CALDESC:Eventos para FEBRAPSI
REFRESH-INTERVAL;VALUE=DURATION:PT1H
X-Robots-Tag:noindex
X-PUBLISHED-TTL:PT1H
BEGIN:VTIMEZONE
TZID:America/Sao_Paulo
BEGIN:STANDARD
TZOFFSETFROM:-0300
TZOFFSETTO:-0300
TZNAME:-03
DTSTART:20220101T000000
END:STANDARD
END:VTIMEZONE
BEGIN:VEVENT
DTSTART;TZID=America/Sao_Paulo:20231010T193000
DTEND;TZID=America/Sao_Paulo:20231010T210000
DTSTAMP:20260424T062405
CREATED:20230913T191631Z
LAST-MODIFIED:20230913T191631Z
UID:47644-1696966200-1696971600@febrapsi.org
SUMMARY:Café Literário da Psicanalítica - Os miseráveis\, de Victor Hugo
DESCRIPTION:Os miseráveis\, de Victor Hugo\, será o tema do Café Literário da Psicanalítica do dia 10 de outubro (terça-feira)\, às 19h30\, na plataforma Zoom/SPPA. \nA conversa será entre Beatriz Gil (Professora de Literatura Francesa-UFRGS) e\nMaria Lucrécia Scherer Zavaschi (Psicanalista da SPPA)\, com a coordenação da Psicanalista Maria Regina Limeira Ortiz. \nInscrições antecipadas:\nhttps://us06web.zoom.us/webinar/register/WN_qme2z5RZT5G7oN6BOc-pVA \nAtividade aberta e gratuita. \n 
URL:https://febrapsi.org/evento/cafe-literario-da-psicanalitica-os-miseraveis-de-victor-hugo/
LOCATION:Online – Plataforma Zoom
CATEGORIES:Geral
ATTACH;FMTTYPE=image/jpeg:https://febrapsi.org/storage/2023/09/Imagem-do-WhatsApp-de-2023-09-12-as-11.45.09.jpg
ORGANIZER;CN="SPPA":MAILTO:sppa@sppa.org.br
END:VEVENT
BEGIN:VEVENT
DTSTART;TZID=America/Sao_Paulo:20231010T200000
DTEND;TZID=America/Sao_Paulo:20231010T200000
DTSTAMP:20260424T062405
CREATED:20230927T132952Z
LAST-MODIFIED:20230927T132952Z
UID:47785-1696968000-1696968000@febrapsi.org
SUMMARY:Terças na Sociedade - O EGO E O ID 100 ANOS depois.
DESCRIPTION:Terças na Sociedade  \nDia 10 de outubro\, às 20h\, “Terças na Sociedade – Semeando a Psicanálise” de 2023! O tema dessa edição será “O EGO E O ID 100 ANOS DEPOIS.” e quem comandará a discussão será Maria Ap. Garcia Galiote Brossi Pelissari. \nO evento será gratuito! Presencial (sede da SBPRP) e on-line (Zoom). \nVagas limitadas! \n \n 
URL:https://febrapsi.org/evento/tercas-na-sociedade-o-ego-e-o-id-100-anos-depois/
LOCATION:Evento híbrido
CATEGORIES:Geral
ATTACH;FMTTYPE=image/jpeg:https://febrapsi.org/storage/2023/09/cartaz-OUT.jpg
ORGANIZER;CN="SBPRP":MAILTO:sbprp.secretaria@gmail.com
END:VEVENT
END:VCALENDAR