BEGIN:VCALENDAR
VERSION:2.0
PRODID:-//FEBRAPSI - ECPv6.15.20//NONSGML v1.0//EN
CALSCALE:GREGORIAN
METHOD:PUBLISH
X-ORIGINAL-URL:https://febrapsi.org
X-WR-CALDESC:Eventos para FEBRAPSI
REFRESH-INTERVAL;VALUE=DURATION:PT1H
X-Robots-Tag:noindex
X-PUBLISHED-TTL:PT1H
BEGIN:VTIMEZONE
TZID:America/Sao_Paulo
BEGIN:STANDARD
TZOFFSETFROM:-0300
TZOFFSETTO:-0300
TZNAME:-03
DTSTART:20220101T000000
END:STANDARD
END:VTIMEZONE
BEGIN:VEVENT
DTSTART;TZID=America/Sao_Paulo:20231007T090000
DTEND;TZID=America/Sao_Paulo:20231007T120000
DTSTAMP:20260424T062344
CREATED:20230927T132952Z
LAST-MODIFIED:20230927T132952Z
UID:47781-1696669200-1696680000@febrapsi.org
SUMMARY:Intersubjetividades: o enfant terrible e o analista selvagem: o encontro entre Ferenczi e Groddeck
DESCRIPTION:A Diretoria Científica da SBPRP anuncia a abertura das inscrições para o evento “Intersubjetividades: o enfant terrible e o analista selvagem: o encontro entre Ferenczi e Groddeck”.\n \nNosso convidado é Dr. Lazslo Antonio Ávila\, Psicólogo\, grupoanalista\, mestre e doutor pela USP\, pós-doutorado pela University of Cambridge. Professor Livre Docente da FAMERP.\nDr. Lazlo abordará a relação entre Ferenzi e Groddeck\, assim como apresentará a importância desses autores para a psicanálise. \nEvento imperdível para a compreensão da história da psicanálise e os desdobromentos que esses autores trouxeram para entender a psicanálise contemporânea.\n \nEvento híbrido\, com limitações para quem deseja participar presencialmente na Sociedade Brasileira de Psicanálise de Ribeirão Preto.\n \nDia 07 de outubro de 2023\nDas 9h às 12h\n \nValores:\nMembros filiados Febrapsi e estudante: 70\,00 reais\nMembros associados e efetivos Febrapsi: 100\,00 reais\nProfissionais: 120\,00 reais \n5 vagas presenciais e 10 vagas online gratuitas para negros e indígenas. \nVagas limitadas! \n 
URL:https://febrapsi.org/evento/intersubjetividades-o-enfant-terrible-e-o-analista-selvagem-o-encontro-entre-ferenczi-e-groddeck/
LOCATION:Evento híbrido
CATEGORIES:Geral
ATTACH;FMTTYPE=image/jpeg:https://febrapsi.org/storage/2023/09/570x727-12.jpg
ORGANIZER;CN="SBPRP":MAILTO:sbprp.secretaria@gmail.com
END:VEVENT
BEGIN:VEVENT
DTSTART;TZID=America/Sao_Paulo:20231007T090000
DTEND;TZID=America/Sao_Paulo:20231007T130000
DTSTAMP:20260424T062344
CREATED:20230824T124836Z
LAST-MODIFIED:20230824T124836Z
UID:46852-1696669200-1696683600@febrapsi.org
SUMMARY:Atividade comemorativa: 30 anos da Revista de Psicanálise da SPPA – Perspectivas e desafios na escrita e publicação psicanalítica
DESCRIPTION:Atividade comemorativa: 30 anos da Revista de Psicanálise da SPPA – Perspectivas e desafios na escrita e publicação psicanalítica\, dia 07 de outubro 2023 (sábado)\, das 9h às 13h\, no Auditório SPPA e na Plataforma Zoom/SPPA. \nProgramação:\n9h – Abertura\nAna Cristina Pandolfo (Editora chefe) \n9h10 – Mesa 1: 30 anos da Revista: História e Identidade\nConvidados:\nMauro Gus (Psicanalista SPPA)\nRenato Moraes Lucas (Psicanalista SPPA)\nCoordenação:\nAnette Blaya Luz (Psicanalista SPPA) \n9h45 – Mesa 2: Perspectivas e desafios na escrita e publicação psicanalítica\nConvidados:\nJuarez Guedes Cruz (Psicanalista SPPA)\nRenato Mezan (Psicanalista\, Membro do Departamento de Psicanálise do Instituto Sedes Sapientiae e Professor Titular da PUC/SP)\nCoordenação:\nAna Cristina Pandolfo (Psicanalista SPPA) \n10h45: Coffee Break \n11h – Mesa 3: Conversando com Dr. Renato Mezan:  vicissitudes editoriais de revistas de psicanálise\nCoordenação:\nLucia Thaler (Psicanalista SPPA) \n12h Enceramento \nAlmoço por adesão \nInscrições Antecipadas:\nhttps://forms.gle/ib5VmnBEY1kpVRDg6 \nAtividade híbrida\, aberta e gratuita.
URL:https://febrapsi.org/evento/atividade-comemorativa-30-anos-da-revista-de-psicanalise-da-sppa-perspectivas-e-desafios-na-escrita-e-publicacao-psicanalitica/
LOCATION:Evento híbrido
CATEGORIES:Geral
ATTACH;FMTTYPE=image/jpeg:https://febrapsi.org/storage/2023/08/2023-10-07-1-Revista.jpg
ORGANIZER;CN="SPPA":MAILTO:sppa@sppa.org.br
END:VEVENT
BEGIN:VEVENT
DTSTART;TZID=America/Sao_Paulo:20231007T160000
DTEND;TZID=America/Sao_Paulo:20231007T190000
DTSTAMP:20260424T062344
CREATED:20230909T184702Z
LAST-MODIFIED:20230909T184702Z
UID:47480-1696694400-1696705200@febrapsi.org
SUMMARY:WINNICOTT E LAPLANCHE: AFASTAMENTOS E APROXIMAÇÕES
DESCRIPTION:PSICANÁLISE CONTEMPORÂNEA COMO ARTE DE PENSAR ENTRE-DOIS\nWINNICOTT E LAPLANCHE: AFASTAMENTOS E APROXIMAÇÕES\nPalestrante: José Moura Gonçalves Filho (IPUSP)\nApresentação e Coordenação: Raquel Pires (SBPSP) e Mirian Malzyner (SBPSP) \n\nInvestimento:\nMembros SBPSP\, Febrapsi\, IPA\, Fepal e Estudantes de graduação: Sem ônus\nProfissionais: R$ 60\,00 \n5 Cotas para profissionais negros\, indígenas e refugiados.\nInscrições pelo site: www.sbpsp.org.br\nInformações: fabiana@sbpsp.org.br \n  \nDIRETORIA DE CULTURA E COMUNIDADE – DCC / SBPSP\nDiretor: João Frayze-Pereira \nAssistente da Direção: Lila Schwartz\nCoordenação das reuniões: Lila Schwartz\, Marlene Rozenberg\, Marisa Granchelli\, \nMirian Malzyner\, Norma Lottenberg Semer\, Raquel Pires e Tania Zalcberg\nApoio do CDM: Regina Gianesi e Yone Castello\nCiclo “Cinema e Psicanálise”: Luciana Saddi \n 
URL:https://febrapsi.org/evento/winnicott-e-laplanche-afastamentos-e-aproximacoes/
LOCATION:Online – Plataforma Zoom
CATEGORIES:Geral
ATTACH;FMTTYPE=image/png:https://febrapsi.org/storage/2023/09/DCC_OUT_23-scaled.png
ORGANIZER;CN="SBPSP":MAILTO:contato@sbpsp.org.br
END:VEVENT
END:VCALENDAR