BEGIN:VCALENDAR
VERSION:2.0
PRODID:-//FEBRAPSI - ECPv6.15.20//NONSGML v1.0//EN
CALSCALE:GREGORIAN
METHOD:PUBLISH
X-ORIGINAL-URL:https://febrapsi.org
X-WR-CALDESC:Eventos para FEBRAPSI
REFRESH-INTERVAL;VALUE=DURATION:PT1H
X-Robots-Tag:noindex
X-PUBLISHED-TTL:PT1H
BEGIN:VTIMEZONE
TZID:America/Sao_Paulo
BEGIN:STANDARD
TZOFFSETFROM:-0300
TZOFFSETTO:-0300
TZNAME:-03
DTSTART:20220101T000000
END:STANDARD
END:VTIMEZONE
BEGIN:VEVENT
DTSTART;TZID=America/Sao_Paulo:20231003T200000
DTEND;TZID=America/Sao_Paulo:20231003T213000
DTSTAMP:20260424T062426
CREATED:20230909T184702Z
LAST-MODIFIED:20230909T184702Z
UID:47524-1696363200-1696368600@febrapsi.org
SUMMARY:Reunião Mensal da Diretoria da Infância e Adolescência" Adolescência: Manifestações do transgeracional: na psicanálise e na vida escolar"
DESCRIPTION:Convidamos para a Reunião Mensal da Diretoria da Infância e Adolescência” Adolescência: Manifestações do transgeracional: na psicanálise e na vida escolar“\, dia 03 de outubro\, às 20h\, no Auditório da SPPA e na Plataforma Zoom/SPPA. \nConvidadas:\nMarcia Schivitz (Orientadora Educacional)\nGisha Brodacz (Psicanalista SPPA) \nCoordenação:\nKatia Wagner Radke (Diretora da área da Infância e Adolescência da SPPA) \nInscrições Antecipadas:\nhttps://forms.gle/dYCJ8TS5pLcMn3E66 \nAtividade aberta e gratuita \nAtenciosamente\,\nMaria Cristina Garcia Vasconcellos – Presidente da SPPA\nKatia Wagner Radke – Diretora da área da Infância e Adolescência da SPPA
URL:https://febrapsi.org/evento/reuniao-mensal-da-diretoria-da-infancia-e-adolescencia-adolescencia-manifestacoes-do-transgeracional-na-psicanalise-e-na-vida-escolar/
LOCATION:Evento híbrido
CATEGORIES:Geral
ATTACH;FMTTYPE=image/jpeg:https://febrapsi.org/storage/2023/09/2023-10-03-01-DIA.jpg
ORGANIZER;CN="SPPA":MAILTO:sppa@sppa.org.br
END:VEVENT
END:VCALENDAR