BEGIN:VCALENDAR
VERSION:2.0
PRODID:-//FEBRAPSI - ECPv6.15.20//NONSGML v1.0//EN
CALSCALE:GREGORIAN
METHOD:PUBLISH
X-WR-CALNAME:FEBRAPSI
X-ORIGINAL-URL:https://febrapsi.org
X-WR-CALDESC:Eventos para FEBRAPSI
REFRESH-INTERVAL;VALUE=DURATION:PT1H
X-Robots-Tag:noindex
X-PUBLISHED-TTL:PT1H
BEGIN:VTIMEZONE
TZID:America/Sao_Paulo
BEGIN:STANDARD
TZOFFSETFROM:-0300
TZOFFSETTO:-0300
TZNAME:-03
DTSTART:20220101T000000
END:STANDARD
END:VTIMEZONE
BEGIN:VEVENT
DTSTART;VALUE=DATE:20230929
DTEND;VALUE=DATE:20231001
DTSTAMP:20260424T081219
CREATED:20230811T135023Z
LAST-MODIFIED:20230814T202531Z
UID:46770-1695945600-1696118399@febrapsi.org
SUMMARY:VII JORNADA DE PSICANÁLISE DA SOCIEDADE PSICANALÍTICA DE FORTALEZA – SPFOR
DESCRIPTION: \nDIVERSIDADE NO MUNDO E NA CLÍNICA PSICANALÍTICA\n29 e 30 de setembro de 2023 – Hotel Mareiro Beira Mar – Fortaleza-CE\n\nDiversidade no mundo e na clínica psicanalítica \n\n“Se cada ser é só um\nE cada um com sua crença\nTudo é raro\, nada é comum\nDiversidade é a sentença […]\nSe cada cabeça é um mundo\nCada um é muito mais.”\n(Diversidade\, Lenine) \nA VII Jornada de Psicanálise da Sociedade Psicanalítica de Fortaleza – SPFOR acontecerá nos dias 29 e 30 de setembro de 2023\, presencialmente\, no Hotel Mareiro\, na ensolarada Beira-mar de Fortaleza. \nO tema deste ano está em sintonia com um de nossos grandes desafios atuais: a diversidade no mundo e na clínica psicanalítica. O que a psicanálise tem a nos dizer? Por quais ângulos os psicanalistas dialogam com o tema da diversidade? Os temas das mesas foram pensados com o propósito de ampliar as trocas\, instigar debates e reflexões à luz da teoria psicanalítica. \nNa sexta-feira\, dia 29/09\, as mesas abordarão as seguintes ideias: “Adversidade e diversidade”\, “Riqueza cultural e desigualdade social”\, “Diversidade na clínica psicanalítica”\, e “Projeto SOS Brasil e a expansão de fronteiras em psicanálise”. Contaremos também com um exercício clínico durante a nossa tarde. \nNo sábado\, dia 30/09\, iniciaremos as nossas atividades com uma mesa sobre “Tornar-se analista”\, para logo em seguida pensarmos sobre “Mitos: do privado ao público”. Por fim\, concluiremos nossa Jornada com reflexões sobre “O processo criativo na arte e na clínica psicanalítica”. \nAguardamos sua presença! \n*Agradecemos ao artista Wilson Neto pela a autorização de uso da imagem de seu trabalho: “Essa turma toda aí” para a composição da identidade visual de nossa jornada.
URL:https://febrapsi.org/evento/vii-jornada-de-psicanalise-da-sociedade-psicanalitica-de-fortaleza-spfor/
LOCATION:Hotel Mareiro – Fortaleza Ceara\, Av. Beira Mar 2380\, Fortaleza\, Ceara\, 60.165-120\, Brasil
CATEGORIES:Geral
ATTACH;FMTTYPE=image/jpeg:https://febrapsi.org/storage/2023/08/jornada.jpeg
ORGANIZER;CN="SPFOR":MAILTO:psicanalisefortaleza@gmail.com
END:VEVENT
BEGIN:VEVENT
DTSTART;TZID=America/Sao_Paulo:20230914T110000
DTEND;TZID=America/Sao_Paulo:20230914T120000
DTSTAMP:20260424T081219
CREATED:20230717T193530Z
LAST-MODIFIED:20230717T193530Z
UID:46573-1694689200-1694692800@febrapsi.org
SUMMARY:CICLO DE ESTUDOS ONLINE: “ADOLESCÊNCIAS – um entrelaçamento entre a psicanálise e a cultura”
DESCRIPTION:CICLO DE ESTUDOS ONLINE SOBRE TEORIA PSICANALÍTICA 2023\nDestinado a acadêmicos e profissionais de medicina e psicologia\n“ADOLESCÊNCIAS – um entrelaçamento entre a psicanálise e a cultura” \nCoordenadora:\nMery Pomerancblum Wolff (Psicanalista da SPPA)\nObjetivo – nosso objetivo é\, a partir dos conhecimentos psicanalíticos\, conhecer essa importante fase de desenvolvimento e entende-la como um processo com suas vicissitudes como tal mas procurando articular suas especificidades com o social e a cultura. \nInício: 14 de setembro de 2023\nquintas-feiras\, das 11h às 12h \nInscrições Antecipadas:\nhttps://forms.gle/8HZeRjeB3u15ThPu7 \nInvestimento Total\nEstudantes de Graduação: R$ 180\,00\nProfissionais: R$ 250\,00\nDuração de 9 encontros – frequência semanal\nPlataforma: Google Classroom\nVagas: 15 alunos por curso \n 
URL:https://febrapsi.org/evento/ciclo-de-estudos-online-adolescencias-um-entrelacamento-entre-a-psicanalise-e-a-cultura/
LOCATION:Evento Online
CATEGORIES:Geral
ATTACH;FMTTYPE=image/jpeg:https://febrapsi.org/storage/2023/07/2023-09-14-01.jpg
ORGANIZER;CN="SPPA":MAILTO:sppa@sppa.org.br
END:VEVENT
BEGIN:VEVENT
DTSTART;TZID=America/Sao_Paulo:20230914T203000
DTEND;TZID=America/Sao_Paulo:20230914T220000
DTSTAMP:20260424T081219
CREATED:20230909T184702Z
LAST-MODIFIED:20230909T184702Z
UID:47518-1694723400-1694728800@febrapsi.org
SUMMARY:SPPA 60 anos. Em pauta: o futuro. Atividade em parceria entre a Direção Científica e a Associação de Candidatos da SPPA
DESCRIPTION:SPPA 60 anos. Em pauta: o futuro. Atividade em parceria entre a Direção Científica e a Associação de Candidatos da SPPA\, dia 14 de setembro (quinta-feira)\, às 20h30\, no auditório da SPPA e na Plataforma Zoom/SPPA. \nConvidados\nMaria Lucrécia Scherer Zavaschi (Psicanalista ME e Analista Didata SPPA)\nDenise do Prado Bystronski (Psicanalista\, MA SPPA)\nLuciano Nogueira (Neurologista\, Membro em Formação\, Presidente da Associação de Candidatos SPPA) \nCoordenação\nCátia Olivier Mello (Diretora Científica SPPA) \nInscrições Antecipadas:\nhttps://forms.gle/P2vBgyYMDCdNbuoh8 \nAtividade aberta\, híbrida e gratuita
URL:https://febrapsi.org/evento/sppa-60-anos-em-pauta-o-futuro-atividade-em-parceria-entre-a-direcao-cientifica-e-a-associacao-de-candidatos-da-sppa/
LOCATION:Evento híbrido
CATEGORIES:Geral
ATTACH;FMTTYPE=image/jpeg:https://febrapsi.org/storage/2023/09/2023-09-14-01-60-anos-AC.jpg
ORGANIZER;CN="SPPA":MAILTO:sppa@sppa.org.br
END:VEVENT
END:VCALENDAR