BEGIN:VCALENDAR
VERSION:2.0
PRODID:-//FEBRAPSI - ECPv6.15.20//NONSGML v1.0//EN
CALSCALE:GREGORIAN
METHOD:PUBLISH
X-ORIGINAL-URL:https://febrapsi.org
X-WR-CALDESC:Eventos para FEBRAPSI
REFRESH-INTERVAL;VALUE=DURATION:PT1H
X-Robots-Tag:noindex
X-PUBLISHED-TTL:PT1H
BEGIN:VTIMEZONE
TZID:America/Sao_Paulo
BEGIN:STANDARD
TZOFFSETFROM:-0300
TZOFFSETTO:-0300
TZNAME:-03
DTSTART:20220101T000000
END:STANDARD
END:VTIMEZONE
BEGIN:VEVENT
DTSTART;VALUE=DATE:20230929
DTEND;VALUE=DATE:20231001
DTSTAMP:20260424T081638
CREATED:20230811T135023Z
LAST-MODIFIED:20230814T202531Z
UID:46770-1695945600-1696118399@febrapsi.org
SUMMARY:VII JORNADA DE PSICANÁLISE DA SOCIEDADE PSICANALÍTICA DE FORTALEZA – SPFOR
DESCRIPTION: \nDIVERSIDADE NO MUNDO E NA CLÍNICA PSICANALÍTICA\n29 e 30 de setembro de 2023 – Hotel Mareiro Beira Mar – Fortaleza-CE\n\nDiversidade no mundo e na clínica psicanalítica \n\n“Se cada ser é só um\nE cada um com sua crença\nTudo é raro\, nada é comum\nDiversidade é a sentença […]\nSe cada cabeça é um mundo\nCada um é muito mais.”\n(Diversidade\, Lenine) \nA VII Jornada de Psicanálise da Sociedade Psicanalítica de Fortaleza – SPFOR acontecerá nos dias 29 e 30 de setembro de 2023\, presencialmente\, no Hotel Mareiro\, na ensolarada Beira-mar de Fortaleza. \nO tema deste ano está em sintonia com um de nossos grandes desafios atuais: a diversidade no mundo e na clínica psicanalítica. O que a psicanálise tem a nos dizer? Por quais ângulos os psicanalistas dialogam com o tema da diversidade? Os temas das mesas foram pensados com o propósito de ampliar as trocas\, instigar debates e reflexões à luz da teoria psicanalítica. \nNa sexta-feira\, dia 29/09\, as mesas abordarão as seguintes ideias: “Adversidade e diversidade”\, “Riqueza cultural e desigualdade social”\, “Diversidade na clínica psicanalítica”\, e “Projeto SOS Brasil e a expansão de fronteiras em psicanálise”. Contaremos também com um exercício clínico durante a nossa tarde. \nNo sábado\, dia 30/09\, iniciaremos as nossas atividades com uma mesa sobre “Tornar-se analista”\, para logo em seguida pensarmos sobre “Mitos: do privado ao público”. Por fim\, concluiremos nossa Jornada com reflexões sobre “O processo criativo na arte e na clínica psicanalítica”. \nAguardamos sua presença! \n*Agradecemos ao artista Wilson Neto pela a autorização de uso da imagem de seu trabalho: “Essa turma toda aí” para a composição da identidade visual de nossa jornada.
URL:https://febrapsi.org/evento/vii-jornada-de-psicanalise-da-sociedade-psicanalitica-de-fortaleza-spfor/
LOCATION:Hotel Mareiro – Fortaleza Ceara\, Av. Beira Mar 2380\, Fortaleza\, Ceara\, 60.165-120\, Brasil
CATEGORIES:Geral
ATTACH;FMTTYPE=image/jpeg:https://febrapsi.org/storage/2023/08/jornada.jpeg
ORGANIZER;CN="SPFOR":MAILTO:psicanalisefortaleza@gmail.com
END:VEVENT
BEGIN:VEVENT
DTSTART;TZID=America/Sao_Paulo:20230913T203000
DTEND;TZID=America/Sao_Paulo:20230913T220000
DTSTAMP:20260424T081638
CREATED:20230824T124836Z
LAST-MODIFIED:20230824T124836Z
UID:46855-1694637000-1694642400@febrapsi.org
SUMMARY:SOS BRASIL ITINERANTE REGIÃO SUL
DESCRIPTION:Convidamos para a atividade online “SOS BRASIL ITINERANTE REGIÃO SUL”\, dia 13 de setembro (quarta-feira)\, às 20h30\, na Plataforma Zoom/SPPA. \nConvidadas:\nThalita Salomão\n(SPPel)\nEloá Bittencourt Nóbrega\n(Diretora de Comunidade e Cultura da FEBRAPSI)\nSusana Muszkat\n(SBPSP – apresentação do trabalho premiado na IPA)\nRaya Angel Zonana\n(SBPSP – apresentação do trabalho premiado na IPA) \nCoordenação:\nRossana Nicollielo Pinho\n(Grupo Gestor do S.O.S Brasil)\nAnne Pflüger\n(Coordenadora do Atelier de adolescentes do S.O.S Brasil) \nInscrições Antecipadas:\nhttps://us06web.zoom.us/webinar/register/WN_nTxFMPobS62LL08w3O49pw \nAtividade aberta e gratuita
URL:https://febrapsi.org/evento/sos-brasil-itinerante-regiao-sul/
LOCATION:Evento Online
CATEGORIES:Geral
ATTACH;FMTTYPE=image/jpeg:https://febrapsi.org/storage/2023/08/Imagem-do-WhatsApp-de-2023-08-22-as-23.15.57.jpg
ORGANIZER;CN="SPPA":MAILTO:sppa@sppa.org.br
END:VEVENT
BEGIN:VEVENT
DTSTART;TZID=America/Sao_Paulo:20230913T203000
DTEND;TZID=America/Sao_Paulo:20230913T220000
DTSTAMP:20260424T081638
CREATED:20230904T185013Z
LAST-MODIFIED:20230904T185013Z
UID:47473-1694637000-1694642400@febrapsi.org
SUMMARY:Refletindo sobre transfobia
DESCRIPTION:     A Diretoria Científica da SPBsb convida para a reunião científica “Refletindo sobre transfobia“\, com apresentação de Sérgio Lewkowicz\, psiquiatra e psicanalista da Sociedade Psicanalítica de Porto Alegre (SPPA)\, com comentários de Almira Rodrigues\, membro associado da SPBsb e membro do Cowap Brasil e coordenação de Ana Velia Vélez de Sánchez Osella\, diretora científica da SPBsb.\n \n\n     O evento será online no dia 13 de setembro\, quarta-feira\, às 20h30\, pelo Zoom. \n     Evento gratuito – vagas limitadas \n\n\n \n      Inscreva-se aqui
URL:https://febrapsi.org/evento/refletindo-sobre-transfobia/
LOCATION:Evento Online
CATEGORIES:Geral
ATTACH;FMTTYPE=image/jpeg:https://febrapsi.org/storage/2023/09/Sergio-Lewkowicz-13.09.23.jpg
ORGANIZER;CN="SPBsb":MAILTO:spbsb@spbsb.org.br
END:VEVENT
END:VCALENDAR