BEGIN:VCALENDAR
VERSION:2.0
PRODID:-//FEBRAPSI - ECPv6.15.20//NONSGML v1.0//EN
CALSCALE:GREGORIAN
METHOD:PUBLISH
X-ORIGINAL-URL:https://febrapsi.org
X-WR-CALDESC:Eventos para FEBRAPSI
REFRESH-INTERVAL;VALUE=DURATION:PT1H
X-Robots-Tag:noindex
X-PUBLISHED-TTL:PT1H
BEGIN:VTIMEZONE
TZID:America/Sao_Paulo
BEGIN:STANDARD
TZOFFSETFROM:-0300
TZOFFSETTO:-0300
TZNAME:-03
DTSTART:20220101T000000
END:STANDARD
END:VTIMEZONE
BEGIN:VEVENT
DTSTART;VALUE=DATE:20230929
DTEND;VALUE=DATE:20231001
DTSTAMP:20260424T081601
CREATED:20230811T135023Z
LAST-MODIFIED:20230814T202531Z
UID:46770-1695945600-1696118399@febrapsi.org
SUMMARY:VII JORNADA DE PSICANÁLISE DA SOCIEDADE PSICANALÍTICA DE FORTALEZA – SPFOR
DESCRIPTION: \nDIVERSIDADE NO MUNDO E NA CLÍNICA PSICANALÍTICA\n29 e 30 de setembro de 2023 – Hotel Mareiro Beira Mar – Fortaleza-CE\n\nDiversidade no mundo e na clínica psicanalítica \n\n“Se cada ser é só um\nE cada um com sua crença\nTudo é raro\, nada é comum\nDiversidade é a sentença […]\nSe cada cabeça é um mundo\nCada um é muito mais.”\n(Diversidade\, Lenine) \nA VII Jornada de Psicanálise da Sociedade Psicanalítica de Fortaleza – SPFOR acontecerá nos dias 29 e 30 de setembro de 2023\, presencialmente\, no Hotel Mareiro\, na ensolarada Beira-mar de Fortaleza. \nO tema deste ano está em sintonia com um de nossos grandes desafios atuais: a diversidade no mundo e na clínica psicanalítica. O que a psicanálise tem a nos dizer? Por quais ângulos os psicanalistas dialogam com o tema da diversidade? Os temas das mesas foram pensados com o propósito de ampliar as trocas\, instigar debates e reflexões à luz da teoria psicanalítica. \nNa sexta-feira\, dia 29/09\, as mesas abordarão as seguintes ideias: “Adversidade e diversidade”\, “Riqueza cultural e desigualdade social”\, “Diversidade na clínica psicanalítica”\, e “Projeto SOS Brasil e a expansão de fronteiras em psicanálise”. Contaremos também com um exercício clínico durante a nossa tarde. \nNo sábado\, dia 30/09\, iniciaremos as nossas atividades com uma mesa sobre “Tornar-se analista”\, para logo em seguida pensarmos sobre “Mitos: do privado ao público”. Por fim\, concluiremos nossa Jornada com reflexões sobre “O processo criativo na arte e na clínica psicanalítica”. \nAguardamos sua presença! \n*Agradecemos ao artista Wilson Neto pela a autorização de uso da imagem de seu trabalho: “Essa turma toda aí” para a composição da identidade visual de nossa jornada.
URL:https://febrapsi.org/evento/vii-jornada-de-psicanalise-da-sociedade-psicanalitica-de-fortaleza-spfor/
LOCATION:Hotel Mareiro – Fortaleza Ceara\, Av. Beira Mar 2380\, Fortaleza\, Ceara\, 60.165-120\, Brasil
CATEGORIES:Geral
ATTACH;FMTTYPE=image/jpeg:https://febrapsi.org/storage/2023/08/jornada.jpeg
ORGANIZER;CN="SPFOR":MAILTO:psicanalisefortaleza@gmail.com
END:VEVENT
BEGIN:VEVENT
DTSTART;TZID=America/Sao_Paulo:20230912T193000
DTEND;TZID=America/Sao_Paulo:20230912T210000
DTSTAMP:20260424T081601
CREATED:20230726T141142Z
LAST-MODIFIED:20230726T141142Z
UID:46650-1694547000-1694552400@febrapsi.org
SUMMARY:Café Literário da Psicanalítica - "Uma tristeza infinita"\, de Antônio Xerxenesky
DESCRIPTION:“Uma tristeza infinita”\, de Antônio Xerxenesky\, será o tema do Café Literário da Psicanalítica do dia 12 de setembro (terça-feira)\, às 19h30\, na plataforma Zoom/SPPA. \nA conversa será entre Convidados: Antônio Xerxenesky (Escritor\, Doutor em Teoria Literária pela USP) e Cláudio Laks Eizirik (Psicanalista da SPPA\, Professor Emérito de Psiquiatria da UFRGS)\, com a coordenação da Psicanalista Maria Regina Limeira Ortiz. \nInscrições antecipadas:\nhttps://us06web.zoom.us/webinar/register/WN_FCPDe336RVK-9fZ57Hn_Bg \nAtividade aberta e gratuita. \nAtenciosamente\,\nMaria Cristina Garcia Vasconcellos – Presidente\nEleonora Abbud Spinelli – Diretora de Divulgação e Ações junto à Comunidade\nMaria Regina Limeira Ortiz – Coordenadora do Café Literário
URL:https://febrapsi.org/evento/cafe-literario-da-psicanalitica-uma-tristeza-infinita-de-antonio-xerxenesky/
LOCATION:Evento Online
CATEGORIES:Geral
ATTACH;FMTTYPE=image/jpeg:https://febrapsi.org/storage/2023/07/2023-09-12-01-Cafe-Literario.jpg
ORGANIZER;CN="SPPA":MAILTO:sppa@sppa.org.br
END:VEVENT
BEGIN:VEVENT
DTSTART;TZID=America/Sao_Paulo:20230912T200000
DTEND;TZID=America/Sao_Paulo:20230912T210000
DTSTAMP:20260424T081601
CREATED:20230901T184934Z
LAST-MODIFIED:20230901T184934Z
UID:47337-1694548800-1694552400@febrapsi.org
SUMMARY:Terças na Sociedade - NEM ISSO\, NEM AQUILO: A EMERGÊNCIA BORDELINE NA CLÍNICA.
DESCRIPTION:Terças na Sociedade  \nDia 12 de setembro\, às 20h\, “Terças na Sociedade – Semeando a Psicanálise” de 2023! O tema dessa edição será “NEM ISSO\, NEM AQUILO: A EMERGÊNCIA BORDELINE NA CLÍNICA.” e quem comandará a discussão será Beatriz Troncon Busatto. \nO evento será gratuito! Presencial (sede da SBPRP) e on-line (Zoom). \nEstá se aproximando o próximo encontro do Terças na Sociedade\, cujo tema é: NEM ISSO\, NEM AQUILO: A EMERGÊNCIA BORDELINE NA CLÍNICA. \nConversaremos sobre o termo borderline\, apresentando um percurso de seu uso – cuja origem é médica – com a descrição de quadros clínicos que não se enquadravam nas tradicionais nomenclaturas de neuroses ou psicoses. Tentarei apresentar um olhar psicanalítico\, em que\, invertendo o paradigma psiquiátrico descritivo\, acessaremos uma outra lógica de limites e fronteiras\, a partir do mundo interno\,  observando “de dentro”.  \nA enorme variabilidade com que os fenômenos psíquicos ocorrem na clínica desafia o analista a desenvolver um repertorio interno\, de forma a ter “ferramentas” para se aproximar da experiência e vivê-la com seus analisandos\, ainda que\, paradoxalmente\, não existam fórmulas ou técnicas definidas a serem aplicadas na sessão\, nem fora dela. No entanto\, em encontros como o das Terças\, podemos conversar sobre nossas observações\, emoções\, medos e questionamentos\,  geradores de inspirações para as ocorrências da clínica. Essas últimas\, ainda que em muitos momentos possam  ser difíceis de sustentar\, são  potencialmente\,  ricas em aprendizado. \nEspero vocês para essa conversa! \nVagas limitadas! \n 
URL:https://febrapsi.org/evento/tercas-na-sociedade-nem-isso-nem-aquilo-a-emergencia-bordeline-na-clinica/
LOCATION:Evento híbrido
CATEGORIES:Geral
ATTACH;FMTTYPE=image/jpeg:https://febrapsi.org/storage/2023/08/PALESTRANTE-1.jpg
ORGANIZER;CN="SBPRP":MAILTO:sbprp.secretaria@gmail.com
END:VEVENT
END:VCALENDAR