BEGIN:VCALENDAR
VERSION:2.0
PRODID:-//FEBRAPSI - ECPv6.15.20//NONSGML v1.0//EN
CALSCALE:GREGORIAN
METHOD:PUBLISH
X-WR-CALNAME:FEBRAPSI
X-ORIGINAL-URL:https://febrapsi.org
X-WR-CALDESC:Eventos para FEBRAPSI
REFRESH-INTERVAL;VALUE=DURATION:PT1H
X-Robots-Tag:noindex
X-PUBLISHED-TTL:PT1H
BEGIN:VTIMEZONE
TZID:America/Sao_Paulo
BEGIN:STANDARD
TZOFFSETFROM:-0300
TZOFFSETTO:-0300
TZNAME:-03
DTSTART:20220101T000000
END:STANDARD
END:VTIMEZONE
BEGIN:VEVENT
DTSTART;VALUE=DATE:20230929
DTEND;VALUE=DATE:20231001
DTSTAMP:20260424T081212
CREATED:20230811T135023Z
LAST-MODIFIED:20230814T202531Z
UID:46770-1695945600-1696118399@febrapsi.org
SUMMARY:VII JORNADA DE PSICANÁLISE DA SOCIEDADE PSICANALÍTICA DE FORTALEZA – SPFOR
DESCRIPTION: \nDIVERSIDADE NO MUNDO E NA CLÍNICA PSICANALÍTICA\n29 e 30 de setembro de 2023 – Hotel Mareiro Beira Mar – Fortaleza-CE\n\nDiversidade no mundo e na clínica psicanalítica \n\n“Se cada ser é só um\nE cada um com sua crença\nTudo é raro\, nada é comum\nDiversidade é a sentença […]\nSe cada cabeça é um mundo\nCada um é muito mais.”\n(Diversidade\, Lenine) \nA VII Jornada de Psicanálise da Sociedade Psicanalítica de Fortaleza – SPFOR acontecerá nos dias 29 e 30 de setembro de 2023\, presencialmente\, no Hotel Mareiro\, na ensolarada Beira-mar de Fortaleza. \nO tema deste ano está em sintonia com um de nossos grandes desafios atuais: a diversidade no mundo e na clínica psicanalítica. O que a psicanálise tem a nos dizer? Por quais ângulos os psicanalistas dialogam com o tema da diversidade? Os temas das mesas foram pensados com o propósito de ampliar as trocas\, instigar debates e reflexões à luz da teoria psicanalítica. \nNa sexta-feira\, dia 29/09\, as mesas abordarão as seguintes ideias: “Adversidade e diversidade”\, “Riqueza cultural e desigualdade social”\, “Diversidade na clínica psicanalítica”\, e “Projeto SOS Brasil e a expansão de fronteiras em psicanálise”. Contaremos também com um exercício clínico durante a nossa tarde. \nNo sábado\, dia 30/09\, iniciaremos as nossas atividades com uma mesa sobre “Tornar-se analista”\, para logo em seguida pensarmos sobre “Mitos: do privado ao público”. Por fim\, concluiremos nossa Jornada com reflexões sobre “O processo criativo na arte e na clínica psicanalítica”. \nAguardamos sua presença! \n*Agradecemos ao artista Wilson Neto pela a autorização de uso da imagem de seu trabalho: “Essa turma toda aí” para a composição da identidade visual de nossa jornada.
URL:https://febrapsi.org/evento/vii-jornada-de-psicanalise-da-sociedade-psicanalitica-de-fortaleza-spfor/
LOCATION:Hotel Mareiro – Fortaleza Ceara\, Av. Beira Mar 2380\, Fortaleza\, Ceara\, 60.165-120\, Brasil
CATEGORIES:Geral
ATTACH;FMTTYPE=image/jpeg:https://febrapsi.org/storage/2023/08/jornada.jpeg
ORGANIZER;CN="SPFOR":MAILTO:psicanalisefortaleza@gmail.com
END:VEVENT
BEGIN:VEVENT
DTSTART;VALUE=DATE:20230831
DTEND;VALUE=DATE:20230903
DTSTAMP:20260424T081212
CREATED:20230314T203701Z
LAST-MODIFIED:20230615T212330Z
UID:45090-1693440000-1693699199@febrapsi.org
SUMMARY:Jornada Científica 2023 da SBPdePA: ADICÇÕES E DEPENDÊNCIAS/ Reflexões e Transformações
DESCRIPTION:Jornada Científica 2023: ADICÇÕES E DEPENDÊNCIAS/ Reflexões e Transformações \nA Diretoria Científica da Sociedade Brasileira de Psicanálise de Porto Alegre convida para sua Jornada bianual:  ADICÇÕES E DEPENDÊNCIAS/ Reflexões e Transformações. \nA pergunta base será: O que a psicanálise tem para contribuir sobre as adicções e dependências?\nFrente ao desamparo do desconhecido\, para sobreviver psiquicamente e se manter emocionalmente\, muitas pessoas recorrem a diferentes tipos de objetos adictivos. Os vícios são parte da história da humanidade: as culturas da Antiguidade já tinham o hábito de se entorpecer com ervas para encontrar o sentido da vida. Vivemos em um mundo de constantes e cada vez mais rápidas transformações\, e os objetos aditivos de hoje são cada vez mais múltiplos (telas\, relacionamentos\, álcool e drogas). \nInstigada pelo teor\, muitas vezes enigmático\, dessa temática\, a SBPdePA apresenta sua Jornada Científica deste ano. Acreditamos que o estudo das adicções ainda possui um vasto campo a ser explorado pela psicanálise. \nAcreditamos que o estudo das adicções ainda possui um vasto campo a ser explorado pela psicanálise. \n​Evento híbrido\, com transmissão ao vivo. Em breve será divulgada a programação. Dias: 31 de agosto a 02 de setembro de 2023 | Hotel Hilton – Porto Alegre e pela Plataforma Zoom. \nCinco psicanalistas  foram convidados para refletirem sobre as transformações que\, em termos da técnica e da compreensão dinâmica\, a psicanálise poderá necessitar em relação a estas manifestações:\nClaudia Spadazzi / Itália\nDécio Gurfinkel / Brasil\nJosé Alberto Zusman / Brasil\nMark Solms / África do Sul \nInscrições através do site da SBPdePA: https://www.sbpdepa.org.br/jornada2023 \nDúvidas entre em contato: comunicaca@sbpdepa.org.br \n   \n  \n  \nhttps://febrapsi.org/storage/2023/03/video-Decio-reels.mp4
URL:https://febrapsi.org/evento/jornada-cientifica-2023-da-sbpdepa-adiccoes-e-dependencias-reflexoes-e-transformacoes/
LOCATION:Evento híbrido
CATEGORIES:Geral
ATTACH;FMTTYPE=image/jpeg:https://febrapsi.org/storage/2023/03/JORNADA-S.jpg
ORGANIZER;CN="SBPdePA":MAILTO:secretaria@sbpdepa.org.br
END:VEVENT
BEGIN:VEVENT
DTSTART;TZID=America/Sao_Paulo:20230902T100000
DTEND;TZID=America/Sao_Paulo:20230902T130000
DTSTAMP:20260424T081212
CREATED:20230730T175848Z
LAST-MODIFIED:20230730T175848Z
UID:46670-1693648800-1693659600@febrapsi.org
SUMMARY:RECEPÇÃO E BUSCA DO MUNDO INFINITO DOS OBJETOS
DESCRIPTION:PSICANÁLISE CONTEMPORÂNEA COMO ARTE DE PENSAR ENTRE-DOIS \nNeste semestre\, continuaremos a refletir sobre as relações entre as ideias de Winnicott e de autores a ele relacionados\, consagrados no campo da psicanálise. Comparando criticamente as perspectivas de alguns psicanalistas contemporâneos\, pretendemos contribuir para a afirmação da “psicanálise como arte de pensar entre-dois”. \nRECEPÇÃO E BUSCA DO MUNDO INFINITO DOS OBJETOS: BOLLAS\, INTERLOCUTOR DE WINNICOTT. \nPalestrante: André De Martini (USP / USURJ)\nApresentação e Coordenação: João Frayze-Pereira (SBPSP) \nInvestimento:\nMembros SBPSP\, Febrapsi\, IPA\, Fepal e Estudantes de graduação: Sem ônus\nProfissionais: R$ 60\,00 \n5 Cotas para profissionais negros\, indígenas e refugiados.\nInscrições pelo site: www.sbpsp.org.br\nInformações: fabiana@sbpsp.org.br
URL:https://febrapsi.org/evento/recepcao-e-busca-do-mundo-infinito-dos-objetos/
LOCATION:Online – Plataforma Zoom
CATEGORIES:Geral
ATTACH;FMTTYPE=image/png:https://febrapsi.org/storage/2023/07/DCC_SET_23-scaled.png
ORGANIZER;CN="SBPSP":MAILTO:contato@sbpsp.org.br
END:VEVENT
END:VCALENDAR