BEGIN:VCALENDAR
VERSION:2.0
PRODID:-//FEBRAPSI - ECPv6.15.20//NONSGML v1.0//EN
CALSCALE:GREGORIAN
METHOD:PUBLISH
X-WR-CALNAME:FEBRAPSI
X-ORIGINAL-URL:https://febrapsi.org
X-WR-CALDESC:Eventos para FEBRAPSI
REFRESH-INTERVAL;VALUE=DURATION:PT1H
X-Robots-Tag:noindex
X-PUBLISHED-TTL:PT1H
BEGIN:VTIMEZONE
TZID:America/Sao_Paulo
BEGIN:STANDARD
TZOFFSETFROM:-0300
TZOFFSETTO:-0300
TZNAME:-03
DTSTART:20220101T000000
END:STANDARD
END:VTIMEZONE
BEGIN:VEVENT
DTSTART;VALUE=DATE:20230929
DTEND;VALUE=DATE:20231001
DTSTAMP:20260424T094224
CREATED:20230811T135023Z
LAST-MODIFIED:20230814T202531Z
UID:46770-1695945600-1696118399@febrapsi.org
SUMMARY:VII JORNADA DE PSICANÁLISE DA SOCIEDADE PSICANALÍTICA DE FORTALEZA – SPFOR
DESCRIPTION: \nDIVERSIDADE NO MUNDO E NA CLÍNICA PSICANALÍTICA\n29 e 30 de setembro de 2023 – Hotel Mareiro Beira Mar – Fortaleza-CE\n\nDiversidade no mundo e na clínica psicanalítica \n\n“Se cada ser é só um\nE cada um com sua crença\nTudo é raro\, nada é comum\nDiversidade é a sentença […]\nSe cada cabeça é um mundo\nCada um é muito mais.”\n(Diversidade\, Lenine) \nA VII Jornada de Psicanálise da Sociedade Psicanalítica de Fortaleza – SPFOR acontecerá nos dias 29 e 30 de setembro de 2023\, presencialmente\, no Hotel Mareiro\, na ensolarada Beira-mar de Fortaleza. \nO tema deste ano está em sintonia com um de nossos grandes desafios atuais: a diversidade no mundo e na clínica psicanalítica. O que a psicanálise tem a nos dizer? Por quais ângulos os psicanalistas dialogam com o tema da diversidade? Os temas das mesas foram pensados com o propósito de ampliar as trocas\, instigar debates e reflexões à luz da teoria psicanalítica. \nNa sexta-feira\, dia 29/09\, as mesas abordarão as seguintes ideias: “Adversidade e diversidade”\, “Riqueza cultural e desigualdade social”\, “Diversidade na clínica psicanalítica”\, e “Projeto SOS Brasil e a expansão de fronteiras em psicanálise”. Contaremos também com um exercício clínico durante a nossa tarde. \nNo sábado\, dia 30/09\, iniciaremos as nossas atividades com uma mesa sobre “Tornar-se analista”\, para logo em seguida pensarmos sobre “Mitos: do privado ao público”. Por fim\, concluiremos nossa Jornada com reflexões sobre “O processo criativo na arte e na clínica psicanalítica”. \nAguardamos sua presença! \n*Agradecemos ao artista Wilson Neto pela a autorização de uso da imagem de seu trabalho: “Essa turma toda aí” para a composição da identidade visual de nossa jornada.
URL:https://febrapsi.org/evento/vii-jornada-de-psicanalise-da-sociedade-psicanalitica-de-fortaleza-spfor/
LOCATION:Hotel Mareiro – Fortaleza Ceara\, Av. Beira Mar 2380\, Fortaleza\, Ceara\, 60.165-120\, Brasil
CATEGORIES:Geral
ATTACH;FMTTYPE=image/jpeg:https://febrapsi.org/storage/2023/08/jornada.jpeg
ORGANIZER;CN="SPFOR":MAILTO:psicanalisefortaleza@gmail.com
END:VEVENT
BEGIN:VEVENT
DTSTART;TZID=America/Sao_Paulo:20230819T090000
DTEND;TZID=America/Sao_Paulo:20230819T120000
DTSTAMP:20260424T094224
CREATED:20230508T140307Z
LAST-MODIFIED:20230508T140307Z
UID:45900-1692435600-1692446400@febrapsi.org
SUMMARY:JORNADA SOBRE O FEMININO\, MARCHA DO SILÊNCIO
DESCRIPTION:O grito feminino em busca de uma escuta.\nAbertura: \nMARTA FOSTER – Secretária Geral da SBPSP \nGLAUCIA MARIA FERREIRA FURTADO – Diretora Regional da SBPSP \nPalestrantes: \nITAMAR CARDIN – Jornalista e Escritor \nMarcha do Silêncio e a escuta do feminino: do luto à luta. \nCLEUZA MARA LOURENÇO PERRINI – Membro efetivo SBPSP\nO feminino em nós\, uma experiência interminável. \nSÍLVIA LOBO – Membro efetivo SBPSP\nMaternidade Ultrajada: O resgate da dignidade \nCoordenação: \nMARIA APARECIDA ROCHA – Membro associado SBPSP \nInvestimento: \nMembros da SBPSP\, Febrapsi\, Fepal\, IPA: Sem ônus \nPúblico Externo: R$80\,00\n5 cotas para profissionais negros\, indígenas e refugiados. \nInscrições: www.sbpsp.org.br | fabiana@sbpsp.org.br
URL:https://febrapsi.org/evento/jornada-sobre-o-feminino-marcha-do-silencio/
LOCATION:Evento híbrido
CATEGORIES:Geral
ATTACH;FMTTYPE=image/png:https://febrapsi.org/storage/2023/05/Psicorreio_Jornada-Sobre-o-Feminino.png
ORGANIZER;CN="SBPSP":MAILTO:contato@sbpsp.org.br
END:VEVENT
BEGIN:VEVENT
DTSTART;TZID=America/Sao_Paulo:20230819T090000
DTEND;TZID=America/Sao_Paulo:20230819T173000
DTSTAMP:20260424T094224
CREATED:20230717T193530Z
LAST-MODIFIED:20230717T193530Z
UID:46564-1692435600-1692466200@febrapsi.org
SUMMARY:O conflito estético e o método analítico - Homenagem aos 100 anos de nascimento de Donald Meltzer
DESCRIPTION:O conflito estético e o método analítico\nHomenagem aos 100 anos de nascimento de Donald Meltzer \n19 de agosto (sábado)\, das 9h às 17h30\, na Plataforma Zoom/SPPA \nConvidadas:\n*Meg Harris Williams (Escritora\, Artista e Crítica Literária. Editora do Harris Meltzer Trust)\n*Clara Nemas (Psicanalista APdeBA)\n*Virginia Ungar (Psicanalista APdeBA\, ex-presidente IPA) \nCoordenação:\nJosé Carlos Calich (Diretor do Instituto SPPA) \nAtividade online e aberta\nValores:\nR$ 250\,00 profissionais\nR$ 125\,00 estudantes de graduação\nUS$ 50\,00 profissionais fora do Brasil\nMembros SPPA – Isentos \nHaverá tradução simultânea do inglês e do espanhol para o português no período da manhã \nInscrições Antecipadas:\nhttps://forms.gle/GwQgYHWFzC75Bze18
URL:https://febrapsi.org/evento/o-conflito-estetico-e-o-metodo-analitico-homenagem-aos-100-anos-de-nascimento-de-donald-meltzer/
LOCATION:Evento Online
CATEGORIES:Geral
ATTACH;FMTTYPE=image/jpeg:https://febrapsi.org/storage/2023/07/11.jpg
ORGANIZER;CN="SPPA":MAILTO:sppa@sppa.org.br
END:VEVENT
END:VCALENDAR