BEGIN:VCALENDAR
VERSION:2.0
PRODID:-//FEBRAPSI - ECPv6.15.20//NONSGML v1.0//EN
CALSCALE:GREGORIAN
METHOD:PUBLISH
X-WR-CALNAME:FEBRAPSI
X-ORIGINAL-URL:https://febrapsi.org
X-WR-CALDESC:Eventos para FEBRAPSI
REFRESH-INTERVAL;VALUE=DURATION:PT1H
X-Robots-Tag:noindex
X-PUBLISHED-TTL:PT1H
BEGIN:VTIMEZONE
TZID:America/Sao_Paulo
BEGIN:STANDARD
TZOFFSETFROM:-0300
TZOFFSETTO:-0300
TZNAME:-03
DTSTART:20220101T000000
END:STANDARD
END:VTIMEZONE
BEGIN:VEVENT
DTSTART;VALUE=DATE:20230929
DTEND;VALUE=DATE:20231001
DTSTAMP:20260424T094225
CREATED:20230811T135023Z
LAST-MODIFIED:20230814T202531Z
UID:46770-1695945600-1696118399@febrapsi.org
SUMMARY:VII JORNADA DE PSICANÁLISE DA SOCIEDADE PSICANALÍTICA DE FORTALEZA – SPFOR
DESCRIPTION: \nDIVERSIDADE NO MUNDO E NA CLÍNICA PSICANALÍTICA\n29 e 30 de setembro de 2023 – Hotel Mareiro Beira Mar – Fortaleza-CE\n\nDiversidade no mundo e na clínica psicanalítica \n\n“Se cada ser é só um\nE cada um com sua crença\nTudo é raro\, nada é comum\nDiversidade é a sentença […]\nSe cada cabeça é um mundo\nCada um é muito mais.”\n(Diversidade\, Lenine) \nA VII Jornada de Psicanálise da Sociedade Psicanalítica de Fortaleza – SPFOR acontecerá nos dias 29 e 30 de setembro de 2023\, presencialmente\, no Hotel Mareiro\, na ensolarada Beira-mar de Fortaleza. \nO tema deste ano está em sintonia com um de nossos grandes desafios atuais: a diversidade no mundo e na clínica psicanalítica. O que a psicanálise tem a nos dizer? Por quais ângulos os psicanalistas dialogam com o tema da diversidade? Os temas das mesas foram pensados com o propósito de ampliar as trocas\, instigar debates e reflexões à luz da teoria psicanalítica. \nNa sexta-feira\, dia 29/09\, as mesas abordarão as seguintes ideias: “Adversidade e diversidade”\, “Riqueza cultural e desigualdade social”\, “Diversidade na clínica psicanalítica”\, e “Projeto SOS Brasil e a expansão de fronteiras em psicanálise”. Contaremos também com um exercício clínico durante a nossa tarde. \nNo sábado\, dia 30/09\, iniciaremos as nossas atividades com uma mesa sobre “Tornar-se analista”\, para logo em seguida pensarmos sobre “Mitos: do privado ao público”. Por fim\, concluiremos nossa Jornada com reflexões sobre “O processo criativo na arte e na clínica psicanalítica”. \nAguardamos sua presença! \n*Agradecemos ao artista Wilson Neto pela a autorização de uso da imagem de seu trabalho: “Essa turma toda aí” para a composição da identidade visual de nossa jornada.
URL:https://febrapsi.org/evento/vii-jornada-de-psicanalise-da-sociedade-psicanalitica-de-fortaleza-spfor/
LOCATION:Hotel Mareiro – Fortaleza Ceara\, Av. Beira Mar 2380\, Fortaleza\, Ceara\, 60.165-120\, Brasil
CATEGORIES:Geral
ATTACH;FMTTYPE=image/jpeg:https://febrapsi.org/storage/2023/08/jornada.jpeg
ORGANIZER;CN="SPFOR":MAILTO:psicanalisefortaleza@gmail.com
END:VEVENT
BEGIN:VEVENT
DTSTART;TZID=America/Sao_Paulo:20230810T193000
DTEND;TZID=America/Sao_Paulo:20230810T213000
DTSTAMP:20260424T094225
CREATED:20230721T184550Z
LAST-MODIFIED:20230721T184610Z
UID:46604-1691695800-1691703000@febrapsi.org
SUMMARY:A  MISÉRIA COMO CAUSADORA DE SOFRIMENTO MENTAL
DESCRIPTION:A MISÉRIA COMO CAUSADORA DE SOFRIMENTO MENTAL \nQuinta-feria\, 10 agosto de 2023 \nHorário: 19h30
URL:https://febrapsi.org/evento/a-miseria-como-causadora-de-sofrimento-mental/
LOCATION:Evento Online
CATEGORIES:Geral
ATTACH;FMTTYPE=image/jpeg:https://febrapsi.org/storage/2023/07/Evento-10-08-2023.jpeg
ORGANIZER;CN="SPRJ":MAILTO:sprj.rio1@sprj.org.br
END:VEVENT
BEGIN:VEVENT
DTSTART;TZID=America/Sao_Paulo:20230810T200000
DTEND;TZID=America/Sao_Paulo:20230810T213000
DTSTAMP:20260424T094225
CREATED:20230710T225426Z
LAST-MODIFIED:20230710T230009Z
UID:46469-1691697600-1691703000@febrapsi.org
SUMMARY:Curso Clínica VI
DESCRIPTION:Considerando os muitos desafios que a clínica atual nos impõe\, a proposta do próximo semestre é trabalhar com a temática da Psicossomática. Acordando com a ideia de que mente e corpo são interdependentes e formam uma unidade psicossomática\, a clínica psicanalítica busca a compreensão dos conflitos psíquicos como centrais na origem dos sintomas psicossomáticos.\n \nOs conflitos\, emoções\, traumas e tensões emocionais inconscientes são transformados em sintomas somáticos que urgem por um significado simbólico\, que poderão ser elaborados através da clínica psicanalítica.\n \nO curso será on-line e ocorrerá nas datas: 10 e 24 de Agosto\, 14 e 28 de Setembro\, 19 e 26 de Outubro e 16 e 30 de Novembro.\nVeja a programação completa abaixo.\n \n 
URL:https://febrapsi.org/evento/curso-clinica-vi/
LOCATION:Evento Online
CATEGORIES:Geral
ATTACH;FMTTYPE=image/png:https://febrapsi.org/storage/2023/07/2023-07-05_-_Capa_Clinica_VPrancheta_1.png
ORGANIZER;CN="GEP Rio Preto e Regi%C3%A3o":MAILTO:gep.riopreto@gmail.com
END:VEVENT
END:VCALENDAR