BEGIN:VCALENDAR
VERSION:2.0
PRODID:-//FEBRAPSI - ECPv6.15.20//NONSGML v1.0//EN
CALSCALE:GREGORIAN
METHOD:PUBLISH
X-ORIGINAL-URL:https://febrapsi.org
X-WR-CALDESC:Eventos para FEBRAPSI
REFRESH-INTERVAL;VALUE=DURATION:PT1H
X-Robots-Tag:noindex
X-PUBLISHED-TTL:PT1H
BEGIN:VTIMEZONE
TZID:America/Sao_Paulo
BEGIN:STANDARD
TZOFFSETFROM:-0300
TZOFFSETTO:-0300
TZNAME:-03
DTSTART:20220101T000000
END:STANDARD
END:VTIMEZONE
BEGIN:VEVENT
DTSTART;TZID=America/Sao_Paulo:20230807T080000
DTEND;TZID=America/Sao_Paulo:20230807T170000
DTSTAMP:20260424T094537
CREATED:20230710T225602Z
LAST-MODIFIED:20230710T225602Z
UID:46482-1691395200-1691427600@febrapsi.org
SUMMARY:Grupo de estudos da obra de Sigmund Freud
DESCRIPTION:Este grupo é destinado a profissionais e estudantes de psicologia e medicina que se interessam em conhecer o pensamento psicanalítico\, por meio de artigos de Sigmund Freud. O grupo será semanal\, toda segunda -feira das 20h às 21h30\, e terá um psicanalista do GEP como orientador do grupo durante 2 meses\, quando um novo psicanalista continuará os estudos pelos outros 2 meses e\, assim\, sucessivamente. \nO grupo vai iniciar no dia 07 de agosto de 2023\, até o fim do mês de novembro\, quando entrará em férias\, retornando no mês de março de 2024. \nVagas limitadas às primeiras 15 pessoas que se inscreverem. \nComo realizar a Inscrição: \nA inscrição deve ser feita por WhatsApp\, aos cuidados da Sra. Márcia Buzuti\, pelo número: WhatsApp: 17-99794-6042 \nO valor será de 200\,00 reais mensais que poderá ser pago até o dia 31/07/2023\, por PIX (CNPJ: 31.112.261/0001-90). \nAtenção: \nOs profissionais (psicólogos e médicos – ativos em seus respectivos conselhos profissionais) deverão enviar uma foto da carteira profissional para a secretaria do GEP\, no mesmo WhatsApp indicado acima. \nOs Estudantes (psicologia e medicina) deverão enviar uma foto do comprovante de matrícula de seu curso superior\, matriculado no ano de 2023\, para o mesmo número de WhatsApp.
URL:https://febrapsi.org/evento/grupo-de-estudos-da-obra-de-sigmund-freud/
LOCATION:São Paulo
CATEGORIES:Geral
ATTACH;FMTTYPE=image/png:https://febrapsi.org/storage/2023/07/2023-05-25_-_Grupo_de_Estudos_v4Prancheta_8.png
ORGANIZER;CN="GEP Rio Preto e Regi%C3%A3o":MAILTO:gep.riopreto@gmail.com
END:VEVENT
END:VCALENDAR