BEGIN:VCALENDAR
VERSION:2.0
PRODID:-//FEBRAPSI - ECPv6.15.20//NONSGML v1.0//EN
CALSCALE:GREGORIAN
METHOD:PUBLISH
X-ORIGINAL-URL:https://febrapsi.org
X-WR-CALDESC:Eventos para FEBRAPSI
REFRESH-INTERVAL;VALUE=DURATION:PT1H
X-Robots-Tag:noindex
X-PUBLISHED-TTL:PT1H
BEGIN:VTIMEZONE
TZID:America/Sao_Paulo
BEGIN:STANDARD
TZOFFSETFROM:-0300
TZOFFSETTO:-0300
TZNAME:-03
DTSTART:20220101T000000
END:STANDARD
END:VTIMEZONE
BEGIN:VEVENT
DTSTART;TZID=America/Sao_Paulo:20230728T180000
DTEND;TZID=America/Sao_Paulo:20230728T200000
DTSTAMP:20260424T112937
CREATED:20230721T184635Z
LAST-MODIFIED:20230721T184645Z
UID:46601-1690567200-1690574400@febrapsi.org
SUMMARY:Reflexões Psicanalítica Sobre a Obra Literária - 28 julho de 2023 - Às 18h
DESCRIPTION:Reflexões Psicanalítica Sobre a Obra Literária – 28 julho de 2023 – Às 18h \nConto: Feliz Aniversário \nAutor – Clarice Lispector \n28 de julho\, às 18h \nOn-line
URL:https://febrapsi.org/evento/reflexoes-psicanalitica-sobre-a-obra-literaria-28-julho-de-2023-as-18h/
LOCATION:Evento Online
CATEGORIES:Geral
ATTACH;FMTTYPE=image/jpeg:https://febrapsi.org/storage/2023/07/28-7-2023.jpeg
ORGANIZER;CN="SPRJ":MAILTO:sprj.rio1@sprj.org.br
END:VEVENT
END:VCALENDAR