BEGIN:VCALENDAR
VERSION:2.0
PRODID:-//FEBRAPSI - ECPv6.15.20//NONSGML v1.0//EN
CALSCALE:GREGORIAN
METHOD:PUBLISH
X-ORIGINAL-URL:https://febrapsi.org
X-WR-CALDESC:Eventos para FEBRAPSI
REFRESH-INTERVAL;VALUE=DURATION:PT1H
X-Robots-Tag:noindex
X-PUBLISHED-TTL:PT1H
BEGIN:VTIMEZONE
TZID:America/Sao_Paulo
BEGIN:STANDARD
TZOFFSETFROM:-0300
TZOFFSETTO:-0300
TZNAME:-03
DTSTART:20220101T000000
END:STANDARD
END:VTIMEZONE
BEGIN:VEVENT
DTSTART;TZID=America/Sao_Paulo:20230706T203000
DTEND;TZID=America/Sao_Paulo:20230706T220000
DTSTAMP:20260424T112938
CREATED:20230622T123635Z
LAST-MODIFIED:20230622T123635Z
UID:46390-1688675400-1688680800@febrapsi.org
SUMMARY:Quinta Semestral da Diretoria da área da Infância e Adolescência: "O Sonho e o sonhar na Infância..."
DESCRIPTION:Convidamos para a Quinta Semestral da Diretoria da área da Infância e Adolescência: “O Sonho e o sonhar na Infância…”\, no dia 06 de julho (quinta-feira)\, às 20h30\, no Anfiteatro da SPPA e na Plataforma Zoom/SPPA. \nConvidados:\nThiago Ramil (Projeto Sereno canto – contador de histórias)\nRuggero Levy (Psicanalista SPPA) \nCoordenação:\nKatia Wagner Radke (Diretora da área da Infância e Adolescência da SPPA) \nAtividade híbrida\, aberta e gratuita \nInscrições Antecipadas:\nhttps://forms.gle/qaXa38dmvuyTjLC58
URL:https://febrapsi.org/evento/quinta-semestral-da-diretoria-da-area-da-infancia-e-adolescencia-o-sonho-e-o-sonhar-na-infancia/
LOCATION:Evento híbrido
CATEGORIES:Geral
ATTACH;FMTTYPE=image/jpeg:https://febrapsi.org/storage/2023/06/2023-07-06-Quinta-Semestral-DIA.jpg
ORGANIZER;CN="SPPA":MAILTO:sppa@sppa.org.br
END:VEVENT
END:VCALENDAR