BEGIN:VCALENDAR
VERSION:2.0
PRODID:-//FEBRAPSI - ECPv6.15.20//NONSGML v1.0//EN
CALSCALE:GREGORIAN
METHOD:PUBLISH
X-ORIGINAL-URL:https://febrapsi.org
X-WR-CALDESC:Eventos para FEBRAPSI
REFRESH-INTERVAL;VALUE=DURATION:PT1H
X-Robots-Tag:noindex
X-PUBLISHED-TTL:PT1H
BEGIN:VTIMEZONE
TZID:America/Sao_Paulo
BEGIN:STANDARD
TZOFFSETFROM:-0300
TZOFFSETTO:-0300
TZNAME:-03
DTSTART:20220101T000000
END:STANDARD
END:VTIMEZONE
BEGIN:VEVENT
DTSTART;TZID=America/Sao_Paulo:20230702T100000
DTEND;TZID=America/Sao_Paulo:20230702T113000
DTSTAMP:20260424T112930
CREATED:20230622T123635Z
LAST-MODIFIED:20230622T123635Z
UID:46399-1688292000-1688297400@febrapsi.org
SUMMARY:PSICANÁLISE EM TEMPOS DE DESORIENTAÇÃO com Osvaldo Barison
DESCRIPTION:A ELASTICIDADE DO MÉTODO NA PÓS-MODERNIDADE \nEvento On-line – Plataforma Zoom \nInvestimento: R$ 50\,00 \nMais informações: \n(14) 3413-3307 ou (14) 99614-6782 \nLink para inscrição no Evento Científico com Barison – https://pag.ae/7ZtSnuoxK
URL:https://febrapsi.org/evento/psicanalise-em-tempos-de-desorientacao-com-osvaldo-barison/
LOCATION:Online – Plataforma Zoom
CATEGORIES:Geral
ATTACH;FMTTYPE=image/jpeg:https://febrapsi.org/storage/2023/06/cartaz-Barison-20-jun.jpg
ORGANIZER;CN="SBPSP":MAILTO:contato@sbpsp.org.br
END:VEVENT
END:VCALENDAR