BEGIN:VCALENDAR
VERSION:2.0
PRODID:-//FEBRAPSI - ECPv6.15.20//NONSGML v1.0//EN
CALSCALE:GREGORIAN
METHOD:PUBLISH
X-WR-CALNAME:FEBRAPSI
X-ORIGINAL-URL:https://febrapsi.org
X-WR-CALDESC:Eventos para FEBRAPSI
REFRESH-INTERVAL;VALUE=DURATION:PT1H
X-Robots-Tag:noindex
X-PUBLISHED-TTL:PT1H
BEGIN:VTIMEZONE
TZID:America/Sao_Paulo
BEGIN:STANDARD
TZOFFSETFROM:-0300
TZOFFSETTO:-0300
TZNAME:-03
DTSTART:20220101T000000
END:STANDARD
END:VTIMEZONE
BEGIN:VEVENT
DTSTART;TZID=America/Sao_Paulo:20230624T083000
DTEND;TZID=America/Sao_Paulo:20230624T130000
DTSTAMP:20260424T131216
CREATED:20230607T135640Z
LAST-MODIFIED:20230607T135640Z
UID:46276-1687595400-1687611600@febrapsi.org
SUMMARY:O Que há de Eu em mim: Estudos psicanalíticos sobre o desenvolvimento do Eu
DESCRIPTION:A Sociedade Brasileira de Psicanálise em parceria com a Federação Brasileira de Psicanálise convida a todos os profissionais da área de saúde mental e estudantes\, para o Pré-Congresso Brasileiro de Psicanálise: “O Que há de Eu em mim: Estudos psicanalíticos sobre o desenvolvimento do Eu”. \n \nEssa jornada contará com a presença de renomados psicanalistas membros da International Psychoanalytical Association e membros da diretoria da Federação Brasileira de Psicanálise. \nPalestrantes: \nAna Clara Duarte Gavião – Psicanalista\, Membro efetivo da Sociedade Brasileira de Psicanálise de São Paulo e membro da Diretoria da Febrapsi \nCláudio Castelo Filho – Psicanalista\, membro efetivo e analista didata da Sociedade Brasileira de Psicanálise de São Paulo e membro da Diretoria da Febrapsi \nMaria Aparecida Sidericoudes Polacchini – Psicanalista\, Membro efetivo com funções didáticas da Sociedade Brasileira de Psicanálise de Ribeirão Preto e do GEP Rio Preto e membro associada à Sociedade Brasileira de Psicanálise de São Paulo \nSandra Nunes Caseiro – Psicanalista\, membro efetivo com funções didáticas da Sociedade Brasileira de Psicanálise de Ribeirão Preto \nProgramação: \nInício do evento: 8:30  \nMesa de Abertura 9:00 -9:40 – Hemerson\, Monica e Luciana \nPrimeira Mesa: Ana Clara Gavião e Maria Aparecida Sidericoudes  \nIntervalo café \nSegunda Mesa: Claudio Castelo Filho e Sandra Luiza Nunes Caseiro  \nEncerramento: 13 horas \nValores: \nProfissionais: 180\,00 \nmembros associados e efetivos Febrapsi: 140\,00 \nCandidatos Febrapsi e estudantes: 100\,00 \nEndereço: \nAv. Wladimir Meirelles Ferreira\, 856 – Jardim Botânico\, Ribeirão Preto – SP\, 14021-630 \nLocal: Hotel Wyndham Garden Ribeirão Preto Convention \nVagas limitadas! \n \n 
URL:https://febrapsi.org/evento/o-que-ha-de-eu-em-mim-estudos-psicanaliticos-sobre-o-desenvolvimento-do-eu/
LOCATION:Hotel Wyndham Garden Ribeirão Preto Convention\, Av. Wladimir Meirelles Ferreira\, 856\, Ribeirão Preto\, SP\, 14021-630\, Brasil
CATEGORIES:Geral
ATTACH;FMTTYPE=image/jpeg:https://febrapsi.org/storage/2023/06/570x727-6.jpg
ORGANIZER;CN="SBPRP":MAILTO:sbprp.secretaria@gmail.com
END:VEVENT
BEGIN:VEVENT
DTSTART;TZID=America/Sao_Paulo:20230624T090000
DTEND;TZID=America/Sao_Paulo:20230624T123000
DTSTAMP:20260424T131216
CREATED:20230531T122138Z
LAST-MODIFIED:20230531T151135Z
UID:46136-1687597200-1687609800@febrapsi.org
SUMMARY:I Simpósio de Mitologia e Psicanálise da SPFOR
DESCRIPTION:A mitologia\, sobretudo a de origem grega\, foi um dos campos de estudo que Sigmund Freud privilegiou. Sabemos que o criador da psicanálise utilizou mitos em suas construções teóricas acerca do psiquismo\, como\, por exemplo\, no conflito pulsional de Eros e Thanatos e\, claro\, na questão do Édipo\, desenvolvida magistralmente na tragédia mítica de Sófocles.\n\n \nMitologia e Psicanálise\, portanto\, possuem férteis relações que estarão em apresentação e debate no dia 24 de junho\, de 9h às 12h30\, no modo on line\, no I Simpósio de Mitologia e Psicanálise da SPFOR. \nNossos convidados são os psicanalistas e pesquisadores de mitologia: Arnaldo Chuster e Eva Migliavacca. \n\nProgramação \n9h – 9:10 Abertura : Karina Bernardes e Rosane Muller \nCoordenação Karina Bernardes.\nMediação: Petrônio Magalhães e Inês Benevides\n9:10 às 10:35: O mito de Édipo em Bion\nApresentação: Arnaldo Chuster \n“Na psicanálise o mito assume um outro sentido\, deixa de ser uma simples lenda\, para exprimir o destino histórico da existência humana”. \n10:35 as 10.45: Intervalo \n10:45 às 12:15:\nMito e Tragédia Grega\nApresentação: Eva Migliavacca\n“Há problemas eternos\, do sentido da vida\, da finalidade da história\, do mistério do amor. O mito – não a ciência – responde a essas questões. (Eleazar Meletínski). \nCoordenação : Rosane Muller\nMediação : Keila Targino e Erbon Araújo \n12:15: Encerramento com Karina Bernardes e Rosane Muller \nValor: \nR$ 50\,00 Psicanalistas membros candidatos e postulantes / SPFOR – FEPAL – FEBRAPSI e IPA\nR$ 70\,00 público externo. \nR$ 50\,00 Estudante de graduação \n* Gratuito para afrodescendentes e indígenas  \nInscrição: WhatsApp da SPFOR 85 981424811
URL:https://febrapsi.org/evento/i-simposio-de-mitologia-e-psicanalise-da-spfor/
LOCATION:Evento Online
CATEGORIES:Geral
ATTACH;FMTTYPE=image/jpeg:https://febrapsi.org/storage/2023/05/unnamed.jpg
ORGANIZER;CN="SPFOR":MAILTO:psicanalisefortaleza@gmail.com
END:VEVENT
BEGIN:VEVENT
DTSTART;TZID=America/Sao_Paulo:20230624T100000
DTEND;TZID=America/Sao_Paulo:20230624T123000
DTSTAMP:20260424T131216
CREATED:20230612T194001Z
LAST-MODIFIED:20230612T194001Z
UID:46341-1687600800-1687609800@febrapsi.org
SUMMARY:COMPLEXIDADE E CLÍNICA PSICANALÍTICA: UM CAMINHO QUE SE FAZ AO ANDAR
DESCRIPTION:Abertura: \nCARMEN C. MION \nPresidente da SBPSP \nCoordenação: \nANA MARIA STUCCHI VANNUCCHI \nDiretora Científica da SBPSP \nRAHEL BORAKS \nMembro Efetivo\, Analista Didata e membro da equipe da Diretoria Científica da SBPSP \nPalestrante: \nTEREZA ESTARQUE\nPsicanalista\, membro efetivo do Círculo Psicanalítico do Rio de Janeiro\, \nPresidente e Fundadora do Instituto de Estudos da Complexidade \nonde exerce também a função de supervisora desde 2000. \nDoutora em Ciências Sociais (PUCSP) e Pós-Doutorado em Filosofia Política pelo IUPERJ. \nEditora da sessão de Psicanálise da Revue du Mauss desde 2012. \nInvestimento:\nMembros SBPSP\, Febrapsi\, IPA e Fepal: Sem ônus\nProfissionais: R$ 120\,00 \nEstudantes de Graduação\, Alunos dos cursos da DAC\nProfissionais da rede pública: R$ 60\,00\nCotas para profissionais negros\, indígenas e refugiados esgotada 12/4/2023. \nLocal: AUDITÓRIO DA SBPSP\nAv. Dr. Cardoso de Melo\, 1450\, 1º andar\, Vila Olímpia\, São Paulo/SP \nInscrições pelo site: www.sbpsp.org.br\ninformações: fabiana@sbpsp.org.br
URL:https://febrapsi.org/evento/complexidade-e-clinica-psicanalitica-um-caminho-que-se-faz-ao-andar/
LOCATION:Evento híbrido
CATEGORIES:Geral
ATTACH;FMTTYPE=image/png:https://febrapsi.org/storage/2023/06/CARTAZ_TEREZA_ESTARQUE-cota-esgotada.png
ORGANIZER;CN="SBPSP":MAILTO:contato@sbpsp.org.br
END:VEVENT
BEGIN:VEVENT
DTSTART;TZID=America/Sao_Paulo:20230624T100000
DTEND;TZID=America/Sao_Paulo:20230624T123000
DTSTAMP:20260424T131216
CREATED:20230612T194045Z
LAST-MODIFIED:20230612T194045Z
UID:46348-1687600800-1687609800@febrapsi.org
SUMMARY:SPRJ - Jornada: A transferência na clínica psicanalítica
DESCRIPTION:Jornada: A transferência na clínica psicanalítica \nDia – 26 junho de 2023 \nHorário: 10hs \nEvento Híbrido
URL:https://febrapsi.org/evento/sprj-jornada-a-transferencia-na-clinica-psicanalitica/
LOCATION:Evento híbrido
CATEGORIES:Geral
ATTACH;FMTTYPE=image/jpeg:https://febrapsi.org/storage/2023/06/24-06.jpeg
ORGANIZER;CN="SPRJ":MAILTO:sprj.rio1@sprj.org.br
END:VEVENT
BEGIN:VEVENT
DTSTART;TZID=America/Sao_Paulo:20230624T160000
DTEND;TZID=America/Sao_Paulo:20230624T190000
DTSTAMP:20260424T131216
CREATED:20230607T135640Z
LAST-MODIFIED:20230607T135640Z
UID:46281-1687622400-1687633200@febrapsi.org
SUMMARY:O LUGAR DA EXPERIÊNCIA NO TRATAMENTO PSICANALÍTICO OGDEN E WINNICOTT
DESCRIPTION:PSICANÁLISE CONTEMPORÂNEA COMO ARTE DE PENSAR ENTRE-DOIS\nPalestrante: \nLeopoldo Fulgêncio (USP)\nApresentação e coordenação: \nMarisa Grancchelli (SBPSP) \nInvestimento:\nMembros SBPSP\, Febrapsi\, IPA\, Fepal e Estudantes de graduação: Sem ônus\nProfissionais: R$ 60\,00 \n5 Cotas para profissionais negros\, indígenas e refugiados.\nInscrições pelo site: www.sbpsp.org.br\nInformações: fabiana@sbpsp.org.br
URL:https://febrapsi.org/evento/o-lugar-da-experiencia-no-tratamento-psicanalitico-ogden-e-winnicott/
LOCATION:Online – Plataforma Zoom
CATEGORIES:Geral
ATTACH;FMTTYPE=image/png:https://febrapsi.org/storage/2023/06/DCC_24Junho-scaled.png
ORGANIZER;CN="SBPSP":MAILTO:contato@sbpsp.org.br
END:VEVENT
END:VCALENDAR