BEGIN:VCALENDAR
VERSION:2.0
PRODID:-//FEBRAPSI - ECPv6.15.20//NONSGML v1.0//EN
CALSCALE:GREGORIAN
METHOD:PUBLISH
X-WR-CALNAME:FEBRAPSI
X-ORIGINAL-URL:https://febrapsi.org
X-WR-CALDESC:Eventos para FEBRAPSI
REFRESH-INTERVAL;VALUE=DURATION:PT1H
X-Robots-Tag:noindex
X-PUBLISHED-TTL:PT1H
BEGIN:VTIMEZONE
TZID:America/Sao_Paulo
BEGIN:STANDARD
TZOFFSETFROM:-0300
TZOFFSETTO:-0300
TZNAME:-03
DTSTART:20220101T000000
END:STANDARD
END:VTIMEZONE
BEGIN:VEVENT
DTSTART;TZID=America/Sao_Paulo:20230621T200000
DTEND;TZID=America/Sao_Paulo:20230621T210000
DTSTAMP:20260424T131135
CREATED:20230614T132815Z
LAST-MODIFIED:20230615T204814Z
UID:46361-1687377600-1687381200@febrapsi.org
SUMMARY:Cinema e Psicanálise com o tema: Reconciliação afetiva
DESCRIPTION:No dia 21 de Junho\, quarta-feira\, a partir das 20h\, pela plataforma Zoom\, o Grupo de Estudos de Psicanálise de São José do Rio Preto e região\, em parceria com o Portal OQVer promovem o evento Cinema e Psicanálise. \nNesta ocasião discutiremos sobre o filme “Aftersun” – Reino Unido e EUA\, com a direção de Charlotte Wells. \nEsta atividade será mediada pelo Psicanalista Giovani Belintani e nossas convidadas para este nosso “bate papo” são a Psicanalista Adriana Cortelletti Uchôa e a Jornalista e Crítica de Cinema Suzana Uchôa Itiberê. \nPara participar\, basta clicar no link de acesso no dia e no horário divulgado. Não é necessário inscrições prévias e o evento é gratuito. \nRecomendamos que assistam ao filme previamente. “Aftersun” pode ser acessado pelas plataformas Mubi\, iTunes\, YouTube e Google Play. Aguardamos a todos e a todas. \nMais informações e link do evento em: www.gepriopretoeregiao.com.br/cursos-eventos/evento/cinema-e-psicanalise
URL:https://febrapsi.org/evento/cinema-e-psicanalise/
LOCATION:Online – Plataforma Zoom
CATEGORIES:Geral
ATTACH;FMTTYPE=image/png:https://febrapsi.org/storage/2023/06/2023-06-11_-_AftersunPrancheta_1.png
ORGANIZER;CN="GEP Rio Preto e Regi%C3%A3o":MAILTO:gep.riopreto@gmail.com
END:VEVENT
END:VCALENDAR