BEGIN:VCALENDAR
VERSION:2.0
PRODID:-//FEBRAPSI - ECPv6.15.20//NONSGML v1.0//EN
CALSCALE:GREGORIAN
METHOD:PUBLISH
X-WR-CALNAME:FEBRAPSI
X-ORIGINAL-URL:https://febrapsi.org
X-WR-CALDESC:Eventos para FEBRAPSI
REFRESH-INTERVAL;VALUE=DURATION:PT1H
X-Robots-Tag:noindex
X-PUBLISHED-TTL:PT1H
BEGIN:VTIMEZONE
TZID:America/Sao_Paulo
BEGIN:STANDARD
TZOFFSETFROM:-0300
TZOFFSETTO:-0300
TZNAME:-03
DTSTART:20220101T000000
END:STANDARD
END:VTIMEZONE
BEGIN:VEVENT
DTSTART;TZID=America/Sao_Paulo:20230620T200000
DTEND;TZID=America/Sao_Paulo:20230620T213000
DTSTAMP:20260424T131133
CREATED:20230607T135639Z
LAST-MODIFIED:20230607T135639Z
UID:46271-1687291200-1687296600@febrapsi.org
SUMMARY:Cinema & Psicanálise | Filme: Crescer é uma fera? Precisamos falar sobre.
DESCRIPTION:O  Cinema & Psicanálise de Ribeirão Preto de 2023\, acontecerá no próximo dia 20 de junho\, às 20:00h e acontecerá no formato híbrido. O filme em discussão será “RED: Crescer é uma fera”. Com direção: Domee Shi. Os comentários serão realizados por Maria José Bottino Roma e Fernanda Sivaldi Roberti Passalacqua. \n*O Filme não será exibido\, devendo ser assistido previamente. Disponível na Disney+. \nInvestimento: \nR$25\,00 \nVagas limitadas! \n 
URL:https://febrapsi.org/evento/cinema-psicanalise-filme-crescer-e-uma-fera-precisamos-falar-sobre/
LOCATION:Online – Plataforma Zoom
CATEGORIES:Geral
ATTACH;FMTTYPE=image/jpeg:https://febrapsi.org/storage/2023/06/570x727-7.jpg
END:VEVENT
END:VCALENDAR