BEGIN:VCALENDAR
VERSION:2.0
PRODID:-//FEBRAPSI - ECPv6.15.20//NONSGML v1.0//EN
CALSCALE:GREGORIAN
METHOD:PUBLISH
X-WR-CALNAME:FEBRAPSI
X-ORIGINAL-URL:https://febrapsi.org
X-WR-CALDESC:Eventos para FEBRAPSI
REFRESH-INTERVAL;VALUE=DURATION:PT1H
X-Robots-Tag:noindex
X-PUBLISHED-TTL:PT1H
BEGIN:VTIMEZONE
TZID:America/Sao_Paulo
BEGIN:STANDARD
TZOFFSETFROM:-0300
TZOFFSETTO:-0300
TZNAME:-03
DTSTART:20220101T000000
END:STANDARD
END:VTIMEZONE
BEGIN:VEVENT
DTSTART;TZID=America/Sao_Paulo:20230612T200000
DTEND;TZID=America/Sao_Paulo:20230612T220000
DTSTAMP:20260424T131213
CREATED:20230516T133718Z
LAST-MODIFIED:20230516T133718Z
UID:45951-1686600000-1686607200@febrapsi.org
SUMMARY:O PENSAMENTO DE FABIO HERRMANN – PARTE I: AULA 8 | 12 de junho de 2023
DESCRIPTION:AULA 8\n12 de Junho de 2023 \nFERNANDA SOFIO WOOLCOTT\nMembro Efetivo da ApsaA\, (American Psychoanalytical Association) \nLITERATURA E PSICANÁLISE \nOrganização do Curso: \nLeda Herrmann\, \nMaria da Penha Zabani Lanzoni e \nMarilsa Taffarel \ninscrições: www.sbpsp.org.br | fabiana@sbpsp.org.br
URL:https://febrapsi.org/evento/o-pensamento-de-fabio-herrmann-parte-i-aula-8-12-de-junho-de-2023/
LOCATION:Online – Plataforma Zoom
CATEGORIES:Geral
ATTACH;FMTTYPE=image/png:https://febrapsi.org/storage/2023/05/CARTAZ_FABIO_HERRMANN_junho23.png
ORGANIZER;CN="SBPSP":MAILTO:contato@sbpsp.org.br
END:VEVENT
END:VCALENDAR