BEGIN:VCALENDAR
VERSION:2.0
PRODID:-//FEBRAPSI - ECPv6.15.20//NONSGML v1.0//EN
CALSCALE:GREGORIAN
METHOD:PUBLISH
X-WR-CALNAME:FEBRAPSI
X-ORIGINAL-URL:https://febrapsi.org
X-WR-CALDESC:Eventos para FEBRAPSI
REFRESH-INTERVAL;VALUE=DURATION:PT1H
X-Robots-Tag:noindex
X-PUBLISHED-TTL:PT1H
BEGIN:VTIMEZONE
TZID:America/Sao_Paulo
BEGIN:STANDARD
TZOFFSETFROM:-0300
TZOFFSETTO:-0300
TZNAME:-03
DTSTART:20220101T000000
END:STANDARD
END:VTIMEZONE
BEGIN:VEVENT
DTSTART;TZID=America/Sao_Paulo:20230603T100000
DTEND;TZID=America/Sao_Paulo:20230603T120000
DTSTAMP:20260424T131222
CREATED:20230516T133718Z
LAST-MODIFIED:20230516T133718Z
UID:45973-1685786400-1685793600@febrapsi.org
SUMMARY:SPPA Portas Abertas
DESCRIPTION:Quer conhecer melhor a SPPA\, nossos Projetos Científicos e Sociais\, nossa História\, a Formação Psicanalítica no nosso Instituto?\nTe esperamos na nossa sede e na Plataforma Zoom/SPPA\, no dia 03 de junho (sábado)\, às 10h\, para uma apresentação sobre a SPPA e um diálogo entre membros da nossa instituição\, profissionais e estudantes de Psicologia e de Psiquiatria. \nAtividade aberta e gratuita. \nInscrições Antecipadas:\nhttps://forms.gle/Pky8so1gVcHwPkXJA
URL:https://febrapsi.org/evento/sppa-portas-abertas-2/
LOCATION:Evento híbrido
CATEGORIES:Geral
ATTACH;FMTTYPE=image/jpeg:https://febrapsi.org/storage/2023/05/2023-06-03-Portas-Abertas.jpg
ORGANIZER;CN="SPPA":MAILTO:sppa@sppa.org.br
END:VEVENT
BEGIN:VEVENT
DTSTART;TZID=America/Sao_Paulo:20230603T160000
DTEND;TZID=America/Sao_Paulo:20230603T190000
DTSTAMP:20260424T131222
CREATED:20230516T133718Z
LAST-MODIFIED:20230516T133718Z
UID:45954-1685808000-1685818800@febrapsi.org
SUMMARY:O OBJETO SOBREVIVENTE.  WINNICOTT NA LEITURA DE JAN ABRAM.
DESCRIPTION:PSICANÁLISE CONTEMPORÂNEA COMO ARTE DE PENSAR ENTRE-DOIS \nO OBJETO SOBREVIVENTE. WINNICOTT NA LEITURA DE JAN ABRAM. \nPalestrante: \nOlivia Porcaro (SPRJ)\nApresentação e Coordenação: \nNorma L. Semer (SBPSP) \nInvestimento:\nMembros SBPSP\, Febrapsi\, IPA\, Fepal e Estudantes de graduação: Sem ônus\nProfissionais: R$ 60\,00 \n5 Cotas para profissionais negros\, indígenas e refugiados.\nInscrições pelo site: www.sbpsp.org.br\nInformações: fabiana@sbpsp.org.br
URL:https://febrapsi.org/evento/o-objeto-sobrevivente-winnicott-na-leitura-de-jan-abram/
LOCATION:Online – Plataforma Zoom
CATEGORIES:Geral
ATTACH;FMTTYPE=image/png:https://febrapsi.org/storage/2023/05/DCC_3Junho_B.png
ORGANIZER;CN="SBPSP":MAILTO:contato@sbpsp.org.br
END:VEVENT
END:VCALENDAR