BEGIN:VCALENDAR
VERSION:2.0
PRODID:-//FEBRAPSI - ECPv6.15.20//NONSGML v1.0//EN
CALSCALE:GREGORIAN
METHOD:PUBLISH
X-ORIGINAL-URL:https://febrapsi.org
X-WR-CALDESC:Eventos para FEBRAPSI
REFRESH-INTERVAL;VALUE=DURATION:PT1H
X-Robots-Tag:noindex
X-PUBLISHED-TTL:PT1H
BEGIN:VTIMEZONE
TZID:America/Sao_Paulo
BEGIN:STANDARD
TZOFFSETFROM:-0300
TZOFFSETTO:-0300
TZNAME:-03
DTSTART:20220101T000000
END:STANDARD
END:VTIMEZONE
BEGIN:VEVENT
DTSTART;TZID=America/Sao_Paulo:20230602T153000
DTEND;TZID=America/Sao_Paulo:20230602T170000
DTSTAMP:20260424T131430
CREATED:20230519T220801Z
LAST-MODIFIED:20230519T220801Z
UID:46021-1685719800-1685725200@febrapsi.org
SUMMARY:Curso: A Escuta Psicanalítica - na teoria e na prática
DESCRIPTION:Curso: A Escuta Psicanalítica  – na teoria e na prática \nDe 02 de junho a 24 de novemro 2023 \nÀs sextas-feiras\, das 15hs30 às 17hs \nOn-line
URL:https://febrapsi.org/evento/curso-a-escuta-psicanalitica-na-teoria-e-na-pratica/
LOCATION:Online – Plataforma Zoom
CATEGORIES:Geral
ATTACH;FMTTYPE=image/jpeg:https://febrapsi.org/storage/2023/05/Escuta-Psicanalitica-1-inicio-02-06.jpeg
ORGANIZER;CN="SPRJ":MAILTO:sprj.rio1@sprj.org.br
END:VEVENT
END:VCALENDAR