BEGIN:VCALENDAR
VERSION:2.0
PRODID:-//FEBRAPSI - ECPv6.15.20//NONSGML v1.0//EN
CALSCALE:GREGORIAN
METHOD:PUBLISH
X-WR-CALNAME:FEBRAPSI
X-ORIGINAL-URL:https://febrapsi.org
X-WR-CALDESC:Eventos para FEBRAPSI
REFRESH-INTERVAL;VALUE=DURATION:PT1H
X-Robots-Tag:noindex
X-PUBLISHED-TTL:PT1H
BEGIN:VTIMEZONE
TZID:America/Sao_Paulo
BEGIN:STANDARD
TZOFFSETFROM:-0300
TZOFFSETTO:-0300
TZNAME:-03
DTSTART:20220101T000000
END:STANDARD
END:VTIMEZONE
BEGIN:VEVENT
DTSTART;TZID=America/Sao_Paulo:20230526T170000
DTEND;TZID=America/Sao_Paulo:20230527T180000
DTSTAMP:20260424T145459
CREATED:20230413T191700Z
LAST-MODIFIED:20230413T191700Z
UID:45598-1685120400-1685210400@febrapsi.org
SUMMARY:XV JORNADA PSICANÁLISE-BION
DESCRIPTION:ENTRE MEMÓRIAS DO PASSADO E MEMÓRIAS DO FUTURO\n\nEvento Híbrido (Presencial com transmissão on-line pela plataforma zoom)\nAULA INTRODUTÓRIA AO PENSAMENTO DE BION\n26/05 | 17h – 18h45 | Auditório (Híbrido)\nCarmen C. Mion (Presidente da SBPSP)\nCoordenação: Celso Antônio Vieira de Camargo (SBPSP)\nInscrição feita separadamente da jornada pelo site da SBPSP.\nInvestimento: R$ 40\,00 \nPROGRAMA\n26 de maio | sexta-feira\n20h – 22h | ABERTURA | Auditório (Híbrido)\nCarmen C. Mion (Presidente da SBPSP)\nEvelise de Souza Marra (SBPSP)\nCoordenadora da Jornada Psicanálise: Bion\nCONFERÊNCIA com Deocleciano Bendocchi Alves (SBPSP) \n27 de maio | sábado\n9h -11h REUNIÃO CLÍNICA | Auditório (Híbrido)\nApresentadora:\nGisèle de Mattos Brito (SBPSP / SBPMG)\nDebatedores:\nEdival Antonio Lessnau Perrini (SBPSP / GPC)\nMarta Prada e Silva (SBPSP / SBPCamp)\nMiguel Marques (SBPSP / SBPRP)\nCoordenador: Julio Frochtengarten (SBPSP) \n11h30 – 13h | PEQUENOS GRUPOS DE LIVRE ESCOLHA\nGRUPOS PRESENCIAIS:\nCoordenadores:\nAlicia Beatriz Dorado de Lisondo (SBPSP / SBPCamp)\nDarcy Portolese (SBPSP)\nEvelise de Souza Marra (SBPSP)\nMaria Bernadete Amêndola Contart de Assis (SBPSP / SBPRP) \nGRUPOS ON-LINE:\nCoordenadores:\nRenato Trachtenberg (SBPdePA)\nLuiz Tenório de Oliveira Lima (SBPSP) \n13h – 14h30 | Almoço \n14h30 – 16h30 | PEQUENOS GRUPOS DE LIVRE ESCOLHA\nEM APRESENTAÇÕES TEÓRICAS SOBRE O TEMA:\nEntre memórias do passado e memórias do futuro \nGRUPOS PRESENCIAIS:\nArnaldo Chuster (SPRJ)\nCoordenadora: Thais Helena Thomé Marques (SBPRP) \nLuiz Carlos Uchôa Junqueira Filho (SBPSP)\nCoordenador: Luiz Fernando Nóbrega (SBPSP) \nPaulo Cesar Sandler (SBPSP)\nCoordenadora: Ana Maria Stucchi Vannucchi (SBPSP) \nPaulo de Morais Mendonça Ribeiro (SBPSP / SBPRP)\nCoordenador: José Neves (SBPSP) \nGRUPOS ON-LINE:\nJoão Carlos Braga (SBPSP / GPC)\nCoordenador: Adriana Maria Nagali de Oliveira (SBPSP / SBPCAM) \nCelso Antônio Vieira de Camargo (SBPSP)\nCoordenador: Cicero José Campos Brasiliano (SBPSP) \nClaudio Castelo Filho (SBPSP)\nCoordenadora: Anne Lise Silveira Sandoval Scappaticci (SBPSP) \n16h45 -18h | Encerramento no auditório (Híbrido)\nCONVERSA FINAL COM OS PARTICIPANTES\nCoordenação: Evelise de Souza Marra (SBPSP)\nAna Maria Stucchi Vannucchi (Diretora Científica da SBPSP) \nComissão Organizadora:\nCoordenadora: Evelise de Souza Marra (SBPSP)\nAna Maria Stucchi Vannucchi (SBPSP)\nCecil José Rezze (SBPSP)\nCelso Antonio Vieira de Camargo (SBPSP)\nJoão Carlos Braga (SBPSP)\nJulio Frochtengarten (SBPSP) \nINSCRIÇÕES: WWW.SBPSP.ORG.BR \nINFORMAÇÕES: adele.lacotis@sbpsp.org.br \nLOCAL: AUDITÓRIO SBPSP | Av. Dr. Cardoso de Melo\, 1450\, 1º andar\, Vila Olímpia\, São Paulo/SP \nINVESTIMENTO: \n\nAULA INTRODUTÓRIA: R$ 40\,00\nJORNADA:\nProfissionais: R$ 230\,00\nMembros SBPSP e Febrapsi: R$ 140\,00\nMembros filiados\, candidatos Febrapsi e alunos DAC: R$ 100\,00\nCotas para profissionais negros\, indígenas e refugiados esgotada 12/4/2023!\nALMOÇO POR ADESÃO NA SBPSP: R$80\,00
URL:https://febrapsi.org/evento/xv-jornada-psicanalise-bion/
LOCATION:Sede SBPSP\, Av. Dr. Cardoso de Melo\, 1450\, 9ª andar\, São Paulo\, São Paulo\, 04548005\, Brasil
CATEGORIES:Geral
ATTACH;FMTTYPE=image/png:https://febrapsi.org/storage/2023/04/JORNADA-BION-2023_cota-esgotada.png
ORGANIZER;CN="SBPSP":MAILTO:contato@sbpsp.org.br
END:VEVENT
BEGIN:VEVENT
DTSTART;TZID=America/Sao_Paulo:20230527T090000
DTEND;TZID=America/Sao_Paulo:20230527T120000
DTSTAMP:20260424T145459
CREATED:20230310T131746Z
LAST-MODIFIED:20230310T131746Z
UID:44993-1685178000-1685188800@febrapsi.org
SUMMARY:Minicurso:  Os Transtornos Alimentares à Luz da Psicanálise: O Mundo Objetal Anoréxico e a Violência Bulímica
DESCRIPTION:Dia 27/05/23 \nDas 09 às 12hs \nCondenação do Curso: Marina Ramalho Miranda \nInvestimento \nPúblico Externo: R$ 50\,00 para profissionais.\nSem ônus: Membros\, Candidatos da SPRPE\, Estudantes de\nGraduação e profissionais com deficiência\, negros\, indígenas\, refugiados em concordância com as Ações Afirmativas. \n 
URL:https://febrapsi.org/evento/minicurso-os-transtornos-alimentares-a-luz-da-psicanalise-o-mundo-objetal-anorexico-e-a-violencia-bulimica/
LOCATION:Online – Plataforma Zoom
CATEGORIES:Geral
ATTACH;FMTTYPE=image/jpeg:https://febrapsi.org/storage/2023/03/WhatsApp-Image-2023-03-09-at-15.16.56-1.jpeg
ORGANIZER;CN="SPRPE":MAILTO:contato@spr-pe.org.br
END:VEVENT
BEGIN:VEVENT
DTSTART;TZID=America/Sao_Paulo:20230527T100000
DTEND;TZID=America/Sao_Paulo:20230527T100000
DTSTAMP:20260424T145459
CREATED:20230519T220802Z
LAST-MODIFIED:20230519T220802Z
UID:46018-1685181600-1685181600@febrapsi.org
SUMMARY:Jornada: A transferência na clínica psicanalítica
DESCRIPTION:Jornada – A transferência na clínica psicanalítica – \n27 de maio de 2023 – Segundo encontro \nEvento híbrido \n 
URL:https://febrapsi.org/evento/jornada-a-transferencia-na-clinica-psicanalitica/
LOCATION:Evento híbrido
CATEGORIES:Geral
ATTACH;FMTTYPE=image/jpeg:https://febrapsi.org/storage/2023/05/27-05-2023.jpeg
ORGANIZER;CN="SPRJ":MAILTO:sprj.rio1@sprj.org.br
END:VEVENT
END:VCALENDAR