BEGIN:VCALENDAR
VERSION:2.0
PRODID:-//FEBRAPSI - ECPv6.15.20//NONSGML v1.0//EN
CALSCALE:GREGORIAN
METHOD:PUBLISH
X-WR-CALNAME:FEBRAPSI
X-ORIGINAL-URL:https://febrapsi.org
X-WR-CALDESC:Eventos para FEBRAPSI
REFRESH-INTERVAL;VALUE=DURATION:PT1H
X-Robots-Tag:noindex
X-PUBLISHED-TTL:PT1H
BEGIN:VTIMEZONE
TZID:America/Sao_Paulo
BEGIN:STANDARD
TZOFFSETFROM:-0300
TZOFFSETTO:-0300
TZNAME:-03
DTSTART:20220101T000000
END:STANDARD
END:VTIMEZONE
BEGIN:VEVENT
DTSTART;TZID=America/Sao_Paulo:20230526T133000
DTEND;TZID=America/Sao_Paulo:20230526T150000
DTSTAMP:20260424T145501
CREATED:20230428T201711Z
LAST-MODIFIED:20230428T201711Z
UID:45857-1685107800-1685113200@febrapsi.org
SUMMARY:Experiências em grupos: chave para compreender Bion. Conversando com Giuseppe Civitarese
DESCRIPTION:Convidamos para a atividade Experiências em grupos: chave para compreender Bion. Conversando com Giuseppe Civitarese\, no dia 26 de maio\, das 13h30min às 15h\, na Plataforma Zoom/SPPA. \nConvidado:\nGiuseppe Civitarese\nPsicanalista didata da Sociedade Psicanalítica Italiana. Dentre os seus principais temas de interesse\, estão os modelos pós-bionianos de mente e o campo analítico. Agraciado com o prêmio Sigourney 2022 pela sua relevante contribuição ao avanço do conhecimento psicanalítico. \nCoordenação:\nCátia Olivier Mello (Diretora Científica SPPA) \nAtividade online e aberta\nInscrições Antecipadas:\nhttps://forms.gle/gVAQgvfKm3qEqine9 \nValores:\nProfissionais: 180\,00\nEstudantes: 90\,00 \nMembros SPPA: Isentos \nAtenciosamente\,\nMaria Cristina Garcia Vasconcellos – Presidente da SPPA\nCátia Olivier Mello – Diretora Científica da SPPA
URL:https://febrapsi.org/evento/experiencias-em-grupos-chave-para-compreender-bion-conversando-com-giuseppe-civitarese/
LOCATION:Online – Plataforma Zoom
CATEGORIES:Geral
ATTACH;FMTTYPE=image/jpeg:https://febrapsi.org/storage/2023/04/2023-05-26-1-Civitarese.jpg
ORGANIZER;CN="SPPA":MAILTO:sppa@sppa.org.br
END:VEVENT
BEGIN:VEVENT
DTSTART;TZID=America/Sao_Paulo:20230526T163000
DTEND;TZID=America/Sao_Paulo:20230526T180000
DTSTAMP:20260424T145501
CREATED:20230517T184806Z
LAST-MODIFIED:20230519T220802Z
UID:46024-1685118600-1685124000@febrapsi.org
SUMMARY:Curso: O trabalho do psicanalista fora do consultório (4 encontros)
DESCRIPTION:Curso: O trabalho do psicanalista fora do consultório (encontros) \nOn-line
URL:https://febrapsi.org/evento/curso-o-trabalho-do-psicanalista-fora-do-consultorio-4-encontros/
LOCATION:Online – Plataforma Zoom
CATEGORIES:Geral
ATTACH;FMTTYPE=image/jpeg:https://febrapsi.org/storage/2023/05/Curso-Jorge-Broide.-5-2023jpeg.jpeg
ORGANIZER;CN="SPRJ":MAILTO:sprj.rio1@sprj.org.br
END:VEVENT
BEGIN:VEVENT
DTSTART;TZID=America/Sao_Paulo:20230526T170000
DTEND;TZID=America/Sao_Paulo:20230527T180000
DTSTAMP:20260424T145501
CREATED:20230413T191700Z
LAST-MODIFIED:20230413T191700Z
UID:45598-1685120400-1685210400@febrapsi.org
SUMMARY:XV JORNADA PSICANÁLISE-BION
DESCRIPTION:ENTRE MEMÓRIAS DO PASSADO E MEMÓRIAS DO FUTURO\n\nEvento Híbrido (Presencial com transmissão on-line pela plataforma zoom)\nAULA INTRODUTÓRIA AO PENSAMENTO DE BION\n26/05 | 17h – 18h45 | Auditório (Híbrido)\nCarmen C. Mion (Presidente da SBPSP)\nCoordenação: Celso Antônio Vieira de Camargo (SBPSP)\nInscrição feita separadamente da jornada pelo site da SBPSP.\nInvestimento: R$ 40\,00 \nPROGRAMA\n26 de maio | sexta-feira\n20h – 22h | ABERTURA | Auditório (Híbrido)\nCarmen C. Mion (Presidente da SBPSP)\nEvelise de Souza Marra (SBPSP)\nCoordenadora da Jornada Psicanálise: Bion\nCONFERÊNCIA com Deocleciano Bendocchi Alves (SBPSP) \n27 de maio | sábado\n9h -11h REUNIÃO CLÍNICA | Auditório (Híbrido)\nApresentadora:\nGisèle de Mattos Brito (SBPSP / SBPMG)\nDebatedores:\nEdival Antonio Lessnau Perrini (SBPSP / GPC)\nMarta Prada e Silva (SBPSP / SBPCamp)\nMiguel Marques (SBPSP / SBPRP)\nCoordenador: Julio Frochtengarten (SBPSP) \n11h30 – 13h | PEQUENOS GRUPOS DE LIVRE ESCOLHA\nGRUPOS PRESENCIAIS:\nCoordenadores:\nAlicia Beatriz Dorado de Lisondo (SBPSP / SBPCamp)\nDarcy Portolese (SBPSP)\nEvelise de Souza Marra (SBPSP)\nMaria Bernadete Amêndola Contart de Assis (SBPSP / SBPRP) \nGRUPOS ON-LINE:\nCoordenadores:\nRenato Trachtenberg (SBPdePA)\nLuiz Tenório de Oliveira Lima (SBPSP) \n13h – 14h30 | Almoço \n14h30 – 16h30 | PEQUENOS GRUPOS DE LIVRE ESCOLHA\nEM APRESENTAÇÕES TEÓRICAS SOBRE O TEMA:\nEntre memórias do passado e memórias do futuro \nGRUPOS PRESENCIAIS:\nArnaldo Chuster (SPRJ)\nCoordenadora: Thais Helena Thomé Marques (SBPRP) \nLuiz Carlos Uchôa Junqueira Filho (SBPSP)\nCoordenador: Luiz Fernando Nóbrega (SBPSP) \nPaulo Cesar Sandler (SBPSP)\nCoordenadora: Ana Maria Stucchi Vannucchi (SBPSP) \nPaulo de Morais Mendonça Ribeiro (SBPSP / SBPRP)\nCoordenador: José Neves (SBPSP) \nGRUPOS ON-LINE:\nJoão Carlos Braga (SBPSP / GPC)\nCoordenador: Adriana Maria Nagali de Oliveira (SBPSP / SBPCAM) \nCelso Antônio Vieira de Camargo (SBPSP)\nCoordenador: Cicero José Campos Brasiliano (SBPSP) \nClaudio Castelo Filho (SBPSP)\nCoordenadora: Anne Lise Silveira Sandoval Scappaticci (SBPSP) \n16h45 -18h | Encerramento no auditório (Híbrido)\nCONVERSA FINAL COM OS PARTICIPANTES\nCoordenação: Evelise de Souza Marra (SBPSP)\nAna Maria Stucchi Vannucchi (Diretora Científica da SBPSP) \nComissão Organizadora:\nCoordenadora: Evelise de Souza Marra (SBPSP)\nAna Maria Stucchi Vannucchi (SBPSP)\nCecil José Rezze (SBPSP)\nCelso Antonio Vieira de Camargo (SBPSP)\nJoão Carlos Braga (SBPSP)\nJulio Frochtengarten (SBPSP) \nINSCRIÇÕES: WWW.SBPSP.ORG.BR \nINFORMAÇÕES: adele.lacotis@sbpsp.org.br \nLOCAL: AUDITÓRIO SBPSP | Av. Dr. Cardoso de Melo\, 1450\, 1º andar\, Vila Olímpia\, São Paulo/SP \nINVESTIMENTO: \n\nAULA INTRODUTÓRIA: R$ 40\,00\nJORNADA:\nProfissionais: R$ 230\,00\nMembros SBPSP e Febrapsi: R$ 140\,00\nMembros filiados\, candidatos Febrapsi e alunos DAC: R$ 100\,00\nCotas para profissionais negros\, indígenas e refugiados esgotada 12/4/2023!\nALMOÇO POR ADESÃO NA SBPSP: R$80\,00
URL:https://febrapsi.org/evento/xv-jornada-psicanalise-bion/
LOCATION:Sede SBPSP\, Av. Dr. Cardoso de Melo\, 1450\, 9ª andar\, São Paulo\, São Paulo\, 04548005\, Brasil
CATEGORIES:Geral
ATTACH;FMTTYPE=image/png:https://febrapsi.org/storage/2023/04/JORNADA-BION-2023_cota-esgotada.png
ORGANIZER;CN="SBPSP":MAILTO:contato@sbpsp.org.br
END:VEVENT
BEGIN:VEVENT
DTSTART;TZID=America/Sao_Paulo:20230526T180000
DTEND;TZID=America/Sao_Paulo:20230526T193000
DTSTAMP:20260424T145501
CREATED:20230519T220802Z
LAST-MODIFIED:20230519T220802Z
UID:46014-1685124000-1685129400@febrapsi.org
SUMMARY:Reflexões Psicanalíticas Sobre Obra Literária
DESCRIPTION:Reflexões Psicanalítica – Sobre Obra Literária \nMachado de Assis – Pai contra Mãe \nDia 26 de maio de 2023 – às 18hs \nEvento: on-line
URL:https://febrapsi.org/evento/reflexoes-psicanaliticas-sobre-obra-literaria/
LOCATION:Online – Plataforma Zoom
CATEGORIES:Geral
ATTACH;FMTTYPE=image/jpeg:https://febrapsi.org/storage/2023/05/26-05-2023.jpeg
ORGANIZER;CN="SPRJ":MAILTO:sprj.rio1@sprj.org.br
END:VEVENT
END:VCALENDAR