BEGIN:VCALENDAR
VERSION:2.0
PRODID:-//FEBRAPSI - ECPv6.15.20//NONSGML v1.0//EN
CALSCALE:GREGORIAN
METHOD:PUBLISH
X-WR-CALNAME:FEBRAPSI
X-ORIGINAL-URL:https://febrapsi.org
X-WR-CALDESC:Eventos para FEBRAPSI
REFRESH-INTERVAL;VALUE=DURATION:PT1H
X-Robots-Tag:noindex
X-PUBLISHED-TTL:PT1H
BEGIN:VTIMEZONE
TZID:America/Sao_Paulo
BEGIN:STANDARD
TZOFFSETFROM:-0300
TZOFFSETTO:-0300
TZNAME:-03
DTSTART:20220101T000000
END:STANDARD
END:VTIMEZONE
BEGIN:VEVENT
DTSTART;TZID=America/Sao_Paulo:20230413T210000
DTEND;TZID=America/Sao_Paulo:20230413T230000
DTSTAMP:20260424T163353
CREATED:20230411T130531Z
LAST-MODIFIED:20230411T130531Z
UID:45540-1681419600-1681426800@febrapsi.org
SUMMARY:Evento Preparatório para o 5º Congresso de Psicanálise de Língua Portuguesa
DESCRIPTION:“Escravidão e Liberdade: Travessias do Corpo”  – 13/04/2023 – Qui – 21h | via Zoom\nParticipantes convidados:\nEloá Bittencourt\nSBPRJ / Diretora Comunidade e Cultura FEBRAPSI\nMiguel Sayad\nSBPRJ\nNey Marinho\nSBPRJ\nPedro Gomes\nSBPRJ\nWania Cidade\nCoordenadora GT Descolonização do Pensamento SBPRJ / presidente FEPAL\nSônia Beatriz dos Santos (Comentadora) \nAluna do Instituto da SBPRJ\nEvento gratuito\nAcesso pelo link:\nJoin Zoom Meeting\nhttps://us02web.zoom.us/j/86427167458?pwd=WVlPWnlkTEhJamZzbnluM0JhRytTUT09\nOrganização do Conselho Científico em parceria com o GT de Descolonização do Pensamento.
URL:https://febrapsi.org/evento/evento-preparatorio-para-o-5o-congresso-de-psicanalise-de-lingua-portuguesa/
LOCATION:Evento Online
CATEGORIES:Geral
ATTACH;FMTTYPE=image/png:https://febrapsi.org/storage/2023/04/Post-SITE-55.png
ORGANIZER;CN="SBPRJ":MAILTO:sbprj@sbprj.org.br
END:VEVENT
END:VCALENDAR