BEGIN:VCALENDAR
VERSION:2.0
PRODID:-//FEBRAPSI - ECPv6.15.20//NONSGML v1.0//EN
CALSCALE:GREGORIAN
METHOD:PUBLISH
X-ORIGINAL-URL:https://febrapsi.org
X-WR-CALDESC:Eventos para FEBRAPSI
REFRESH-INTERVAL;VALUE=DURATION:PT1H
X-Robots-Tag:noindex
X-PUBLISHED-TTL:PT1H
BEGIN:VTIMEZONE
TZID:America/Sao_Paulo
BEGIN:STANDARD
TZOFFSETFROM:-0300
TZOFFSETTO:-0300
TZNAME:-03
DTSTART:20220101T000000
END:STANDARD
END:VTIMEZONE
BEGIN:VEVENT
DTSTART;TZID=America/Sao_Paulo:20230411T193000
DTEND;TZID=America/Sao_Paulo:20230411T210000
DTSTAMP:20260424T163541
CREATED:20230324T181341Z
LAST-MODIFIED:20230324T181341Z
UID:45066-1681241400-1681246800@febrapsi.org
SUMMARY:Nem todas baleias voam\, de Afonso Cruz\, será o tema do Café Literário da Psicanalítica do dia 11 de abril (terça-feira)\, às 19h30\, na plataforma Zoom/SPPA
DESCRIPTION:A conversa será entre Lea Masina (Crítica Literária e Professora de Literatura) e Rui de Mesquita Annes (Psicanalista da SPPA)\, com a coordenação da Psicanalista Maria Regina Limeira Ortiz. \nInscrições antecipadas:\nhttps://us06web.zoom.us/webinar/register/WN_2ImlHaLiTkSwvOeg5TIYqQ \nAtividade aberta e gratuita. \nAtenciosamente\,\nMaria Cristina Garcia Vasconcellos – Presidente\nEleonora Abbud Spinelli – Diretora de Divulgação e Ações junto à Comunidade \nMaria Regina Limeira Ortiz – Coordenadora do Café Literário 
URL:https://febrapsi.org/evento/nem-todas-baleias-voam-de-afonso-cruz-sera-o-tema-do-cafe-literario-da-psicanalitica-do-dia-11-de-abril-terca-feira-as-19h30-na-plataforma-zoom-sppa/
LOCATION:Online – Plataforma Zoom
CATEGORIES:Geral
ATTACH;FMTTYPE=image/jpeg:https://febrapsi.org/storage/2023/03/2023-04-11-Cafe-Literario.jpeg
ORGANIZER;CN="SPPA":MAILTO:sppa@sppa.org.br
END:VEVENT
BEGIN:VEVENT
DTSTART;TZID=America/Sao_Paulo:20230411T203000
DTEND;TZID=America/Sao_Paulo:20230411T220000
DTSTAMP:20260424T163541
CREATED:20230330T140520Z
LAST-MODIFIED:20230330T140520Z
UID:45396-1681245000-1681250400@febrapsi.org
SUMMARY:PALESTRA COM BERNARD CHERVET E ROTRAUT HELENE DE CLERCK
DESCRIPTION:DA NACHTRÄGLICHKEIT AO APRÈSCOUP\, \nO EM-DOIS-TEMPOS E O ENTRE-DOIS-TEMPOS \nDO PENSAMENTO HUMANO E DO DESEJO\nO après-coup é o método de que dispõe a psique para tratar essas tendências traumáticas correlacionadas com os inúmeros traumas diurnos. Ele permite a regeneração libidinal do psiquismo e dos investimentos objetais. Independentemente do lugar que tal conceito ocupa em corpora metapsicológicos das escolas psicanalíticas\, o trabalho de sessão tenta tornar eficientes esse processo e suas funções.\nAbertura: \nCARMEN C. MION \nPresidente da SBPSP \nCoordenação: \nANA MARIA STUCCHI VANNUCCHI \nDiretora Científica da SBPSP \nPalestrantes: \nBERNARD CHERVET\nMembro do Board e Diretoria\, Sociedade Psicanalítica de Paris (1994-2015). Secretário Científico\,- SPP (2002-2005). Analista Formador (2004-). Secretário do Conselho Científico e Técnico\,- SPP (2007-2009). Vice-Presidente- SPP (2009-2011). Presidente- SPP (2011-2015). Chair do Comitê de Pesquisa e Desenvolvimento\,- SPP (2015-). Diretor do Congresso de Psicanalistas de Língua Francesa\, -SPP (2015-2023). Prêmio Bouvet (2018) 250 artigos/13 livros. Representante da Europa no Board da IPA -(2019-2021-2023). Representante da Europa no Comitê Executivo da IPA- (2021-). Après-coup em Psicanálise (Livro lançado em 2022) \nROTRAUT HELENE DE CLERCK\nAnalista Formador do Instituto Psicanalítico de Frankfurt (FPI). Pós-graduação da Formação na British Psychoanalitic Institute (Londres). Chair do Comitê Científico FPI (Frankfurt) 2006-2011. Chair do Comitê de Formação MPI (Instituto de Psicanálise de Mainz) 2010-2014. Chair do Comitê de Formação FPI (Frankfurt) 2014-2016. Chair do Grupo Psicanálise e Literatura EPF (Federação Européia de Psicanalise) (2017-). Consultora do Comitê de Cultura da IPA (2019-) \nLocal: AUDITÓRIO DA SBPSP\nAv. Dr. Cardoso de Melo\, 1450\, 1º andar\, Vila Olímpia\, São Paulo-SP \nInscrição gratuita para Membros e Filiados SBPSP / FEPAL / IPA \nInscrições pelo e-mail: mayara.lopes@sbpsp.org.br \n  \n 
URL:https://febrapsi.org/evento/palestra-com-bernard-chervet-e-rotraut-helene-de-clerck/
LOCATION:Sede SBPSP\, Av. Dr. Cardoso de Melo\, 1450\, 9ª andar\, São Paulo\, São Paulo\, 04548005\, Brasil
CATEGORIES:Geral
ATTACH;FMTTYPE=image/png:https://febrapsi.org/storage/2023/03/CARTAZ_BERNARD-CHERVET-scaled.png
ORGANIZER;CN="SBPSP":MAILTO:contato@sbpsp.org.br
END:VEVENT
END:VCALENDAR