BEGIN:VCALENDAR
VERSION:2.0
PRODID:-//FEBRAPSI - ECPv6.15.20//NONSGML v1.0//EN
CALSCALE:GREGORIAN
METHOD:PUBLISH
X-ORIGINAL-URL:https://febrapsi.org
X-WR-CALDESC:Eventos para FEBRAPSI
REFRESH-INTERVAL;VALUE=DURATION:PT1H
X-Robots-Tag:noindex
X-PUBLISHED-TTL:PT1H
BEGIN:VTIMEZONE
TZID:America/Sao_Paulo
BEGIN:STANDARD
TZOFFSETFROM:-0300
TZOFFSETTO:-0300
TZNAME:-03
DTSTART:20220101T000000
END:STANDARD
END:VTIMEZONE
BEGIN:VEVENT
DTSTART;VALUE=DATE:20230401
DTEND;VALUE=DATE:20230402
DTSTAMP:20260424T163542
CREATED:20230215T194038Z
LAST-MODIFIED:20230320T171519Z
UID:44533-1680307200-1680393599@febrapsi.org
SUMMARY:I Ciclo de debate da Ação Afirmativa em um diálogo com a Psicanalise: Negritude/Branquitude
DESCRIPTION:     Dia: 01 abril de 2023 das 08:45 as 13:15\n\nConvidados:\nCida Bento – Dra. em Psicologia pela USP; co-fundadora do Ceert-centro de estudos das relações de trabalho e desigualdades\nIsildinha Nogueira – Doutora em Psicologia Escolar e Desenvolvimento Humano pela USP; formação em psicanálise nos ateliers em Paris\nOscar Vilhena – Professor de Direito FGV-SP; Fundador do Conectas Direitos Humanos\, defendeu a Ação Afirmativa no STF\nWania Cidade– Membro da SBPRJ (Sociedade Brasileira do Rio de Janeiro) Atual Presidente da FEPAL\nCoordenação:\nSandra Paraíso Sampaio Membro Associado e atual diretora científica da SPRPE\nCarolina Cavalcanti Henriques – Membro Efetivo e atual Presidente da SPRPE\n\n\nInvestimento:\nPúblico Externo: R$ 50\,00 para profissionais.\nSem ônus: Membros\, Candidatos da SPRPE\, Estudantes de Graduação e profissionais com deficiência\, negros\, indígenas\, refugiados em concordância com as Ações Afirmativas.\n\n\n Informações e Inscrições: SPRPE\nTelefones: (81) 98609.0196 – 98609.0198\nE-mail: sprsecretaria@uol.com.br\n\n 
URL:https://febrapsi.org/evento/i-ciclo-de-debate-das-acoes-afirmativas-num-dialogo-com-a-psicanalise-negritude-branquitude/
LOCATION:Online – Plataforma Zoom
CATEGORIES:Geral
ATTACH;FMTTYPE=image/jpeg:https://febrapsi.org/storage/2023/02/I-Ciclo-Cartaz--scaled.jpg
ORGANIZER;CN="SPRPE":MAILTO:contato@spr-pe.org.br
END:VEVENT
BEGIN:VEVENT
DTSTART;TZID=America/Sao_Paulo:20230401T083000
DTEND;TZID=America/Sao_Paulo:20230401T180000
DTSTAMP:20260424T163542
CREATED:20230208T182909Z
LAST-MODIFIED:20230208T182909Z
UID:44405-1680337800-1680372000@febrapsi.org
SUMMARY:1º DIÁLOGO PSICANALÍTICO BRASIL - FRANÇA
DESCRIPTION:DIÁLOGOS PSICANALÍTICOS BRASIL – FRANÇA\n \nNo sábado 1º de abril de 2023 realizaremos o 1º Diálogos Psicanalíticos Brasil – França. Esse encontro reúne as 6 Sociedades brasileiras (SBPPA\, SPPA\, SBPRJ\, SBP Brasília\, SBP Campinas e a SBPSP) que participam anualmente do Congresso de Psicanalistas de Língua Francesa (CPLF)  e tem como objetivo aproximar os psicanalistas brasileiros das ideias dos autores que apresentaram seu relatório sobre um tema no último CPLF.\n \nVale deixar uma breve explicação sobre o CPLF. Os grupos de estudo de cerca de 20 países recebem no final de setembro de cada ano\, dois relatórios escritos por dois psicanalistas de Sociedades diferentes pertencentes ao grupo. Os autores começam a preparar esses relatórios\, que são temáticos\, com anos de antecedência.\n \nEsse formato de congresso nos parece muito interessante\, uma vez que todos os Grupos de estudo das Sociedades que participam começam a discutir com oito meses de antecedência os dois trabalhos. Durante o congresso a discussão se faz em sessões plenárias com todos os participantes\, os dois autores e dois comentadores\, e num segundo momento em pequenos grupos\, propiciando um grande “mergulho” no tema.\n \nGostaríamos de convidá-los a participar do 1º Diálogos Psicanalíticos Brasil – França que contarão com nossa convidada a Sra. Josiane Chambrier-Slama\, Membro Titular e Analista Formadora da Sociedade Psicanalítica de Paris\, que escreveu seu relatório sobre o tema do CPLF 2022\, O objeto\, o outro. Uma tradução do relatório encontra-se disponível na Biblioteca da SBPSP. Além disso\, o formato se inspira no do CPLF\, com uma grande sessão plenária e depois vários ateliês para discutir as ideias trazidas pela colega francesa e pela discussão plenária.\n \nHAVERÁ TRADUÇÃO SIMULTÂNEA.
URL:https://febrapsi.org/evento/1o-dialogo-psicanalitico-brasil-franca/
LOCATION:Sede SBPSP\, Av. Dr. Cardoso de Melo\, 1450\, 9ª andar\, São Paulo\, São Paulo\, 04548005\, Brasil
CATEGORIES:Geral
ATTACH;FMTTYPE=image/png:https://febrapsi.org/storage/2023/02/CARTAZ-BRASIL-FRANCA.png
ORGANIZER;CN="SBPSP":MAILTO:contato@sbpsp.org.br
END:VEVENT
END:VCALENDAR