BEGIN:VCALENDAR
VERSION:2.0
PRODID:-//FEBRAPSI - ECPv6.15.20//NONSGML v1.0//EN
CALSCALE:GREGORIAN
METHOD:PUBLISH
X-WR-CALNAME:FEBRAPSI
X-ORIGINAL-URL:https://febrapsi.org
X-WR-CALDESC:Eventos para FEBRAPSI
REFRESH-INTERVAL;VALUE=DURATION:PT1H
X-Robots-Tag:noindex
X-PUBLISHED-TTL:PT1H
BEGIN:VTIMEZONE
TZID:America/Sao_Paulo
BEGIN:STANDARD
TZOFFSETFROM:-0300
TZOFFSETTO:-0300
TZNAME:-03
DTSTART:20220101T000000
END:STANDARD
END:VTIMEZONE
BEGIN:VEVENT
DTSTART;TZID=America/Sao_Paulo:20230309T210000
DTEND;TZID=America/Sao_Paulo:20230330T230000
DTSTAMP:20260424T182316
CREATED:20230215T194156Z
LAST-MODIFIED:20230228T203714Z
UID:44562-1678395600-1680217200@febrapsi.org
SUMMARY:Eventos de lançamento Revista TRIEB - O PSICANALISTA
DESCRIPTION:Convidamos para os eventos em comemoração ao lançamento de O PSICANALISTA\, em parceria com o Conselho Científico da SBPRJ.\nNo dia 09 de março\, 5ªfeira\, às 21h\, teremos a Sessão Clínica Aquele que É está vivo\, com a apresentação de Maria do Carmo Palhares  \n– psicanalista da SBPRJ e membro do Grupo Brasileiro de Pesquisas Sándor Ferenczi e comentários de Celso Gutfreind – psicanalista da SBPdePA e autor de diversos livros.\nATIVIDADE RESTRITA PARA MEMBROS E CANDIDATOS FEBRAPSI. Inscrições pelo e-mail: sbprj@sbprj.org.br  \nNo dia 30 de março\, 5ª-feira\, às 21h\, será uma Roda de Conversa entre os psicanalistas entrevistados no número e o público: Virginia Ungar – psicanalista da APdeBA e ex-presidente da IPA (2017-2021)\, Daniel Kupermann – psicanalista\, professor livre-docente do Instituto de Psicologia da USP\, presidente do Grupo Brasileiro de Pesquisas Sándor Ferenczi e autor de vários livros e Elias Mallet da Rocha Barros – psicanalista da SBPSP e Distinguished Member da British Psychoanalytical Society and Institute. \nAcesso pelo link: https://us02web.zoom.us/j/85858086258?pwd=YWtvc0xIL0JSZlBYamJTT2ltYnNvZz09 \nMeeting ID: 858 5808 6258  / Passcode: 307623 \nOs eventos serão on-line\, pela plataforma Zoom e os links estarão disponíveis no link => https://bit.ly/3xusIz2 . A edição da revista é digital e o acesso é livre\, direto no site https://www.sbprj.org.br/revista-trieb ou pelo link https://bit.ly/3Kb9mqy\nCom um forte abraço e até breve\,\nEquipe Editorial TRIEB\nEditoras: Magda Costa\, Maria Elisa Alvarenga\, Maria Noel Sertã\nColaboradora: Inês Basto
URL:https://febrapsi.org/evento/eventos-de-lancamento-revista-trieb-o-psicanalista/
LOCATION:Evento Online
CATEGORIES:Geral
ATTACH;FMTTYPE=image/png:https://febrapsi.org/storage/2023/02/Post-SITE-31.png
END:VEVENT
BEGIN:VEVENT
DTSTART;TZID=America/Sao_Paulo:20230314T193000
DTEND;TZID=America/Sao_Paulo:20230314T210000
DTSTAMP:20260424T182316
CREATED:20230303T184542Z
LAST-MODIFIED:20230303T184542Z
UID:44818-1678822200-1678827600@febrapsi.org
SUMMARY:WEBINAR AULA INAUGURAL DO CINAPSIA 2023
DESCRIPTION:CONFERÊNCIA: “A PRÁTICA COM CRIANÇAS E ADOLESCENTES EM TEMPOS DE INCERTEZAS’’\nPalestrante: \nVIRGINIA UNGAR\nMédica Psicanalista\, membro titular e didata da Associación Psicoanalítica de Buenos Aires (APdeBA). Especialista em Psicanálise de Crianças e Adolescentes\, foi coordenadora do Comitê de Psicanálise de Crianças e Adolescentes e do Comitê para Formação Integrada da International Psychoanalytical Association (IPA).Recebeu o Prêmio Konex de Platino 2016\, em Humanidades\, seção Psicanálise\, como a personalidade mais destacada da última década. Foi presidente da International Psychoanalytical Association (IPA)\, de 2017 a 2021\, sendo a primeira mulher eleita para este cargo. \nComitê de boas vindas aos novos alunos: \nDARCY ANTONIO PORTOLESE\nDiretor da DAC \nNORMA LOTTENBERG SEMER\nCoordenadora geral e do 1º ano do CINAPSIA \nIARA BONDIOLI DE SOUZA NOTO\nCoordenadora do 2º ano do CINAPSIA \nOrganização: Corpo docente do CINAPSIA \nAlessandra R. Gordon\, Ana M. Rocca Rivarola\, Elizabeth Lombardi\, Fatima M. Vieira Batistelli\, Iara Bondioli Noto\, Joice Calza Macedo\, Ligia T. Lessa Mattos\, Mariângela M. de Almeida\, Maria Lucia F.S. Campos\, M.Regina Junqueira\, M. Thereza de B. França\, Marília Amaro\, Norma L. Semer\, Raquel Andreucci P. Gomes\, Rosely Garrafa (colaboradora) e Tânia M. Zalcberg. \nEVENTO ON-LINE COM \nTRADUÇÃO SIMULTÂNEA\nna plataforma ZOOM. \nINSCRIÇÕES: \nsite: sbpsp.org.br\ne-mail: fabiana@sbpsp.org.br \nINVESTIMENTO:\nMembros da SBPSP\, ALUNOS E \nEX-ALUNOS DO CINAPSIA: Sem Ônus\nPúblico externo: R$ 100\,00.
URL:https://febrapsi.org/evento/webinar-aula-inaugural-do-cinapsia-2023/
LOCATION:Online – Plataforma Zoom
CATEGORIES:Geral
ATTACH;FMTTYPE=image/png:https://febrapsi.org/storage/2023/02/AULA-1-CINAPSIA-23.png
ORGANIZER;CN="SBPSP":MAILTO:contato@sbpsp.org.br
END:VEVENT
BEGIN:VEVENT
DTSTART;TZID=America/Sao_Paulo:20230314T203000
DTEND;TZID=America/Sao_Paulo:20230314T203000
DTSTAMP:20260424T182316
CREATED:20230217T181839Z
LAST-MODIFIED:20230217T181839Z
UID:44609-1678825800-1678825800@febrapsi.org
SUMMARY:Reflexão Psicanalítica: Pensamento Psicanalítico de Thomas Ogden e sua aplicação na clínica
DESCRIPTION:Convidado:  \n\nEdival Perrini – Membro Titular com funções didáticas e Docente/ SBPSP/GPC\n\nData: 14 de março de 2023 (Terça-feira)  as  20:30hs\nINVESTIMENTO: \n\nPúblico Externo: R$ 40\,00 para profissionais.\nSem ônus: Membros\, Candidatos da SPRPE\, Estudantes de Graduação e profissionais com deficiência\, negros\, indígenas\, refugiados em concordância com as Ações Afirmativas.\n\nINFORMAÇÕES: SPRPE \n\nTelefones: 81 – 98609.0196 – 98609.0198\nEmail: sprsecretaria@uol.com.br\n\nPlataforma: Zoom/Híbrido
URL:https://febrapsi.org/evento/reflexao-psicanalitica-pensamento-psicanalitico-de-thomas-ogden-e-sua-aplicacao-na-clinica/
LOCATION:Online – Plataforma Zoom
CATEGORIES:Geral
ATTACH;FMTTYPE=image/jpeg:https://febrapsi.org/storage/2023/02/WhatsApp-Image-2023-02-16-at-15.30.20.jpeg
ORGANIZER;CN="SPRPE":MAILTO:contato@spr-pe.org.br
END:VEVENT
END:VCALENDAR