BEGIN:VCALENDAR
VERSION:2.0
PRODID:-//FEBRAPSI - ECPv6.15.20//NONSGML v1.0//EN
CALSCALE:GREGORIAN
METHOD:PUBLISH
X-WR-CALNAME:FEBRAPSI
X-ORIGINAL-URL:https://febrapsi.org
X-WR-CALDESC:Eventos para FEBRAPSI
REFRESH-INTERVAL;VALUE=DURATION:PT1H
X-Robots-Tag:noindex
X-PUBLISHED-TTL:PT1H
BEGIN:VTIMEZONE
TZID:America/Sao_Paulo
BEGIN:STANDARD
TZOFFSETFROM:-0300
TZOFFSETTO:-0300
TZNAME:-03
DTSTART:20220101T000000
END:STANDARD
END:VTIMEZONE
BEGIN:VEVENT
DTSTART;TZID=America/Sao_Paulo:20230309T210000
DTEND;TZID=America/Sao_Paulo:20230330T230000
DTSTAMP:20260424T182315
CREATED:20230215T194156Z
LAST-MODIFIED:20230228T203714Z
UID:44562-1678395600-1680217200@febrapsi.org
SUMMARY:Eventos de lançamento Revista TRIEB - O PSICANALISTA
DESCRIPTION:Convidamos para os eventos em comemoração ao lançamento de O PSICANALISTA\, em parceria com o Conselho Científico da SBPRJ.\nNo dia 09 de março\, 5ªfeira\, às 21h\, teremos a Sessão Clínica Aquele que É está vivo\, com a apresentação de Maria do Carmo Palhares  \n– psicanalista da SBPRJ e membro do Grupo Brasileiro de Pesquisas Sándor Ferenczi e comentários de Celso Gutfreind – psicanalista da SBPdePA e autor de diversos livros.\nATIVIDADE RESTRITA PARA MEMBROS E CANDIDATOS FEBRAPSI. Inscrições pelo e-mail: sbprj@sbprj.org.br  \nNo dia 30 de março\, 5ª-feira\, às 21h\, será uma Roda de Conversa entre os psicanalistas entrevistados no número e o público: Virginia Ungar – psicanalista da APdeBA e ex-presidente da IPA (2017-2021)\, Daniel Kupermann – psicanalista\, professor livre-docente do Instituto de Psicologia da USP\, presidente do Grupo Brasileiro de Pesquisas Sándor Ferenczi e autor de vários livros e Elias Mallet da Rocha Barros – psicanalista da SBPSP e Distinguished Member da British Psychoanalytical Society and Institute. \nAcesso pelo link: https://us02web.zoom.us/j/85858086258?pwd=YWtvc0xIL0JSZlBYamJTT2ltYnNvZz09 \nMeeting ID: 858 5808 6258  / Passcode: 307623 \nOs eventos serão on-line\, pela plataforma Zoom e os links estarão disponíveis no link => https://bit.ly/3xusIz2 . A edição da revista é digital e o acesso é livre\, direto no site https://www.sbprj.org.br/revista-trieb ou pelo link https://bit.ly/3Kb9mqy\nCom um forte abraço e até breve\,\nEquipe Editorial TRIEB\nEditoras: Magda Costa\, Maria Elisa Alvarenga\, Maria Noel Sertã\nColaboradora: Inês Basto
URL:https://febrapsi.org/evento/eventos-de-lancamento-revista-trieb-o-psicanalista/
LOCATION:Evento Online
CATEGORIES:Geral
ATTACH;FMTTYPE=image/png:https://febrapsi.org/storage/2023/02/Post-SITE-31.png
END:VEVENT
BEGIN:VEVENT
DTSTART;TZID=America/Sao_Paulo:20230311T090000
DTEND;TZID=America/Sao_Paulo:20230311T110000
DTSTAMP:20260424T182315
CREATED:20230303T183920Z
LAST-MODIFIED:20230411T132100Z
UID:44879-1678525200-1678532400@febrapsi.org
SUMMARY:Curso “A dimensão metapsicológica e o pensamento clínico na obra de André Green”
DESCRIPTION:SAVE THE DATE – A partir de março\, a Sociedade Brasileira de Psicanálise de Goiânia promoverá o curso “A dimensão metapsicológica e o pensamento clínico na obra de André Green” que será coordenado por Zelig Libermann\, psiquiatra e analista didata da SPPA. \nO curso é aberto para membros da FEBRAPSI\, analistas em formação e também para profissionais e estudantes de psicologia e áreas afins. \nO curso será realizado pela plataforma Zoom. \n11/3 – das 9h às 11h (sábado) \n13/5 – das 9h às 11 (sábado) \n22/6 – das 20h às 22h (quinta) \nInscrições: (62) 99442-3723
URL:https://febrapsi.org/evento/curso-a-dimensao-metapsicologica-e-o-pensamento-clinico-na-obra-de-andre-green/
LOCATION:Evento Online
CATEGORIES:Geral
ATTACH;FMTTYPE=image/png:https://febrapsi.org/storage/2023/03/curso-sbpg-andre-green-3.png
ORGANIZER;CN="SBPG":MAILTO:gepg@gepg.com.br
END:VEVENT
BEGIN:VEVENT
DTSTART;TZID=America/Sao_Paulo:20230311T103000
DTEND;TZID=America/Sao_Paulo:20230311T123000
DTSTAMP:20260424T182315
CREATED:20230303T184542Z
LAST-MODIFIED:20230303T184542Z
UID:44808-1678530600-1678537800@febrapsi.org
SUMMARY:ABERTURA DAS ATIVIDADES CIENTÍFICAS 2023
DESCRIPTION:“Complexidade e clínica psicanalítica”\nAbertura: \nCARMEN C. MION (Presidente da SBPSP) \nCoordenação: \nANA MARIA STUCCHI VANNUCCHI (Diretora Científica da SBPSP) e \nJOSÉ LOPES DAS NEVES NETO\nInterlocução com a Comissão Científica da SBPSP. \nPalestrante:\nARNALDO CHUSTER\nMédico psiquiatra e psicanalista. Mestre em Educação de Ensino Superior. Doutor em Psicologia médica. \nMembro efetivo e analista didata da Sociedade Psicanalítica do Rio de Janeiro e do Newport Psychoanalytical Institute\, California. \nMembro honorário e professor do Instituto W. Bion\, Porto Alegre. Autor e co-autor em 19 livros e 376 trabalhos publicados. \nCoordenador de grupos de estudos sobre a obra de W. Bion no Brasil e no exterior. \n\nEvento gratuito para \nMembros da SBPSP e FEBRAPSI.
URL:https://febrapsi.org/evento/abertura-das-atividades-cientificas-2023/
LOCATION:Sede SBPSP\, Av. Dr. Cardoso de Melo\, 1450\, 9ª andar\, São Paulo\, São Paulo\, 04548005\, Brasil
CATEGORIES:Geral
ATTACH;FMTTYPE=image/png:https://febrapsi.org/storage/2023/02/CARTAZ_ABERTURA_DC_2023.png
ORGANIZER;CN="SBPSP":MAILTO:contato@sbpsp.org.br
END:VEVENT
BEGIN:VEVENT
DTSTART;TZID=America/Sao_Paulo:20230311T150000
DTEND;TZID=America/Sao_Paulo:20230311T180000
DTSTAMP:20260424T182315
CREATED:20230308T132804Z
LAST-MODIFIED:20230308T132804Z
UID:44892-1678546800-1678557600@febrapsi.org
SUMMARY:Curso de extensão - Estudo da obra de W.R.Bion
DESCRIPTION:Curso de extensão – Estudo da obra de W.R.Bion \nSobre o curso: \nO curso será ministrado através de uma “leitura vivenciada” do livro indicado associando com os textos do próprio Bion\nLivro: A psicanálise com Wilfred Bion François Lévy – Ed Blucher\n \nCoordenador: \nCarlos de Almeida Vieira –  Escritor\, analista didata da SPBsb (Sociedade de Psicanálise de Brasília) e membro efetivo da SBPSP (Sociedade Brasileira de Psicanálise de São Paulo)\n \nPeríodo: \n11/03 a 09/12/2023 – 2º sábado de cada mês\n \nValor: \nProfissionais – R$ 300\,00 por mês\nEstudantes – R$ 250\,00 por mês
URL:https://febrapsi.org/evento/curso-de-extensao-estudo-da-obra-de-w-r-bion/
LOCATION:Evento Online
CATEGORIES:Geral
ATTACH;FMTTYPE=image/jpeg:https://febrapsi.org/storage/2023/03/Cartaz-Bion-2023.jpg
ORGANIZER;CN="SPBsb":MAILTO:spbsb@spbsb.org.br
END:VEVENT
END:VCALENDAR