BEGIN:VCALENDAR
VERSION:2.0
PRODID:-//FEBRAPSI - ECPv6.15.20//NONSGML v1.0//EN
CALSCALE:GREGORIAN
METHOD:PUBLISH
X-ORIGINAL-URL:https://febrapsi.org
X-WR-CALDESC:Eventos para FEBRAPSI
REFRESH-INTERVAL;VALUE=DURATION:PT1H
X-Robots-Tag:noindex
X-PUBLISHED-TTL:PT1H
BEGIN:VTIMEZONE
TZID:America/Sao_Paulo
BEGIN:STANDARD
TZOFFSETFROM:-0300
TZOFFSETTO:-0300
TZNAME:-03
DTSTART:20220101T000000
END:STANDARD
END:VTIMEZONE
BEGIN:VEVENT
DTSTART;TZID=America/Sao_Paulo:20230302T210000
DTEND;TZID=America/Sao_Paulo:20230302T230000
DTSTAMP:20260424T182506
CREATED:20230213T172953Z
LAST-MODIFIED:20230302T204812Z
UID:44441-1677790800-1677798000@febrapsi.org
SUMMARY:Aula de abertura dos cursos do Instituto 2023
DESCRIPTION:Caros colegas\,\n \nÉ com imensa satisfação que iniciamos o nosso primeiro ano letivo\, como nova diretoria do Instituto de Ensino e Formação Psicanalítica da SBPRJ\, através da aula de abertura\, que aborda um tema fundamental: “A ética da Psicanálise hoje”. \nNa história recente vemos se multiplicarem propostas de formação de psicanalistas em cursos sem qualquer verossimilhança com a Psicanálise legada por Freud. Logo\, é hora de reafirmarmos os princípios básicos que nos constituem. A ética do trabalho clínico com o inconsciente\, a ética da transmissão da Psicanálise\, a ética do cuidado com os analisandos\, a ética de uma Psicanálise inclusiva. \nCom o seu saber teórico\, a sua imensa experiência clinica\, docente e institucional\, Claudio Eizirik certamente nos brindará com uma exposição ampla e reflexiva\, que abrirá as portas de um importante debate. \nAguardamos vocês para este início de promissores encontros. \n \nAna Sabrosa\nDiretora do Instituto\n \nBernard Miodownik\nVice-diretor do Instituto\n \nNazli Sasson\nSecretária do Instituto\n \n/Link de acesso ao Código de Ética da SBPRJ => https://bit.ly/3HHqNMg\nA PARTIR DAS 18h do dia 02/03 => INSCRIÇÕES PARA MEMBROS E CANDIDATOS FEBRAPSI PELO E-MAIL: tesourariasbprj2@gmail.com
URL:https://febrapsi.org/evento/aula-de-abertura-dos-cursos-do-instituto-2023/
LOCATION:Evento Online
CATEGORIES:Geral
ATTACH;FMTTYPE=image/png:https://febrapsi.org/storage/2023/02/AULA-INAUGURAL-1.png
ORGANIZER;CN="SBPRJ":MAILTO:sbprj@sbprj.org.br
END:VEVENT
END:VCALENDAR