BEGIN:VCALENDAR
VERSION:2.0
PRODID:-//FEBRAPSI - ECPv6.15.20//NONSGML v1.0//EN
CALSCALE:GREGORIAN
METHOD:PUBLISH
X-ORIGINAL-URL:https://febrapsi.org
X-WR-CALDESC:Eventos para FEBRAPSI
REFRESH-INTERVAL;VALUE=DURATION:PT1H
X-Robots-Tag:noindex
X-PUBLISHED-TTL:PT1H
BEGIN:VTIMEZONE
TZID:America/Sao_Paulo
BEGIN:STANDARD
TZOFFSETFROM:-0300
TZOFFSETTO:-0300
TZNAME:-03
DTSTART:20220101T000000
END:STANDARD
END:VTIMEZONE
BEGIN:VEVENT
DTSTART;TZID=America/Sao_Paulo:20230211T093000
DTEND;TZID=America/Sao_Paulo:20230211T113000
DTSTAMP:20260424T201412
CREATED:20230120T211447Z
LAST-MODIFIED:20230120T211447Z
UID:44284-1676107800-1676115000@febrapsi.org
SUMMARY:AULA INAUGURAL  - Tema: Estados mentais não representados
DESCRIPTION:“A psicanálise nasceu e floresceu identificando e trabalhando estados mentais não representados. Uma de suas fronteiras contemporâneas é a proposta de Bion de ser a mente uma fina camada encobrindo a imensidão infinita do não representado. A posição em que o analista precisa estar é o ponto em que este não representado fica disponível.” (Dr João Carlos Braga) \nEvento híbrido \nInvestimento: \nEstudantes: R$ 50\,00 \nProfissionais: R$ 100\,00 \nMembros da SBPRP: Gratuito \nNegros(as)\, Pardos(as) e Indígenas: Gratuito \nVagas limitadas! \n  \nPolítica de Devolução de Valores: \n– A desistência deverá ser solicitada exclusivamente pelo e-mail sbprp.financeiro@gmail.com\, informando o nome completo da pessoa inscrita\, CPF e dados bancários para depósito da devolução do valor da inscrição; \n– A devolução dar-se-á em até 30 dias após o término do evento\, via depósito na conta informada no e-mail de solicitação de cancelamento; \n– Desistências informadas até 20 dias antes do evento terão direito a 50% do valor pago; \n– Desistências informadas até 7 dias antes do evento terão direito a 30% do valor pago; \n– Desistências informadas após 7 dias antes do evento não terão direito a devolução de valores. \nPalestrantes: \nJOÃO CARLOS BRAGA \n  \nMaiores informações e inscrições: https://sbprp.org.br/proximos-eventos/
URL:https://febrapsi.org/evento/aula-inaugural-tema-estados-mentais-nao-representados/
LOCATION:Evento híbrido
CATEGORIES:Geral
ATTACH;FMTTYPE=image/png:https://febrapsi.org/storage/2023/01/Cartaz-3.png
ORGANIZER;CN="SBPRP":MAILTO:sbprp.secretaria@gmail.com
END:VEVENT
END:VCALENDAR