BEGIN:VCALENDAR
VERSION:2.0
PRODID:-//FEBRAPSI - ECPv6.15.20//NONSGML v1.0//EN
CALSCALE:GREGORIAN
METHOD:PUBLISH
X-ORIGINAL-URL:https://febrapsi.org
X-WR-CALDESC:Eventos para FEBRAPSI
REFRESH-INTERVAL;VALUE=DURATION:PT1H
X-Robots-Tag:noindex
X-PUBLISHED-TTL:PT1H
BEGIN:VTIMEZONE
TZID:America/Sao_Paulo
BEGIN:STANDARD
TZOFFSETFROM:-0300
TZOFFSETTO:-0300
TZNAME:-03
DTSTART:20220101T000000
END:STANDARD
END:VTIMEZONE
BEGIN:VEVENT
DTSTART;TZID=America/Sao_Paulo:20230104T193000
DTEND;TZID=America/Sao_Paulo:20230208T204500
DTSTAMP:20260424T201320
CREATED:20221114T182807Z
LAST-MODIFIED:20221114T182807Z
UID:43924-1672860600-1675889100@febrapsi.org
SUMMARY:CICLO ONLINE DE ESTUDOS DE VERÃO 2023 -  “Conceitos fundamentais da obra Freudiana: uma revisão metapsicológica”
DESCRIPTION:CICLO ONLINE DE ESTUDOS DE VERÃO SOBRE TEORIA PSICANALÍTICA 2023\nDestinado a estudantes e profissionais de Psicologia e Psiquiatria \n“Conceitos fundamentais da obra Freudiana: uma revisão metapsicológica”\n \nCoordenadora: Kátia Ferreira Jung\n(Psicóloga\, Psicanalista\, Mestre em Psicologia Clínica\, Docente e Supervisora do IEPP\, Membro Efetivo da SPPA) \n04 de janeiro a 08 de fevereiro\n(quartas-feiras)\, das 19h30 às 20h45 \nInscrições Antecipadas:\nhttps://forms.gle/nEQtvTtYVUCLB9haA \nInvestimento Total\nEstudantes de Graduação: R$ 180\,00\nProfissionais: R$ 250\,00 \nDuração de 6 encontros – frequência semanal\nPlataforma: Google Classroom\nVagas: 15 alunos por curso
URL:https://febrapsi.org/evento/ciclo-online-de-estudos-de-verao-2023-conceitos-fundamentais-da-obra-freudiana-uma-revisao-metapsicologica/
LOCATION:Evento Online
CATEGORIES:Geral
ATTACH;FMTTYPE=image/jpeg:https://febrapsi.org/storage/2022/11/2023-01-Ciclo-de-estudos.jpeg
ORGANIZER;CN="SPPA":MAILTO:sppa@sppa.org.br
END:VEVENT
BEGIN:VEVENT
DTSTART;TZID=America/Sao_Paulo:20230208T190000
DTEND;TZID=America/Sao_Paulo:20230208T223000
DTSTAMP:20260424T201320
CREATED:20230208T182831Z
LAST-MODIFIED:20230411T131458Z
UID:44406-1675882800-1675895400@febrapsi.org
SUMMARY:Seminários On-line: Freud
DESCRIPTION:A partir de 08/02 iniciam-se os Seminários de Freud promovidos pela SBPGoiânia. \nOs módulos serão coordenados pelos professores José Carlos Calich\, analista didata da SPPA e Fernando L. Kunzler\, analista didata da SBPdePA. \nOs seminários são abertos a candidatos e membros da FEBRAPSI. \nValor: R$60\,00 / módulo \nInscreva-se: (62) 99442-3723
URL:https://febrapsi.org/evento/seminarios-on-line-freud/
LOCATION:Evento Online
CATEGORIES:Geral
ATTACH;FMTTYPE=image/png:https://febrapsi.org/storage/2023/02/1.png
ORGANIZER;CN="SBPG":MAILTO:gepg@gepg.com.br
END:VEVENT
END:VCALENDAR