BEGIN:VCALENDAR
VERSION:2.0
PRODID:-//FEBRAPSI - ECPv6.15.20//NONSGML v1.0//EN
CALSCALE:GREGORIAN
METHOD:PUBLISH
X-WR-CALNAME:FEBRAPSI
X-ORIGINAL-URL:https://febrapsi.org
X-WR-CALDESC:Eventos para FEBRAPSI
REFRESH-INTERVAL;VALUE=DURATION:PT1H
X-Robots-Tag:noindex
X-PUBLISHED-TTL:PT1H
BEGIN:VTIMEZONE
TZID:America/Sao_Paulo
BEGIN:STANDARD
TZOFFSETFROM:-0300
TZOFFSETTO:-0300
TZNAME:-03
DTSTART:20210101T000000
END:STANDARD
END:VTIMEZONE
BEGIN:VEVENT
DTSTART;TZID=America/Sao_Paulo:20220930T100000
DTEND;TZID=America/Sao_Paulo:20221216T113000
DTSTAMP:20260424T234406
CREATED:20220914T124154Z
LAST-MODIFIED:20220914T162759Z
UID:43069-1664532000-1671190200@febrapsi.org
SUMMARY:Curso Os Primórdios da Psicossomática na Obra de Freud
DESCRIPTION:ASSOCIAÇÃO INTERNACIONAL DE PSICOSSOMÁTICA PIERRE MARTY (AIPPM)                                                                                IPSO-BRASIL \nRio de Janeiro\, 14 de setembro de 2022. \nCaros colegas\, \n \nNo último dia 11/06/22 houve\, em Paris\, a eleição da nova diretoria da Associação Internacional de Psicossomática Pierre Marty (AIPPM). Nessa ocasião foi eleita a nova presidente Christine Saint-Paul Laffont\, de Toulouse\, e dois vice presidentes\, Iacovos Cleopas\, de Atenas e Admar Horn do Rio de Janeiro. O colega Claude Smadja de Paris foi designado Conselheiro da atual diretoria. Durante a reunião foram feitas várias proposições\, entre elas\, a criação do IPSO-BRASIL\, reagrupando o IPSO-São Paulo\, coordenado pela colega Diana Tabacof e o IPSO-RIO coordenado por Admar Horn\, ambos membros titulares e formadores de novos membros\, do Instituto de Psicossomática de Paris. O IPSO-Brasil tem agora como objetivo expandir os conhecimentos de psicossomática psicanalítica para as demais sociedades brasileiras de psicanálise filiadas à IPA. \n\n \nEssa proposta foi aceita por todos os participantes e como projeto inicial do IPSO-BRASIL teremos nesse segundo semestre de 2022\, quatro seminários que serão ministrados pelo colega Claude SMADJA\, nas seguintes datas: 30 de setembro; 28 de outubro; 25 de novembro e 16 de dezembro\, todos no horário das 10h às 11h30 (sextas-feiras). \n\nHaverá tradução simultânea para o português e essa atividade estará aberta para todas as Sociedades Brasileiras de Psicanálise filiadas à IPA. O tema a ser tratado será: « Os primórdios da psicossomática na obra de Freud ». \n\n \nGostaríamos de contar com a presença de todos os colegas interessados no tema proposto. Nos próximos dias enviaremos as informações práticas para as inscrições nesses seminários ofertados pelo IPSO-BRASIL. \n\n \nQualquer dúvida favor entrar em contato com os organizadores do curso promovido pelo Centro de Estudos da SBPRJ – Admar Horn (21) 988653050 e Margaret Waddington Binder (21) 994847979. \n\n \nAtenciosamente\, \n\n \nComponentes do IPSO-BRASIL : \n\n \nAdmar Horn\nVice-presidente da AIPPM\, Membro Titular Formador do IPSO-Paris\, Membro da SPP(Paris) e Membro da SBPRJ(RJ)\n\n \nDiana Tabacof \n\nMembro Titular da AIPPM\, Vice-presidente e Membro Formador do IPSO-Paris e Membro da SPP(Paris)\n\n \nMargaret Waddington Binder \n\nMembro Titular da AIPPM\, Membro Titular do IPSO-Paris e Membro da SBPRJ(RJ)\n\n \nCândida Holovko \n\nMembro da AIPPM\, Membro do IPSO-Paris e Membro da SBPSP(SP)\n\n \nEliana Rache \n\nMembro da AIPPM\, Membro do IPSO-Paris\, e Membro da SBPSP(SP)\n_____________________________________________________________________________________________________\n \nDatas: 30/09\, 28/10\, 25/11 e 16/12 (sextas-feiras) 10h – 11h30 | via Zoom \nMinistrado por Claude Smadja\, psicanalista\, membro titular\, formador da Sociedade de Psicanálise de Paris. Ex-médico chefe do Instituto de Psicossomática de Paris. Fundador e ex-presidente da Associação Internacional de Psicossomática Pierre Marty. Co-fundador da Revista Francesa de Psicossomática. Autor dos livros: A vida operatória e Os modelos psicanalíticos da psicossomática. Centenas de artigos de Psicossomática Psicanalítica publicados. \nEmenta: \nA Teoria da Escola de Psicossomática de Paris é de grande valia para nós\, psicanalistas da atualidade\, que\, com frequência\, fazemos atendimentos onde há uma neurose e ao mesmo tempo uma doença orgânica ou sintomas orgânicos e\, também\, cada vez mais atendemos pacientes da tão falada Clínica do Vazio. Toda uma teoria\, construída a partir da metapsicologia freudiana\, utilizando o conceito de neurose atual de Freud\, o aparelho psíquico dividido em instâncias\, a última concepção de trauma\, a segunda teoria das pulsões e\, também\, a última concepção do masoquismo\, de 1924\, com as noções de intrincação e desintrincação pulsional. A partir daí\, surgem os conceitos de mentalização\, pensamento operatório\, depressão essencial e desorganização progressiva\, entre tantos outros. \nGratuito para profissionais psicanalistas e psicanalistas em formação: negros\, indígenas e refugiados. Inscrições pelo e-mail: sbprj@sbprj.org.br \nRealização:  \nAssociação Internacional de Psicossomática Pierre Marty (AIPPM) \nIPSO-Brasil \nCentro de Estudos Psicanalíticos SBPRJ
URL:https://febrapsi.org/evento/curso-os-primordios-da-psicossomatica-na-obra-de-freud/
LOCATION:Online – Plataforma Zoom
CATEGORIES:Geral
ATTACH;FMTTYPE=image/png:https://febrapsi.org/storage/2022/09/1.png
ORGANIZER;CN="SBPRJ":MAILTO:sbprj@sbprj.org.br
END:VEVENT
BEGIN:VEVENT
DTSTART;TZID=America/Sao_Paulo:20221213T193000
DTEND;TZID=America/Sao_Paulo:20221213T210000
DTSTAMP:20260424T234406
CREATED:20221114T182827Z
LAST-MODIFIED:20221114T182827Z
UID:43914-1670959800-1670965200@febrapsi.org
SUMMARY:Café Literário da Psicanalítica - O Grande Gatsby\, de F. Scott Fitzgerald
DESCRIPTION:O Grande Gatsby\, de F. Scott Fitzgerald\, será o tema do Café Literário da Psicanalítica do dia 13 de dezembro (terça-feira)\, às 19h30\, na plataforma Zoom/SPPA.  \nA conversa será entre: Fernando Brum (Professor de Literatura\, Doutor pela UFRGS) e Luisa Maria Nunes Vieira Rizzo (Psicanalista da SPPA)\, com a coordenação da Psicanalista Maria Regina Limeira Ortiz. \nInscrições antecipadas:\nhttps://us06web.zoom.us/webinar/register/WN_5tSnMr1sR0-SnDPuuWe1Aw \nAtividade aberta e gratuita. \nAtenciosamente\,\nMaria Cristina Garcia Vasconcellos – Presidente\nEleonora Abbud Spinelli – Diretora de Divulgação e Ações junto à Comunidade \nMaria Regina Limeira Ortiz – Coordenadora do Café Literário 
URL:https://febrapsi.org/evento/cafe-literario-da-psicanalitica-o-grande-gatsby-de-f-scott-fitzgerald/
LOCATION:Online – Plataforma Zoom
CATEGORIES:Geral
ATTACH;FMTTYPE=image/jpeg:https://febrapsi.org/storage/2022/11/2022-12-13-Cafe-Literario-Grande-Gatsby.jpeg
ORGANIZER;CN="SPPA":MAILTO:sppa@sppa.org.br
END:VEVENT
END:VCALENDAR