BEGIN:VCALENDAR
VERSION:2.0
PRODID:-//FEBRAPSI - ECPv6.15.20//NONSGML v1.0//EN
CALSCALE:GREGORIAN
METHOD:PUBLISH
X-WR-CALNAME:FEBRAPSI
X-ORIGINAL-URL:https://febrapsi.org
X-WR-CALDESC:Eventos para FEBRAPSI
REFRESH-INTERVAL;VALUE=DURATION:PT1H
X-Robots-Tag:noindex
X-PUBLISHED-TTL:PT1H
BEGIN:VTIMEZONE
TZID:America/Sao_Paulo
BEGIN:STANDARD
TZOFFSETFROM:-0300
TZOFFSETTO:-0300
TZNAME:-03
DTSTART:20210101T000000
END:STANDARD
END:VTIMEZONE
BEGIN:VEVENT
DTSTART;TZID=America/Sao_Paulo:20220726T200000
DTEND;TZID=America/Sao_Paulo:20220726T200000
DTSTAMP:20260425T081425
CREATED:20220629T181607Z
LAST-MODIFIED:20220629T181607Z
UID:42530-1658865600-1658865600@febrapsi.org
SUMMARY:Atividade conjunta: Sociedade Psicanalítica de Porto Alegre (SPPA) e Liga de Psiquiatria e Saúde Mental da UFRGS e da UFCSPA (LIPSAM): “Por que e como a Psicanálise?”
DESCRIPTION:Atividade conjunta: Sociedade Psicanalítica de Porto Alegre (SPPA) e Liga de Psiquiatria e Saúde Mental da UFRGS e da UFCSPA (LIPSAM):\n“Por que e como a Psicanálise?”\nPalestrante: Eneida Iankilevich (Psicanalista SPPA)\nCoordenadoras: Julia Domingues Goi (SPPA) e Julia Wengrover (Diretora de Cultura da Liga de Psiquiatra e Saúde Mental)\nData: 26 de julho (terça-feira)\nHorário: 20h\nLocal: Plataforma Zoom/SPPA \nInscrições Antecipadas:\nhttps://us06web.zoom.us/webinar/register/WN_hUfYiVBnR2GlywRQcPXjlw\nAtividade aberta e gratuita.
URL:https://febrapsi.org/evento/atividade-conjunta-sociedade-psicanalitica-de-porto-alegre-sppa-e-liga-de-psiquiatria-e-saude-mental-da-ufrgs-e-da-ufcspa-lipsam-por-que-e-como-a-psicanalise/
LOCATION:Online – Plataforma Zoom
CATEGORIES:Geral
ATTACH;FMTTYPE=image/jpeg:https://febrapsi.org/storage/2022/06/2022-07-26-LIPSAM.jpeg
ORGANIZER;CN="SPPA":MAILTO:sppa@sppa.org.br
END:VEVENT
END:VCALENDAR