BEGIN:VCALENDAR
VERSION:2.0
PRODID:-//FEBRAPSI - ECPv6.15.20//NONSGML v1.0//EN
CALSCALE:GREGORIAN
METHOD:PUBLISH
X-WR-CALNAME:FEBRAPSI
X-ORIGINAL-URL:https://febrapsi.org
X-WR-CALDESC:Eventos para FEBRAPSI
REFRESH-INTERVAL;VALUE=DURATION:PT1H
X-Robots-Tag:noindex
X-PUBLISHED-TTL:PT1H
BEGIN:VTIMEZONE
TZID:America/Sao_Paulo
BEGIN:STANDARD
TZOFFSETFROM:-0300
TZOFFSETTO:-0300
TZNAME:-03
DTSTART:20210101T000000
END:STANDARD
END:VTIMEZONE
BEGIN:VEVENT
DTSTART;TZID=America/Sao_Paulo:20220714T203000
DTEND;TZID=America/Sao_Paulo:20220714T203000
DTSTAMP:20260425T081426
CREATED:20220629T181537Z
LAST-MODIFIED:20220629T181537Z
UID:42526-1657830600-1657830600@febrapsi.org
SUMMARY:SPPA 60 anos. Em pauta: Nossa história
DESCRIPTION:Convidamos para SPPA 60 anos. Em pauta: Nossa história\, no dia 14 de julho (quinta-feira)\, às 20h30\, na Plataforma Zoom/SPPA. \nConvidados:\nPaulo Gilberto Fagundes Visentini (Historiador e Professor de Relações Internacionais UFRGS)\nGermano Wollmer Filho (Psicanalista\, Membro Efetivo e Analista Didata SPPA)\nIsaac Pechansky (Psicanalista\, Membro Efetivo e Analista Didata SPPA)\nCoordenação:\nMaria Cristina Garcia Vasconcellos (Presidente SPPA) \nInscrições Antecipadas:\nhttps://us06web.zoom.us/webinar/register/WN_SRkrlTyDRZaCUCCgSNtoeA\nAtividade aberta e gratuita
URL:https://febrapsi.org/evento/sppa-60-anos-em-pauta-nossa-historia/
LOCATION:Online – Plataforma Zoom
CATEGORIES:Geral
ATTACH;FMTTYPE=image/jpeg:https://febrapsi.org/storage/2022/06/2022-07-14-60-anos.jpeg
ORGANIZER;CN="SPPA":MAILTO:sppa@sppa.org.br
END:VEVENT
END:VCALENDAR