BEGIN:VCALENDAR
VERSION:2.0
PRODID:-//FEBRAPSI - ECPv6.15.20//NONSGML v1.0//EN
CALSCALE:GREGORIAN
METHOD:PUBLISH
X-ORIGINAL-URL:https://febrapsi.org
X-WR-CALDESC:Eventos para FEBRAPSI
REFRESH-INTERVAL;VALUE=DURATION:PT1H
X-Robots-Tag:noindex
X-PUBLISHED-TTL:PT1H
BEGIN:VTIMEZONE
TZID:America/Sao_Paulo
BEGIN:STANDARD
TZOFFSETFROM:-0300
TZOFFSETTO:-0300
TZNAME:-03
DTSTART:20210101T000000
END:STANDARD
END:VTIMEZONE
BEGIN:VEVENT
DTSTART;TZID=America/Sao_Paulo:20220707T203000
DTEND;TZID=America/Sao_Paulo:20220707T220000
DTSTAMP:20260425T081440
CREATED:20220620T124710Z
LAST-MODIFIED:20220620T124710Z
UID:42440-1657225800-1657231200@febrapsi.org
SUMMARY:Quinta Científica Semestral da Diretoria da área da Infância e Adolescência:  A linguagem Viva na Cultura e no Setting: as gírias de ontem e de hoje
DESCRIPTION:Convidamos para a Quinta Científica Semestral da Diretoria da área da Infância e Adolescência: A linguagem Viva na Cultura e no Setting: as gírias de ontem e de hoje\, no dia 07 de julho (quinta-feira)\, às 20h30\, na Plataforma Zoom/SPPA \nConvidados:\nCláudio Moreno (Escritor e Professor)\nCátia Deon Dall’Agno (Psicanalista SPPA) \nCoordenação:\nKátia Wagner Radke (Diretora da área da Infância e Adolescência) \nAtividade Aberta\nValor: R$30\,00\nMembros: Isentos \nInscrições Antecipadas:\nhttps://forms.gle/E8RhuKAwdUhiNkCm7 \nAtenciosamente\,\nMaria Cristina Garcia Vasconcellos – Presidente\nKátia Wagner Radke – Diretora da área da Infância e Adolescência
URL:https://febrapsi.org/evento/quinta-cientifica-semestral-da-diretoria-da-area-da-infancia-e-adolescencia-a-linguagem-viva-na-cultura-e-no-setting-as-girias-de-ontem-e-de-hoje/
LOCATION:Online – Plataforma Zoom
CATEGORIES:Geral
ATTACH;FMTTYPE=image/jpeg:https://febrapsi.org/storage/2022/06/2022-07-07-A-linguagem-Viva-na-Cultura-e-no-Setting.jpeg
ORGANIZER;CN="SPPA":MAILTO:sppa@sppa.org.br
END:VEVENT
END:VCALENDAR