BEGIN:VCALENDAR
VERSION:2.0
PRODID:-//FEBRAPSI - ECPv6.15.20//NONSGML v1.0//EN
CALSCALE:GREGORIAN
METHOD:PUBLISH
X-WR-CALNAME:FEBRAPSI
X-ORIGINAL-URL:https://febrapsi.org
X-WR-CALDESC:Eventos para FEBRAPSI
REFRESH-INTERVAL;VALUE=DURATION:PT1H
X-Robots-Tag:noindex
X-PUBLISHED-TTL:PT1H
BEGIN:VTIMEZONE
TZID:America/Sao_Paulo
BEGIN:STANDARD
TZOFFSETFROM:-0300
TZOFFSETTO:-0300
TZNAME:-03
DTSTART:20210101T000000
END:STANDARD
END:VTIMEZONE
BEGIN:VEVENT
DTSTART;TZID=America/Sao_Paulo:20220601T203000
DTEND;TZID=America/Sao_Paulo:20220629T223000
DTSTAMP:20260425T100054
CREATED:20220520T170143Z
LAST-MODIFIED:20220520T170143Z
UID:41868-1654115400-1656541800@febrapsi.org
SUMMARY:Curso A ANGÚSTIA
DESCRIPTION:Dias 01\, 08\, 15 e 29/06/2022\n\n\n\n\n\n\n\n\n\n\nquartas-feiras – 20h30 às 22h\nVIA ZOOM\nINSCRIÇÕES 
URL:https://febrapsi.org/evento/curso-a-angustia/
CATEGORIES:Geral
ATTACH;FMTTYPE=image/jpeg:https://febrapsi.org/storage/2022/05/Curso-CEP.jpg
ORGANIZER;CN="SBPRJ":MAILTO:sbprj@sbprj.org.br
END:VEVENT
BEGIN:VEVENT
DTSTART;TZID=America/Sao_Paulo:20220608T203000
DTEND;TZID=America/Sao_Paulo:20220608T220000
DTSTAMP:20260425T100054
CREATED:20220602T195730Z
LAST-MODIFIED:20220602T195730Z
UID:42368-1654720200-1654725600@febrapsi.org
SUMMARY:O Psicanalista vai ao Cinema: Considerações sobre dois filmes de Yorgos Lanthimos: Dente Canino e O Sacrifício do Cervo Sagrado
DESCRIPTION:7ª Roda de conversa do Cenapp\n“O Psicanalista vai ao Cinema: Considerações sobre dois filmes de Yorgos Lanthimos: Dente Canino e O Sacrifício do Cervo Sagrado“\nConvidado: Sérgio Telles – Psicanalista e escritor\, Membro do Departamento de Psicanálise do Instituto Sedes Sapientiae – São Paulo \nEvento gratuito com vagas limitadas \nInscrições: clique aqui \n 
URL:https://febrapsi.org/evento/o-psicanalista-vai-ao-cinema-consideracoes-sobre-dois-filmes-de-yorgos-lanthimos-dente-canino-e-o-sacrificio-do-cervo-sagrado/
LOCATION:Online – Plataforma Google Meet
CATEGORIES:Geral
ATTACH;FMTTYPE=image/jpeg:https://febrapsi.org/storage/2022/05/Sergio-Telles-Cenapp.jpg
ORGANIZER;CN="SPBsb":MAILTO:spbsb@spbsb.org.br
END:VEVENT
END:VCALENDAR