BEGIN:VCALENDAR
VERSION:2.0
PRODID:-//FEBRAPSI - ECPv6.15.20//NONSGML v1.0//EN
CALSCALE:GREGORIAN
METHOD:PUBLISH
X-WR-CALNAME:FEBRAPSI
X-ORIGINAL-URL:https://febrapsi.org
X-WR-CALDESC:Eventos para FEBRAPSI
REFRESH-INTERVAL;VALUE=DURATION:PT1H
X-Robots-Tag:noindex
X-PUBLISHED-TTL:PT1H
BEGIN:VTIMEZONE
TZID:America/Sao_Paulo
BEGIN:STANDARD
TZOFFSETFROM:-0300
TZOFFSETTO:-0300
TZNAME:-03
DTSTART:20210101T000000
END:STANDARD
END:VTIMEZONE
BEGIN:VEVENT
DTSTART;TZID=America/Sao_Paulo:20220518T210000
DTEND;TZID=America/Sao_Paulo:20220518T230000
DTSTAMP:20260425T114426
CREATED:20220512T224150Z
LAST-MODIFIED:20220516T155710Z
UID:41759-1652907600-1652914800@febrapsi.org
SUMMARY:“Você tem fome de quê? Sofrimento Emocional e Desigualdades Sociais”
DESCRIPTION:O evento faz parte da programação do Fórum Permanente Violência e Cultura\, uma iniciativa do Departamento de Difusão da Psicanálise\nda Sociedade Brasileira de Psicanálise do Rio de Janeiro que promove a reflexão\, a denúncia e o debate a respeito das diversas formas com que a violência se apresenta no espaço social e os impactos lesivos que vem gerando sobre o tecido social – especialmente suas consequências sobre a saúde mental da população. \nPalestrantes:\nMarcelo Viñar – psicanalista\, titular da Associação Psicanalítica do Uruguai\, ex-presidente da FEPAL.\nDulce Pandolfi – Mestre em ciência política/IUPERJ\, doutora /UFF\, Membro do Conselho Consultivo da ActionAid. \nDebatedora:\nMaria Teresa Naylor Rocha – Membro efetivo com funções específicas da SBPRJ\, Diretora do Departamento de Comunidade e Cultura/SBPRJ. \nCoordenação:\nCarlos Pires Leal – psicanalista com funções específicas /SBPRJ\, Diretor do Departamento de Difusão da Psicanálise da SBPRJ. \nEvento gratuito. \nACESSO PELO LINK\nhttps://us02web.zoom.us/j/83522595009?pwd=ejJSdks2Qnp1WEtNTEM2K0VzTHg2Zz09\nMeeting ID: 83522595009\nPasscode: 359536
URL:https://febrapsi.org/evento/voce-tem-fome-de-que-sofrimento-emocional-e-desigualdades-sociais/
CATEGORIES:Geral
ATTACH;FMTTYPE=image/webp:https://febrapsi.org/storage/2022/05/SBPRJ-voce-tem-fome-de-que.webp
ORGANIZER;CN="SBPRJ":MAILTO:sbprj@sbprj.org.br
END:VEVENT
END:VCALENDAR