BEGIN:VCALENDAR
VERSION:2.0
PRODID:-//FEBRAPSI - ECPv6.15.20//NONSGML v1.0//EN
CALSCALE:GREGORIAN
METHOD:PUBLISH
X-WR-CALNAME:FEBRAPSI
X-ORIGINAL-URL:https://febrapsi.org
X-WR-CALDESC:Eventos para FEBRAPSI
REFRESH-INTERVAL;VALUE=DURATION:PT1H
X-Robots-Tag:noindex
X-PUBLISHED-TTL:PT1H
BEGIN:VTIMEZONE
TZID:America/Sao_Paulo
BEGIN:STANDARD
TZOFFSETFROM:-0300
TZOFFSETTO:-0300
TZNAME:-03
DTSTART:20210101T000000
END:STANDARD
END:VTIMEZONE
BEGIN:VEVENT
DTSTART;TZID=America/Sao_Paulo:20220514T093000
DTEND;TZID=America/Sao_Paulo:20220514T120000
DTSTAMP:20260425T114302
CREATED:20220429T151713Z
LAST-MODIFIED:20220429T151713Z
UID:41619-1652520600-1652529600@febrapsi.org
SUMMARY:Evento Internacional: L’ozio creativo\, la pandemia del COVID 19 e le prospettive pe lánno venturo
DESCRIPTION:Em 1995\, o sociólogo italiano Domenico de Masi presenteou a humanidade com o conceito de Ócio Criativo\, termo que em algum momento da vida muitos de nós ouvimos falar. Desde a primeira edição\, o livro\, com o mesmo nome\, provocou grande curiosidade e perturbação\, pois apresenta uma nova visão a respeito do ócio\, antes entendido como um mero período de preguiça e aridez. \nNesse Evento Internacional\, a SBPRP promove a oportunidade ímpar de experimentarmos o sentimento de liberdade necessário para a troca de ideias com Domenico de Masi sobre a vivência do Ócio Criativo. Convidamos todos a lançarmos um movimento que\, certamente\, trará novas aberturas para a experiência analítica! \nO evento on-line L’ozio creativo\, la pandemia del COVID 19 e le prospettive pe lánno venturo acontecerá no dia 14 de maio\, das 9h30 às 12h. Faça a sua inscrição pelo site\, vagas limitadas: https://sbprp.org.br/proximos-eventos/ \nInstituto de Psicanálise e Diretoria Científica da SBPRP
URL:https://febrapsi.org/evento/evento-internacional-lozio-creativo-la-pandemia-del-covid-19-e-le-prospettive-pe-lanno-venturo/
LOCATION:Online – Plataforma Zoom
CATEGORIES:Geral
ATTACH;FMTTYPE=image/jpeg:https://febrapsi.org/storage/2022/04/05-14-Evento-Internacional-MAIO.jpg
ORGANIZER;CN="SBPRP":MAILTO:sbprp.secretaria@gmail.com
END:VEVENT
BEGIN:VEVENT
DTSTART;TZID=America/Sao_Paulo:20220514T100000
DTEND;TZID=America/Sao_Paulo:20220514T120000
DTSTAMP:20260425T114302
CREATED:20220512T223932Z
LAST-MODIFIED:20220516T160811Z
UID:41764-1652522400-1652529600@febrapsi.org
SUMMARY:Conferência: A Sobrevivência dos vagalumes é o inatual da pratica psicanalítica?
DESCRIPTION:É com imensa honra que a SBPdePA anuncia a Conferência do Núcleo de Vínculos – “A sobrevivência dos vagalumes é o inatual da prática psicanalítica?”\, apresentado pela renomada autora e psicanalista Yolanda Gampel.\n\n\nYolanda é analista didata da Sociedade de Psicanálise de Israel. Formou-se em Psicologia em Buenos Aires e fez doutorado em Paris. De origem argentina\, fez sua formação psicanalítica em Israel\, onde teve seus primeiros contatos com os sobreviventes do holocausto da Segunda Guerra Mundial e com seus descendentes. O que pôde descobrir e compreender com este trabalho\, fornece instrumentos importantes para auxiliar os psicanalistas\, terapeutas e profissionais da saúde que trabalham com vítimas de traumas e de violência social.\n\n\nO evento será online\, via Zoom\, no dia 14/05\, às 10h (horário de Brasília)\, e contará com tradução simultânea. Inscrições pelo site sbpdepa.org.br.\n\n\n \n____________________________\nConferência do Núcleo de Vínculos – “A sobrevivência dos vagalumes é o inatual da prática psicanalítica?”\n14/05\, às 10h (horário de Brasília).\nPlataforma: Zoom\nInscrições pelo site sbpdepa.org.br\nEvento pago: Valor R$ 100\,00\n \n\n   \n 
URL:https://febrapsi.org/evento/conferencia-a-sobrevivencia-dos-vagalumes-e-o-inatual-da-pratica-psicanalitica/
LOCATION:Evento Online
CATEGORIES:Geral
ATTACH;FMTTYPE=image/jpeg:https://febrapsi.org/storage/2022/05/jornada-dos-vinculos.jpeg
ORGANIZER;CN="SBPdePA":MAILTO:secretaria@sbpdepa.org.br
END:VEVENT
END:VCALENDAR