BEGIN:VCALENDAR
VERSION:2.0
PRODID:-//FEBRAPSI - ECPv6.15.20//NONSGML v1.0//EN
CALSCALE:GREGORIAN
METHOD:PUBLISH
X-ORIGINAL-URL:https://febrapsi.org
X-WR-CALDESC:Eventos para FEBRAPSI
REFRESH-INTERVAL;VALUE=DURATION:PT1H
X-Robots-Tag:noindex
X-PUBLISHED-TTL:PT1H
BEGIN:VTIMEZONE
TZID:America/Sao_Paulo
BEGIN:STANDARD
TZOFFSETFROM:-0300
TZOFFSETTO:-0300
TZNAME:-03
DTSTART:20210101T000000
END:STANDARD
END:VTIMEZONE
BEGIN:VEVENT
DTSTART;VALUE=DATE:20220505
DTEND;VALUE=DATE:20220508
DTSTAMP:20260425T114430
CREATED:20220504T131049Z
LAST-MODIFIED:20220516T162309Z
UID:41651-1651708800-1651967999@febrapsi.org
SUMMARY:A Clínica Psicanalítica de Casal e Família Hoje
DESCRIPTION:5\, 6 e 7/05/2022 \nVIA PLATAFORMA ZOOM \nCOM TRADUÇÃO SIMULTÂNEA \nDia 5 de maio | quinta-feira | 21h\nQUEM É O PACIENTE NA CLÍNICA DE CASAL E FAMÍLIA \nConvidadas:\nMaria Lucia Paiva – psicanalista do Instituto Sedes Sapientiae\, presidente da Associação Brasileira de Psicanálise de Casal e Família e membro da Associação Internacional de Psicanálise de Casal e Família (AIPCF) \nMônica Vorchheimer – psicanalista da Associação Psicanalítica de Buenos Aires (APdeBA)\, membro da Federação Espanhola e da Associação de Psicoterapeutas\, ex co-chair da América Latina da COFAP/IPA. \nCoordenação: Eliane Cotrim – psicanalista da SBPRJ\, representante da SBPRJ no Comitê de Casal e Família da FEPAL. \nDia 6 de maio | sexta-feira | 16h (Brasil)\nAS CLÍNICAS DE CASAL E FAMÍLIA \nConvidadas:\nMary Morgan – membro da Sociedade Britânica de Psicanalítica\, psicanalista de casal e docente da Tavistock Relationship\, conselheira da COFAP/IPA\, Autora do livro “A Couple State of Mind” \nElizabeth Palacios – psicanalista titular e coordenadora de trabalho com casais e famílias da Associação Psicanalítica de Madri\, chair da COFAP/IPA\, presidente e docente da pós-graduação da Associação Aragonesa de Investigação Psíquica de Crianças e Adolescentes (AAPIPNA)\, autora de vários livros e artigos e diretora da revista Pensamiento Psicoanalitico \nCoordenação:\nFlávia Strauch – psicanalista da SBPRJ; co-fundadora e membro da ABPFC\, membro do Comitê COFAP/IPA e membro da Associação Internacional de Psicanálise de Casal e Família (AIPCF)  \nDia 7 de maio | sábado | 10h\nDebate sobre o filme “MADRES PARALELAS” – de Pedro Almodóvar /2021-NETFLIX \nConvidadas:\nSílvia Resnizky – psicanalista da Associação Psicanalítica de Buenos Aires (APdeBA); co-chair da COFAP/IPA pela América Latina\, docente da pós-graduação em casal e família do Instituto Universitário de Saúde Mental da APdeBA\, membro do Comitê da junta diretora e do comitê executivo da IPA. Livros publicados: “Dispositivos Clínicos em Psicanálise”\, “Psychoanalytical Work with Families and Couples” e “Clinical Perspectives on Suffering” \nSusana Schild – Crítica de cinema \nCoordenação:\nAngela Moura – psicanalista da SBPRJ e representante regional de COFAP / IPA \nOrganizadores:\nGrupo de Estudos Psicanalíticos sobre Casal e Família / SBPRJ:\nAngela Moura\, Eliane Cotrim\, Flávia Strauch e Paulo Humberto Bianchini \nConselho Científico da Sociedade Brasileira de Psicanálise do Rio de Janeiro:\nMaria Elisa Alvarenga\, Mariana Neustein \nColaboradores: André Vale\, Eduardo Zaidhaft\, Gabriela Pszczol Krebs \nMais informações e inscrições: https://www.sbprj.org.br/single-post/a-cl%C3%ADnica-psicanal%C3%ADtica-de-casal-e-fam%C3%ADlia-hoje
URL:https://febrapsi.org/evento/a-clinica-psicanalitica-de-casal-e-familia-hoje/
LOCATION:Online – Plataforma Zoom
CATEGORIES:Geral
ATTACH;FMTTYPE=image/jpeg:https://febrapsi.org/storage/2022/05/clinica-casal.jpeg
ORGANIZER;CN="SBPRJ":MAILTO:sbprj@sbprj.org.br
END:VEVENT
END:VCALENDAR