BEGIN:VCALENDAR
VERSION:2.0
PRODID:-//FEBRAPSI - ECPv6.15.20//NONSGML v1.0//EN
CALSCALE:GREGORIAN
METHOD:PUBLISH
X-ORIGINAL-URL:https://febrapsi.org
X-WR-CALDESC:Eventos para FEBRAPSI
REFRESH-INTERVAL;VALUE=DURATION:PT1H
X-Robots-Tag:noindex
X-PUBLISHED-TTL:PT1H
BEGIN:VTIMEZONE
TZID:America/Sao_Paulo
BEGIN:STANDARD
TZOFFSETFROM:-0300
TZOFFSETTO:-0300
TZNAME:-03
DTSTART:20210101T000000
END:STANDARD
END:VTIMEZONE
BEGIN:VEVENT
DTSTART;TZID=America/Sao_Paulo:20220503T200000
DTEND;TZID=America/Sao_Paulo:20220503T213000
DTSTAMP:20260425T114438
CREATED:20220429T151530Z
LAST-MODIFIED:20220429T151530Z
UID:41609-1651608000-1651613400@febrapsi.org
SUMMARY:Atividade Preparatória para o XXIV Simpósio de Infância e Adolescência: "O pensamento de Anne Alvarez"
DESCRIPTION:Convidamos para a Atividade Preparatória para o XXIV Simpósio de Infância e Adolescência: “O pensamento de Anne Alvarez”\, no dia 03 de maio (terça-feira)\, às 20h\, na Plataforma Zoom/SPPA. \nApresentação:\nAdriana Pacheco Pires (SPPA)\nDenise Steibel (SPPA)\nJosênia Heck Munhoz (SPPA) \nCoordenação:\nMery Pomerancblum Wolff (SPPA)\n\nAtividade aberta e gratuita.\nInscrições Antecipadas:\nhttps://us06web.zoom.us/webinar/register/WN_Q8TL0E8eQt-AOvGyCKsnyQ
URL:https://febrapsi.org/evento/atividade-preparatoria-para-o-xxiv-simposio-de-infancia-e-adolescencia-o-pensamento-de-anne-alvarez/
LOCATION:Online – Plataforma Zoom
CATEGORIES:Geral
ATTACH;FMTTYPE=image/jpeg:https://febrapsi.org/storage/2022/04/2022-05-03-Atividade-Preparatora-DIA.jpeg
ORGANIZER;CN="SPPA":MAILTO:sppa@sppa.org.br
END:VEVENT
END:VCALENDAR