BEGIN:VCALENDAR
VERSION:2.0
PRODID:-//FEBRAPSI - ECPv6.15.20//NONSGML v1.0//EN
CALSCALE:GREGORIAN
METHOD:PUBLISH
X-WR-CALNAME:FEBRAPSI
X-ORIGINAL-URL:https://febrapsi.org
X-WR-CALDESC:Eventos para FEBRAPSI
REFRESH-INTERVAL;VALUE=DURATION:PT1H
X-Robots-Tag:noindex
X-PUBLISHED-TTL:PT1H
BEGIN:VTIMEZONE
TZID:America/Sao_Paulo
BEGIN:STANDARD
TZOFFSETFROM:-0300
TZOFFSETTO:-0300
TZNAME:-03
DTSTART:20210101T000000
END:STANDARD
END:VTIMEZONE
BEGIN:VEVENT
DTSTART;TZID=America/Sao_Paulo:20220318T170000
DTEND;TZID=America/Sao_Paulo:20220319T143000
DTSTAMP:20260425T151642
CREATED:20220216T151920Z
LAST-MODIFIED:20220216T151920Z
UID:40569-1647622800-1647700200@febrapsi.org
SUMMARY:VI JORNADA DA CLÍNICA DE 0 A 3 - 2022
DESCRIPTION:História não é Destino: \nContribuições da psicologia do desenvolvimento e da\nneurociência para a clínica psicanalítica do Infans.\n18/03/2022\nABERTURA: 17h\nCarmen C. Mion (Presidente da SBPSP)\nDarcy Portolese (Diretor de Atendimento à Comunidade da SBPSP)\nAlessandra Gordon (Secretária de Psicanálise de Criança e Adolescentes do Instituto Durval Marcondes da SBPSP) \nMaria Cecília Pereira da Silva\n(Coordenadora da Clínica 0 a 3 e da Clínica Transcultural da SBPSP) \n17h30 às 18h: Introdução e apresentação do vídeo: Conversa de Auro Lescher com Esmeralda Ortiz – uma história acompanhada no Projeto Quixote. \n18h às 19h30: História não é destino: complexidades e vulnerabilidades na constituição do sujeito.\nApresentação: Dr. Auro Danny Lescher \nPsiquiatra\, Fundador e Coordenador do Projeto Quixote – ONG ligada ao Departamento de Psiquiatria da Universidade Federal de São Paulo/ Professor de Psicologia médica \nCoordenação: Eliane Saslavsky Muszkat (Membro Filiado e Clínica 0 a 3 da SBPSP) \nINTERVALO: 19h30 às 20h \n20h às 22h: Contribuições da neurociência para a clínica psicanalítica do infans \nApresentação: Dra. Sílvia Laurentino\nNeurologista\, PhD Neurociência do Comportamento – UFPE \nCoordenação: Diva Aparecida Cilurzo Neto (Membro Efetivo e Clínica 0 a 3 da SBPSP) \n19/03/2022 \n9h às 11h: Contribuições da psicologia do desenvolvimento para a clínica psicanalítica do infans \nApresentação: \nProf. Dr. Colwyn Trevarthen\nProfessor Emérito de Psicologia Infantil e Psicobiologia da Universidade de Edinburgh e Academia Norueguesa de Ciências e Letras. \nProf. Dr. Jonathan Delafield-Butt\nProfessor de Desenvolvimento Infantil e Diretor do Laboratório Interdisciplinar de Inovação em Autismo da Universidade de Strathclyde.\nCoordenação: Mariângela Mendes de Almeida (Membro Filiado e Clínica 0 a 3 da SBPSP) \nINTERVALO PARA ALMOÇO: 11h30 às 12h30 \n12h30 às 14h30: Contribuições da Universidade do Bebê e da visão poli fatorial para a clínica psicanalítica do infans \nApresentação: Profª Dra. Marie Rose Moro\nPsicanalista\, Professora e Psiquiatra de Criança e Adolescente na Universidade Paris Descartes.\nCoordenação: Dra. Maria Cecília Pereira da Silva (Membro Efetivo e Clínica 0 a 3 da SBPSP) \nENCERRAMENTO: Dra. Maria Cecília Pereira da Silva \nPÚBLICO-ALVO: Profissionais da saúde e educação. \nINSCRIÇÕES: www.sbpsp.org.br\nINFORMAÇÕES: fabiana@sbpsp.org.br\nTAXA DE INSCRIÇÃO: Membros filiados da SBPSP / Candidatos FEBRAPSI / \nIPA / FEPAL / Estudantes de Graduação / Alunos de Cursos da DAC / \nProfissionais da Rede Pública: R$80\,00\nMembros da SBPSP / IPA / Parceiros do Evento: R$120\,00\nOutros Profissionais: R$200\,00
URL:https://febrapsi.org/evento/vi-jornada-da-clinica-de-0-a-3-2022/
LOCATION:Online – Plataforma Zoom
CATEGORIES:Geral
ATTACH;FMTTYPE=image/png:https://febrapsi.org/storage/2022/02/Cartaz_CLINICA-0-A-3-2022.png
ORGANIZER;CN="SBPSP":MAILTO:contato@sbpsp.org.br
END:VEVENT
END:VCALENDAR