BEGIN:VCALENDAR
VERSION:2.0
PRODID:-//FEBRAPSI - ECPv6.15.20//NONSGML v1.0//EN
CALSCALE:GREGORIAN
METHOD:PUBLISH
X-WR-CALNAME:FEBRAPSI
X-ORIGINAL-URL:https://febrapsi.org
X-WR-CALDESC:Eventos para FEBRAPSI
REFRESH-INTERVAL;VALUE=DURATION:PT1H
X-Robots-Tag:noindex
X-PUBLISHED-TTL:PT1H
BEGIN:VTIMEZONE
TZID:America/Sao_Paulo
BEGIN:STANDARD
TZOFFSETFROM:-0300
TZOFFSETTO:-0300
TZNAME:-03
DTSTART:20210101T000000
END:STANDARD
END:VTIMEZONE
BEGIN:VEVENT
DTSTART;TZID=America/Sao_Paulo:20220309T203000
DTEND;TZID=America/Sao_Paulo:20220309T220000
DTSTAMP:20260425T151641
CREATED:20220221T183351Z
LAST-MODIFIED:20220221T183351Z
UID:40618-1646857800-1646863200@febrapsi.org
SUMMARY:Roda de Conversa do Cenapp - Regressão na clínica psicanalítica: a experiência do paciente/analista
DESCRIPTION:Convidada:\nCharbelle Jabbour Belmont\nPsicóloga clínica\nEspecialista em psicologia médica e psicossomática\nAutora dos livros:\nColocando os pingos nos is\nPalavra Encantada II\nPalavra Encantada\nGêmeos: onde está a semelhança?\n(Para adquirir os livros\, entre em contato com a autora no whatsapp: (21) 99499-6567) \nCoordenação:\nNize Nascimento – Coordenadora do Cenapp \nEvento gratuito e online – vagas limitadas \nInscrições no site da SPBsb www.spbsb.org.br
URL:https://febrapsi.org/evento/roda-de-conversa-do-cenapp-regressao-na-clinica-psicanalitica-a-experiencia-do-paciente-analista/
LOCATION:Online – Plataforma Google Meet
CATEGORIES:Geral
ATTACH;FMTTYPE=image/jpeg:https://febrapsi.org/storage/2022/02/Cherbelle-Cenapp.jpg
ORGANIZER;CN="SPBsb":MAILTO:spbsb@spbsb.org.br
END:VEVENT
END:VCALENDAR