BEGIN:VCALENDAR
VERSION:2.0
PRODID:-//FEBRAPSI - ECPv6.15.20//NONSGML v1.0//EN
CALSCALE:GREGORIAN
METHOD:PUBLISH
X-WR-CALNAME:FEBRAPSI
X-ORIGINAL-URL:https://febrapsi.org
X-WR-CALDESC:Eventos para FEBRAPSI
REFRESH-INTERVAL;VALUE=DURATION:PT1H
X-Robots-Tag:noindex
X-PUBLISHED-TTL:PT1H
BEGIN:VTIMEZONE
TZID:America/Sao_Paulo
BEGIN:STANDARD
TZOFFSETFROM:-0300
TZOFFSETTO:-0300
TZNAME:-03
DTSTART:20210101T000000
END:STANDARD
END:VTIMEZONE
BEGIN:VEVENT
DTSTART;TZID=America/Sao_Paulo:20220305T150000
DTEND;TZID=America/Sao_Paulo:20220305T180000
DTSTAMP:20260425T150119
CREATED:20220221T182238Z
LAST-MODIFIED:20220221T182238Z
UID:40424-1646492400-1646503200@febrapsi.org
SUMMARY:Curso: Clarice Lispector – Estudo sobre a obra: romances\, crônicas e críticas literárias
DESCRIPTION:O curso é aberto a profissionais e estudantes de todas as áreas. \nObjetivo: Fazer conexões psicanalíticas\, filosóficas\, sociais e políticas a partir da obra de Clarice Lispector e outros textos indicados \nCoordenação:\nCarlos de Almeida Vieira – psicanalista e escritor \nPara fazer sua inscrição – www.spbsb.org.br \n 
URL:https://febrapsi.org/evento/curso-clarice-lispector-estudo-sobre-a-obra-romances-cronicas-e-criticas-literarias/
LOCATION:Online – Plataforma Google Meet
CATEGORIES:Geral
ATTACH;FMTTYPE=image/jpeg:https://febrapsi.org/storage/2022/01/Cartaz-Clarice-1.jpg
ORGANIZER;CN="SPBsb":MAILTO:spbsb@spbsb.org.br
END:VEVENT
END:VCALENDAR