BEGIN:VCALENDAR
VERSION:2.0
PRODID:-//FEBRAPSI - ECPv6.15.20//NONSGML v1.0//EN
CALSCALE:GREGORIAN
METHOD:PUBLISH
X-ORIGINAL-URL:https://febrapsi.org
X-WR-CALDESC:Eventos para FEBRAPSI
REFRESH-INTERVAL;VALUE=DURATION:PT1H
X-Robots-Tag:noindex
X-PUBLISHED-TTL:PT1H
BEGIN:VTIMEZONE
TZID:America/Sao_Paulo
BEGIN:STANDARD
TZOFFSETFROM:-0300
TZOFFSETTO:-0300
TZNAME:-03
DTSTART:20210101T000000
END:STANDARD
END:VTIMEZONE
BEGIN:VEVENT
DTSTART;TZID=America/Sao_Paulo:20220125T200000
DTEND;TZID=America/Sao_Paulo:20220125T210000
DTSTAMP:20260425T184851
CREATED:20220105T121154Z
LAST-MODIFIED:20220111T143547Z
UID:40237-1643140800-1643144400@febrapsi.org
SUMMARY:O projeto de parceria da SPPA – DIA com o Programa Pode Falar convida: “Live com Adolescentes: conversando sobre emoções” - Violência doméstica. Precisamos falar sobre isso
DESCRIPTION:O projeto de parceria da Sociedade Psicanalítica de Porto Alegre – Diretoria da Infância e Adolescência com o Programa Pode Falar convida: “Live com Adolescentes: conversando sobre emoções”\, no Youtube (https://www.youtube.com/user/UNICEFBrasil) e Facebook (https://www.facebook.com/UNICEFBrasil) do @unicefbrasil\, no dia 25 de janeiro\, às 20h.\nTema: Violência doméstica. Precisamos falar sobre isso\nConvidado: Emílio Salle\nCoordenação: Denise Steibel
URL:https://febrapsi.org/evento/o-projeto-de-parceria-da-sppa-dia-com-o-programa-pode-falar-convida-live-com-adolescentes-conversando-sobre-emocoes-violencia-domestica-precisamos-falar-sobre-isso/
CATEGORIES:Geral
ATTACH;FMTTYPE=image/jpeg:https://febrapsi.org/storage/2022/01/2022-01-25-Emilio.jpeg
ORGANIZER;CN="SPPA":MAILTO:sppa@sppa.org.br
END:VEVENT
END:VCALENDAR