BEGIN:VCALENDAR
VERSION:2.0
PRODID:-//FEBRAPSI - ECPv6.15.20//NONSGML v1.0//EN
CALSCALE:GREGORIAN
METHOD:PUBLISH
X-WR-CALNAME:FEBRAPSI
X-ORIGINAL-URL:https://febrapsi.org
X-WR-CALDESC:Eventos para FEBRAPSI
REFRESH-INTERVAL;VALUE=DURATION:PT1H
X-Robots-Tag:noindex
X-PUBLISHED-TTL:PT1H
BEGIN:VTIMEZONE
TZID:America/Sao_Paulo
BEGIN:STANDARD
TZOFFSETFROM:-0300
TZOFFSETTO:-0300
TZNAME:-03
DTSTART:20200101T000000
END:STANDARD
END:VTIMEZONE
BEGIN:VEVENT
DTSTART;TZID=America/Sao_Paulo:20211104T203000
DTEND;TZID=America/Sao_Paulo:20211104T220000
DTSTAMP:20260425T223427
CREATED:20211116T190836Z
LAST-MODIFIED:20211116T190836Z
UID:39682-1636057800-1636063200@febrapsi.org
SUMMARY:Quinta Científica dos Grupos SMED e Projeto Pescar: “Implicação do psicanalista na escuta da fome”
DESCRIPTION:Convidamos para a Quinta Científica dos Grupos SMED e Projeto Pescar: “Implicação do psicanalista na escuta da fome”\, dia 04 de novembro\, às 20h30\, na Plataforma Zoom/SPPA. \nA partir de um conto de Clarice Lispector “A Bela e a Fera” e de um fragmento do livro “Quarto de Despejo” de Carolina de Jesus\, faremos uma articulação com o intuito de abordar este assunto tão importante neste momento de pandemia. \nApresentadoras:\nDenise Vivian Lahude (SPPA)\nIvani Teresinha Bressan (SPPA)\nDebatedor:\nFernando Orduz (Psicanalista da Sociedade Colombiana de Psicanálise\, Mestre em Comunidade e Cultura. Professor da Universidade Javeriana e Universidade do Norte. Ex-presidente da FEPAL 2014-2016)\nCoordenação:\nMaria Elisabeth Cimenti (SPPA) \n  \nAtividade Aberta e Gratuita \nInscrições Antecipadas:\nhttps://us06web.zoom.us/webinar/register/WN_Hn9-xf-NRvqjTafM3ETxLA \nAtenciosamente\,\nJosé Carlos Calich – Presidente\nMaurício Marx e Silva – Diretor Científico\nEmílio Salle – Diretor de Divulgação e Ações junto à Comunidade
URL:https://febrapsi.org/evento/quinta-cientifica-dos-grupos-smed-e-projeto-pescar-implicacao-do-psicanalista-na-escuta-da-fome/
LOCATION:Online – Plataforma Zoom
ATTACH;FMTTYPE=image/jpeg:https://febrapsi.org/storage/2021/11/Quinta-Científica-dos-Grupos-SMED-e-Projeto-Pescar-Implicação-do-psicanalista-na-escuta-da-fome.jpg
ORGANIZER;CN="SPPA":MAILTO:sppa@sppa.org.br
END:VEVENT
END:VCALENDAR