BEGIN:VCALENDAR
VERSION:2.0
PRODID:-//FEBRAPSI - ECPv6.15.20//NONSGML v1.0//EN
CALSCALE:GREGORIAN
METHOD:PUBLISH
X-ORIGINAL-URL:https://febrapsi.org
X-WR-CALDESC:Eventos para FEBRAPSI
REFRESH-INTERVAL;VALUE=DURATION:PT1H
X-Robots-Tag:noindex
X-PUBLISHED-TTL:PT1H
BEGIN:VTIMEZONE
TZID:America/Sao_Paulo
BEGIN:STANDARD
TZOFFSETFROM:-0300
TZOFFSETTO:-0300
TZNAME:-03
DTSTART:20200101T000000
END:STANDARD
END:VTIMEZONE
BEGIN:VEVENT
DTSTART;TZID=America/Sao_Paulo:20211022T193000
DTEND;TZID=America/Sao_Paulo:20211022T220000
DTSTAMP:20260426T001610
CREATED:20211014T064727Z
LAST-MODIFIED:20211014T080855Z
UID:38728-1634931000-1634940000@febrapsi.org
SUMMARY:SPPel realiza evento preparatório com a FEBRAPSI
DESCRIPTION:A Diretoria Científica da Sociedade Psicanalítica de Pelotas (SPPel) convida para o evento preparatório para o 28º Congresso Brasileiro de Psicanálise “Entrelaços: indivíduo\, campo analítico e sociedade” no dia 22 de outubro\, às 19h30\, pela plataforma Zoom. \nParticiparão do evento palestrando\, o diretor científico da FEBRAPSI\, Bernard Miodownick\, e os diretores científicos das Sociedades anfitriãs do Congresso Christiane Vecchi da Paixão\, Maurício Marx e Silva e Bruno Salésio. \nInscrições pelo e-mail sppelotas@gmail.com.
URL:https://febrapsi.org/evento/sppel-realiza-evento-preparatorio-com-a-febrapsi/
LOCATION:Online – Plataforma Zoom
CATEGORIES:Geral
ATTACH;FMTTYPE=image/jpeg:https://febrapsi.org/storage/2021/10/SPPel-realiza-evento-preparatório-com-a-FEBRAPSI.jpg
ORGANIZER;CN="SPPel":MAILTO:faleconosco@sppel.com.br
END:VEVENT
END:VCALENDAR