BEGIN:VCALENDAR
VERSION:2.0
PRODID:-//FEBRAPSI - ECPv6.15.20//NONSGML v1.0//EN
CALSCALE:GREGORIAN
METHOD:PUBLISH
X-WR-CALNAME:FEBRAPSI
X-ORIGINAL-URL:https://febrapsi.org
X-WR-CALDESC:Eventos para FEBRAPSI
REFRESH-INTERVAL;VALUE=DURATION:PT1H
X-Robots-Tag:noindex
X-PUBLISHED-TTL:PT1H
BEGIN:VTIMEZONE
TZID:America/Sao_Paulo
BEGIN:STANDARD
TZOFFSETFROM:-0300
TZOFFSETTO:-0300
TZNAME:-03
DTSTART:20200101T000000
END:STANDARD
END:VTIMEZONE
BEGIN:VEVENT
DTSTART;TZID=America/Sao_Paulo:20210615T041900
DTEND;TZID=America/Sao_Paulo:20210615T041900
DTSTAMP:20260424T110941
CREATED:20210615T041901Z
LAST-MODIFIED:20211014T080856Z
UID:8211-1623730740-1623730740@febrapsi.org
SUMMARY:XXIII Simpósio da Infância e Adolescência e do V Encontro de Observação de Bebês - Método Bick
DESCRIPTION:Inscrição para o Simpósio: https://docs.google.com/forms/d/1XX5niV8Jyxi8SsJq1jhWUoMeu6JafKElaHEgZ0QWo_0Valores:\nProfissionais – R$140\,00\nEstudantes – R$70\,00\nMembros SPPA – isentos \nPrêmio Zaira de Bittencourt Martins \nParticipe! Envio para secretaria@sppa.org.br \nData limite para envio dos trabalhos: 18 de abril 2021 \nComo parte da programação científica\, do XXIII Simpósio da Infância e Adolescência e do V Encontro de Observação de Bebês – Método Bick\, convidamos os colegas a escrever e enviar trabalhos relacionados a temática da Psicanálise da Infância e Adolescência (link regulamento).\nO trabalho premiado será publicado na Revista de Psicanálise da Sociedade Psicanalítica  de Porto Alegre e apresentado no Simpósio!  \nData limite para envio dos Temas Livres: 18 de abril 2021\nRegulamento Temas Livres – Clique aqui\nParticipe! Envio para secretaria@sppa.org.br \nInscrição para o Simpósio: https://docs.google.com/forms/d/1XX5niV8Jyxi8SsJq1jhWUoMeu6JafKElaHEgZ0QWo_0 \nValores:\nProfissionais – R$140\,00\nEstudantes – R$70\,00\nMembros SPPA – isentos
URL:https://febrapsi.org/evento/xxiii-simposio-da-infancia-e-adolescencia-e-do-v-encontro-de-observacao-de-bebes-metodo-bick/
CATEGORIES:Geral
ATTACH;FMTTYPE=image/jpeg:https://febrapsi.org/storage/2021/06/2020-05-27-diaaaa-xydZGO.tmp_.jpg
END:VEVENT
END:VCALENDAR