BEGIN:VCALENDAR
VERSION:2.0
PRODID:-//FEBRAPSI - ECPv6.15.20//NONSGML v1.0//EN
CALSCALE:GREGORIAN
METHOD:PUBLISH
X-WR-CALNAME:FEBRAPSI
X-ORIGINAL-URL:https://febrapsi.org
X-WR-CALDESC:Eventos para FEBRAPSI
REFRESH-INTERVAL;VALUE=DURATION:PT1H
X-Robots-Tag:noindex
X-PUBLISHED-TTL:PT1H
BEGIN:VTIMEZONE
TZID:America/Sao_Paulo
BEGIN:STANDARD
TZOFFSETFROM:-0300
TZOFFSETTO:-0300
TZNAME:-03
DTSTART:19690101T000000
END:STANDARD
END:VTIMEZONE
BEGIN:VEVENT
DTSTART;TZID=America/Sao_Paulo:20260424T022539
DTEND;TZID=America/Sao_Paulo:20260424T022539
DTSTAMP:20260424T022539
CREATED:20210615T034948Z
LAST-MODIFIED:20211014T080902Z
UID:8120-0-0@febrapsi.org
SUMMARY:XXII Simpósio da Infância e Adolescência e IV Encontro de Observação de Bebês - SPPA
DESCRIPTION:XXII Simpósio de Psicanálise da Infância e Adolescência e o IV Encontro sobre a Observação de Bebês – Método Bick. \nConvidada: Rosella Sandri (Psicanalista de Crianças e Adultos e Presidente da Associação Internacional para o Desenvolvimento da Observação de Bebês-Método Bick – AIDOBB). \nComo parte da programação científica do evento\, convidamos a participarem do Prêmio Zaira Bittencourt Martins\, apresentando trabalhos voltados ao conhecimento da teoria\, prática clínica e pesquisa em Psicanálise da Infância e da Adolescência (veja regulamento). \nEm breve estaremos divulgando a programação completa do evento\, que contará ainda com sessões de temas-livres (orientações aqui). \n  \nhttp://sppa.org.br/agenda/save-the-date-xxii-simposio-da-infancia-e-adolescencia-e-iv-encontro-de-observacao-de-bebes
URL:https://febrapsi.org/evento/xxii-simposio-da-infancia-e-adolescencia-e-iv-encontro-de-observacao-de-bebes-sppa/
CATEGORIES:Geral
END:VEVENT
END:VCALENDAR