BEGIN:VCALENDAR
VERSION:2.0
PRODID:-//FEBRAPSI - ECPv6.15.20//NONSGML v1.0//EN
CALSCALE:GREGORIAN
METHOD:PUBLISH
X-WR-CALNAME:FEBRAPSI
X-ORIGINAL-URL:https://febrapsi.org
X-WR-CALDESC:Eventos para FEBRAPSI
REFRESH-INTERVAL;VALUE=DURATION:PT1H
X-Robots-Tag:noindex
X-PUBLISHED-TTL:PT1H
BEGIN:VTIMEZONE
TZID:America/Sao_Paulo
BEGIN:STANDARD
TZOFFSETFROM:-0300
TZOFFSETTO:-0300
TZNAME:-03
DTSTART:19690101T000000
END:STANDARD
END:VTIMEZONE
BEGIN:VEVENT
DTSTART;TZID=America/Sao_Paulo:20260423T031545
DTEND;TZID=America/Sao_Paulo:20260423T031545
DTSTAMP:20260423T031545
CREATED:20210615T034802Z
LAST-MODIFIED:20211014T080902Z
UID:8070-0-0@febrapsi.org
SUMMARY:XXI Simpósio de Infância e Adolescência SPPA
DESCRIPTION:XXI Simpósio de Infância e Adolescência SPPA\n\n\n\n\n\n  \n \n \nInscrições: \nEstudantes: R$ 85\,00 – até 12/08 \n \nProfissionais: R$ 160\,00 – até 12/08 \n \n  \nInformações:\n – A inscrição ficará efetivada a partir da confirmação do pagamento.\n – No caso de cancelamento da inscrição até 72 horas antes da atividade\, haverá reembolso de 70% do valor pago. O cancelamento deverá ser comunicado por escrito através do e-mail sppa@sppa.org.br\n – Os reembolsos serão feitos por meio de depósito em conta\, de acordo com os dados informados pelo solicitante\, num prazo de até 30 dias.\n Em caso de dúvidas\, ligar para SPPA (51) 3224-3340 ou através do e-mail sppa@sppa.org.br \n  \n\n\n\n Jantar por adesão com Alberto César Cabral (APA) e Analía Wald (APA) – \n13/09/2019 20:30\n\n\n\n\n\nJANTAR POR ADESÃO \nXXI Simpósio de Infância e Adolescência  \nClique aqui para participar  \nRestaurante Pâtissier – Rua Marques do Pombal\, 128\n 13.09.19 (sexta-feira)\, às 20h30\n VALOR: R$ 140\,00 por pessoa\n Pocket Show: Denise Lahude cantará e será acompanhada por: João Vicente Macedo (violão) e Bruno Coelho (percussão) \n 
URL:https://febrapsi.org/evento/xxi-simposio-de-infancia-e-adolescencia-sppa/
CATEGORIES:Geral
ATTACH;FMTTYPE=image/jpeg:https://febrapsi.org/storage/2021/06/2019-09-12-simposio-de-infancia-e-adolescenciaa-frente-hOpZbq.tmp_.jpg
END:VEVENT
END:VCALENDAR