BEGIN:VCALENDAR
VERSION:2.0
PRODID:-//FEBRAPSI - ECPv6.15.20//NONSGML v1.0//EN
CALSCALE:GREGORIAN
METHOD:PUBLISH
X-WR-CALNAME:FEBRAPSI
X-ORIGINAL-URL:https://febrapsi.org
X-WR-CALDESC:Eventos para FEBRAPSI
REFRESH-INTERVAL;VALUE=DURATION:PT1H
X-Robots-Tag:noindex
X-PUBLISHED-TTL:PT1H
BEGIN:VTIMEZONE
TZID:America/Sao_Paulo
BEGIN:STANDARD
TZOFFSETFROM:-0300
TZOFFSETTO:-0300
TZNAME:-03
DTSTART:20200101T000000
END:STANDARD
END:VTIMEZONE
BEGIN:VEVENT
DTSTART;TZID=America/Sao_Paulo:20210615T035800
DTEND;TZID=America/Sao_Paulo:20210615T035800
DTSTAMP:20260424T072736
CREATED:20210615T035805Z
LAST-MODIFIED:20211014T080856Z
UID:8202-1623729480-1623729480@febrapsi.org
SUMMARY:XIII JORNADA PSICANÁLISE: BION-OBRA ABERTA
DESCRIPTION:O imprevisto trouxe a pandemia e a importância de encontrarmos formas que atendam a necessidade de continuar desenvolvendo nossa experiência com a clínica e com as idéias de Bion. Depois de um ano em suspensão retomamos a possibilidade de um encontro virtual. Decidimos não sugerir um tema central\, mas propor que os colegas possam criar e desenvolver os instrumentos necessários para lidar com este encontro de forma nova\, quem sabe fazendo sintonia com a epígrafe – Bion: Obra aberta.    \nPropomos dois módulos com situações clínicas para um desenvolvimento teórico clínico no sábado e duas aulas sobre Os fundamentos da prática clínica em Bion na sexta feira.\n    \nEm nosso nome como organizadores e em nome da Diretoria científica da SBPSP convidamos todos os interessados para participarem desse exercício teórico-clinico agora no modo online. O que permanece igual é que sem a colaboração inestimável de todos o trabalho não terá condições de se expandir. \nEvelise de Souza Marra\nCecil José Rezze\nCelso Antonio Vieira de Camargo\nAna Maria Stucchi Vannucchi – Diretora Científica da SBPSP \nPROGRAMAÇÃO\nDIA 16/04/2021 – SEXTA-FEIRA \nFUNDAMENTOS DA PRÁTICA CLÍNICA EM BION \n16:00h – 17:15h – 1ª Aula teórica: \nAlicia Beatriz Dorado de Lisondo.\nCoordenadora: Evelise de Souza Marra \n17:30h – 18:45h –  2ª Aula teórica: \nPaulo Cesar Sandler.\nCoordenador:  Celso Antonio Vieira de Camargo \nDIA 17/04/2021 – SÁBADO \n9:00h – Abertura: \nAna  Maria  Stucchi Vannucchi\nDiretora científica da SBPSP\nEvelise de Souza Marra\nCoordenadora da Jornada Psicanálise: Bion \n09:15h – 10:45h \nA) primeiro grupo: \nNeste grupo a conversa privilegiada será entre os comentadores.\nCoordenador: Cecil José Rezze\nApresentação da sessão: Miguel Marques\nComentadores: Carmen C. Mion\, \nClaudio Castelo Filho e João Carlos Braga. \n11:00h –12:30 h \nB) Continuação do primeiro grupo: A participação é aberta para todos os inscritos. \n\n14:00h – 15:30 h \nC) Segundo grupo:  A conversa privilegiada será entre os comentadores. \nCoordenador: Celso Antonio Vieira de Camargo\nApresentadora de sessão: \nAna Maria Stucchi Vannucchi\nComentadores: Julio Frochtengarten\, \nAntonio Carlos Eva e Deocleciano Bendocchi Alves \n16:00h – 17:30h\n D) Continuação do segundo grupo: A participação é aberta para todos os inscritos. \n17:30h – 18:00h – Encerramento:\nCarmen C. Mion\nCelso Antonio Vieira de Camargo \n  \nAs sessões com os apresentadores\, comentadores e coordenadores serão feitas Online em quatro módulos: dois pela manhã e dois à tarde. Os demais inscritos participarão virtualmente nos dois módulos mencionados\, pela plataforma ZOOM. \n  \nTaxa de Inscrição:\nProfissionais: R$250\,00 \nMembros SBPSP / FEBRAPSI\nMembros Filiados: R$160\,00   \nVAGAS LIMITADAS!\nInscrições até 12/04/21 \nwww.sbpsp.org.br \nadele.lacotis@sbpsp.org.br \n\nJORNADA ON-LINE PELA PLATAFORMA ZOOM
URL:https://febrapsi.org/evento/xiii-jornada-psicanalise-bion-obra-aberta/
CATEGORIES:Geral
ATTACH;FMTTYPE=image/jpeg:https://febrapsi.org/storage/2021/06/cartaz-bion-8-3-qZLQXQ.tmp_.jpg
END:VEVENT
END:VCALENDAR