BEGIN:VCALENDAR
VERSION:2.0
PRODID:-//FEBRAPSI - ECPv6.15.20//NONSGML v1.0//EN
CALSCALE:GREGORIAN
METHOD:PUBLISH
X-WR-CALNAME:FEBRAPSI
X-ORIGINAL-URL:https://febrapsi.org
X-WR-CALDESC:Eventos para FEBRAPSI
REFRESH-INTERVAL;VALUE=DURATION:PT1H
X-Robots-Tag:noindex
X-PUBLISHED-TTL:PT1H
BEGIN:VTIMEZONE
TZID:America/Sao_Paulo
BEGIN:STANDARD
TZOFFSETFROM:-0200
TZOFFSETTO:-0300
TZNAME:-03
DTSTART:20190217T020000
END:STANDARD
END:VTIMEZONE
BEGIN:VEVENT
DTSTART;TZID=America/Sao_Paulo:20200925T000000
DTEND;TZID=America/Sao_Paulo:20200925T000000
DTSTAMP:20260422T173601
CREATED:20210615T035132Z
LAST-MODIFIED:20211014T080858Z
UID:8172-1600992000-1600992000@febrapsi.org
SUMMARY:WEBINAR CONVERSANDO SOBRE INTIMIDADE
DESCRIPTION:Do aconchego à intimidação no encontro com o outro. Quanto mais nos aproximamos das indagações sobre  o que significa ser no mundo\, mais nos deparamos com o paradoxo da condição humana e indagamos: qual o destino da intimidade no mundo de hoje? \nPerguntas e contribuições podem ser feitas por escrito pelo botão Q&A\, e serão respondidas pelos participantes  durante a atividade. Atividade para psicanalistas\, psicólogos e estudantes  das áreas de saúde. \nAbertura:\n Elza Magnoler (SBPSP). \nApresentação:\n Lídia Queiroz Silva Magnino (SBPSP): de que intimidade\n estamos falando na sociedade contemporânea? \nMaria Luiza Lana Mattos Salomão (SBPSP): amores e\n temores no mal-estar da intimidade. \nRosemary de Fátima Bulgarão (SBPSP): o impacto do \n encontro consigo mesmo… O estranho que nos habita. \nCoordenação:\n Benedita de Lourdes Carvalho Rodrigues (SBPSP). \n  \nInscrições no site: www.sbpsp.org.br
URL:https://febrapsi.org/evento/webinar-conversando-sobre-intimidade/
CATEGORIES:Geral
END:VEVENT
END:VCALENDAR